BEGIN:VCALENDAR
VERSION:2.0
PRODID:-//Cisterscapes - ECPv6.15.11//NONSGML v1.0//EN
CALSCALE:GREGORIAN
METHOD:PUBLISH
X-WR-CALNAME:Cisterscapes
X-ORIGINAL-URL:https://cisterscapes.eu
X-WR-CALDESC:Veranstaltungen für Cisterscapes
REFRESH-INTERVAL;VALUE=DURATION:PT1H
X-Robots-Tag:noindex
X-PUBLISHED-TTL:PT1H
BEGIN:VTIMEZONE
TZID:Europe/Berlin
BEGIN:DAYLIGHT
TZOFFSETFROM:+0100
TZOFFSETTO:+0200
TZNAME:CEST
DTSTART:20250330T010000
END:DAYLIGHT
BEGIN:STANDARD
TZOFFSETFROM:+0200
TZOFFSETTO:+0100
TZNAME:CET
DTSTART:20251026T010000
END:STANDARD
BEGIN:DAYLIGHT
TZOFFSETFROM:+0100
TZOFFSETTO:+0200
TZNAME:CEST
DTSTART:20260329T010000
END:DAYLIGHT
BEGIN:STANDARD
TZOFFSETFROM:+0200
TZOFFSETTO:+0100
TZNAME:CET
DTSTART:20261025T010000
END:STANDARD
BEGIN:DAYLIGHT
TZOFFSETFROM:+0100
TZOFFSETTO:+0200
TZNAME:CEST
DTSTART:20270328T010000
END:DAYLIGHT
BEGIN:STANDARD
TZOFFSETFROM:+0200
TZOFFSETTO:+0100
TZNAME:CET
DTSTART:20271031T010000
END:STANDARD
END:VTIMEZONE
BEGIN:VEVENT
DTSTART;TZID=Europe/Berlin:20260424T140000
DTEND;TZID=Europe/Berlin:20260425T153000
DTSTAMP:20260425T022250
CREATED:20260113T083008Z
LAST-MODIFIED:20260120T104744Z
UID:16572-1777039200-1777131000@cisterscapes.eu
SUMMARY:Kurs: Bau und Rekonstruktion einer Trockenmauer
DESCRIPTION:Stein für Stein - Workshop: Bau und Rekonstruktion einer Trockenmauer \nTrockenmauern sind seit Jahrhunderten ein prägendes Element unserer Kulturlandschaft. Besonders in Steillagen\, wo Weinbau betrieben wird. Sie sind nicht nur funktional\, sondern auch ein Stück lebendige Geschichte. Der Maulbronner Closterweinberg ist ein herausragendes Beispiel für diese aus Schilfsandstein errichteten Mauern. Er wurde teils schon im Mittelalter angelegt und wird heute nach Westen hin wieder als Weinberg genutzt. \nWas macht Trockenmauern so besonders?\n✓ Handwerk pur – mit traditionellem Know-how\n✓ Natürlich gebaut – mit Steinen aus der Region\n✓ Dauerhaft und stabil – da sie auch frostbeständig sind\n✓ Hangsicherung – sie halten den Humus in den Terrassen\n✓ Wärmespeicherung – tagsüber speichern sie Sonne\, nachts geben sie Wärme ab\n✓ Erhöhte Artenvielfalt – ökologisch wertvoller Lebensraum für Pflanzen und Tiere\n✓ Naherholungswert – Landschaftserlebnis und einzigartige Ausblicke bei Spaziergängen \nDoch die Natur hinterlässt Spuren: Trockenmauern sind Witterungseinflüssen ausgesetzt und müssen regelmäßig instandgehalten oder an beschädigten Stellen neu aufgebaut werden. \nErleben Sie die Kunst des Trockenmauerbaus hautnah \nIm Rahmen unseres Workshops lernen die Teilnehmer die Kunst des Trockenmauerbaus kennen: von den Grundlagen zur Steinbearbeitung bis hin zur fachkundigen Anleitung zum Errichten und Rekonstruieren einer Weinberg-Trockenmauer. \nGenauere Informationen zum Programm\, zu den Veranstaltungsorten sowie zum Teilnahmebetrag finden Sie unter folgendem Link: \nTrockenmauern_Flyer.indd
URL:https://cisterscapes.eu/event/kurs-bau-und-rekonstruktion-einer-trockenmauer/
LOCATION:Bayern
CATEGORIES:Maulbronn
ATTACH;FMTTYPE=image/jpeg:https://cisterscapes.eu/wp-content/uploads/2026/01/Closterweinberg-Maulbronn-scaled.jpg
END:VEVENT
BEGIN:VEVENT
DTSTART;TZID=Europe/Berlin:20260425T130000
DTEND;TZID=Europe/Berlin:20260426T190000
DTSTAMP:20260425T022250
CREATED:20260420T080740Z
LAST-MODIFIED:20260420T081337Z
UID:19913-1777122000-1777230000@cisterscapes.eu
SUMMARY:Altenberger Klostermarkt
DESCRIPTION:Anlässlich der Verleihung des Europäischen Kulturerbesiegels an die Klosterlandschaft Altenberg veranstalten wir gemeinsam mit dem Rheinisch-Bergischen Kreis\, der Gemeinde Odenthal  und dem Verschönerungs- und Kulturverein Altenberg e.V. einen Klostermarkt\, der das Leben und Wirken sowie die Kulinarik der Zisterzienser widerspiegelt und gleichzeitig für gute Unterhaltung von Jung und Alt sorgt.\nEs werden Klosterprodukte und Handwerkliches angeboten\, es wird Führungen durch Altenberg und die Umgebung geben\, Sie können typische Gerichte der Zisterzienser probieren und die Kinder erwartet auch ein buntes Programm.\nWir freuen uns auf Ihren Besuch!\nSamstag\, 25.04.2026 13.00 - 19.00 Uhr (Essenstände bis 21.00 Uhr)Sonntag\, 26.04.2026 10.00 - 18.00 Uhr (Essenstände bis 19:00 Uhr)
URL:https://cisterscapes.eu/event/altenberger-klostermarkt-2/
LOCATION:Kloster Altenberg\, Deutschland
CATEGORIES:Altenberg
ATTACH;FMTTYPE=image/jpeg:https://cisterscapes.eu/wp-content/uploads/2026/04/ALTENBERG-Klostermarkt_Banner-scaled.jpg
END:VEVENT
END:VCALENDAR