BEGIN:VCALENDAR
VERSION:2.0
PRODID:-//Cisterscapes - ECPv6.15.11//NONSGML v1.0//EN
CALSCALE:GREGORIAN
METHOD:PUBLISH
X-WR-CALNAME:Cisterscapes
X-ORIGINAL-URL:https://cisterscapes.eu
X-WR-CALDESC:Veranstaltungen für Cisterscapes
REFRESH-INTERVAL;VALUE=DURATION:PT1H
X-Robots-Tag:noindex
X-PUBLISHED-TTL:PT1H
BEGIN:VTIMEZONE
TZID:Europe/Berlin
BEGIN:DAYLIGHT
TZOFFSETFROM:+0100
TZOFFSETTO:+0200
TZNAME:CEST
DTSTART:20250330T010000
END:DAYLIGHT
BEGIN:STANDARD
TZOFFSETFROM:+0200
TZOFFSETTO:+0100
TZNAME:CET
DTSTART:20251026T010000
END:STANDARD
BEGIN:DAYLIGHT
TZOFFSETFROM:+0100
TZOFFSETTO:+0200
TZNAME:CEST
DTSTART:20260329T010000
END:DAYLIGHT
BEGIN:STANDARD
TZOFFSETFROM:+0200
TZOFFSETTO:+0100
TZNAME:CET
DTSTART:20261025T010000
END:STANDARD
BEGIN:DAYLIGHT
TZOFFSETFROM:+0100
TZOFFSETTO:+0200
TZNAME:CEST
DTSTART:20270328T010000
END:DAYLIGHT
BEGIN:STANDARD
TZOFFSETFROM:+0200
TZOFFSETTO:+0100
TZNAME:CET
DTSTART:20271031T010000
END:STANDARD
END:VTIMEZONE
BEGIN:VEVENT
DTSTART;TZID=Europe/Berlin:20260526T100000
DTEND;TZID=Europe/Berlin:20260601T140000
DTSTAMP:20260424T105809
CREATED:20260423T120435Z
LAST-MODIFIED:20260423T120753Z
UID:20055-1779789600-1780322400@cisterscapes.eu
SUMMARY:Der Ebrachsaurier: Kreativworkshop für Kinder 26.5.-1.6.
DESCRIPTION:Es wird gesägt\, gestemmt\, gemalt! Wir formen aus einem Eichenstamm gemeinsam mit dem Holzkünstler Thomas Gröhling einen Saurier\, genauer einen Riesenlurch: den Cyclotosaurus Ebrachensis\, auch Frankenzilla genannt. \nWo? In Ebrach im oberen Abteigarten vor dem Infozentrum. \nWann? Am 26.5.-29.5. und am 1.6. jeweils 10:00-14:00 Uhr \nAnmeldung jeweils für einzelne Tage über die VHS Bamberg Land (ohne Kursgebühr mit Warteliste;-) \n26.5. https://www.vhs-bamberg-land.de/p/488-C-7169727 \n27.5.  https://www.vhs-bamberg-land.de/p/488-C-7169774 \n28.5. https://www.vhs-bamberg-land.de/p/488-C-7169790 \n29.5. https://www.vhs-bamberg-land.de/p/488-C-7169800 \n1.6. https://www.vhs-bamberg-land.de/p/488-C-7169810 \nGeeignete Kleidung und Brotzeit bitte mitbringen. Getränke (Tee und Leitungswasser etc. ) gibts vor Ort. \n  \n 
URL:https://cisterscapes.eu/event/der-ebrachsaurier-kreativworkshop-fuer-kinder-26-5-1-6/
LOCATION:Infozentrum Orangerie Ebrach\, Lagerhausstrasse 5\, Ebrach\, Bayern\, 96157\, Deutschland
CATEGORIES:cisterscapes,Ebrach,Paedagogik,partner,Workshop
ATTACH;FMTTYPE=image/jpeg:https://cisterscapes.eu/wp-content/uploads/2026/04/Frankenzilla.jpg
ORGANIZER;CN="KLOSTERlandschaftEBRACH":MAILTO:rosa.karl@lra-ba.bayern.de
END:VEVENT
END:VCALENDAR