BEGIN:VCALENDAR
VERSION:2.0
PRODID:-//Cisterscapes - ECPv6.15.11//NONSGML v1.0//EN
CALSCALE:GREGORIAN
METHOD:PUBLISH
X-ORIGINAL-URL:https://cisterscapes.eu/en/
X-WR-CALDESC:Events for Cisterscapes
REFRESH-INTERVAL;VALUE=DURATION:PT1H
X-Robots-Tag:noindex
X-PUBLISHED-TTL:PT1H
BEGIN:VTIMEZONE
TZID:Europe/Berlin
BEGIN:DAYLIGHT
TZOFFSETFROM:+0100
TZOFFSETTO:+0200
TZNAME:CEST
DTSTART:20240331T010000
END:DAYLIGHT
BEGIN:STANDARD
TZOFFSETFROM:+0200
TZOFFSETTO:+0100
TZNAME:CET
DTSTART:20241027T010000
END:STANDARD
BEGIN:DAYLIGHT
TZOFFSETFROM:+0100
TZOFFSETTO:+0200
TZNAME:CEST
DTSTART:20250330T010000
END:DAYLIGHT
BEGIN:STANDARD
TZOFFSETFROM:+0200
TZOFFSETTO:+0100
TZNAME:CET
DTSTART:20251026T010000
END:STANDARD
BEGIN:DAYLIGHT
TZOFFSETFROM:+0100
TZOFFSETTO:+0200
TZNAME:CEST
DTSTART:20260329T010000
END:DAYLIGHT
BEGIN:STANDARD
TZOFFSETFROM:+0200
TZOFFSETTO:+0100
TZNAME:CET
DTSTART:20261025T010000
END:STANDARD
END:VTIMEZONE
BEGIN:VEVENT
DTSTART;VALUE=DATE:20250315
DTEND;VALUE=DATE:20250623
DTSTAMP:20260423T113942
CREATED:20250422T100205Z
LAST-MODIFIED:20250422T100255Z
UID:9446-1741996800-1750636799@cisterscapes.eu
SUMMARY:Wechterswinkel Monastery: Exhibition Kloster erLEBEN - Women's lives in the Middle Ages
DESCRIPTION:In the Middle Ages\, the vast majority of the population lived in the countryside. Women carried out a variety of tasks in addition to the strenuous work in the fields: They prepared the daily meals\, washed clothes\, hauled water and made clothes for their families. The only way to escape the grueling cycle of childbearing and hard physical labor was to live in a monastery. It was only in the flourishing cities of the late Middle Ages that new opportunities opened up for women. Women were successful in trade\, they worked in many trades\, ran merchant stores or sold their products. The economic development of the cities\nhad a lasting effect on the position of women. The exhibition highlights the different roles of women in the Middle Ages. The many tasks that women had to perform are vividly illustrated\, from basket weaving to feather grinding\, from gathering herbs to brewing beer\n.        \nThe exhibition “Women’s lives in the Middle Ages”\nwas conceived by the art historian\nDr. Alice Selinger\, Dreieich. \nSaturday\, 15.03.2025 to Sunday\, 22.06.2025 \nEXHIBITION\nThe exhibition is complemented by an accompanying program for different age groups\n. Further information will be available from March at www.kloster-wechterswinkel-\nkultur.de and in the Rhön-Grabfeld cultural calendar.  \nWednesday – Sunday and public holidays from 13:00 – 17:00. \nWechterswinkel MonasteryUm den Bau 6\, Wechterswinkel\, Bastheim\, 97654 Bastheim OT Wechterswinkel
URL:https://cisterscapes.eu/en/event/wechterswinkel-monastery-exhibition-kloster-erleben-womens-lives-in-the-middle-ages/
CATEGORIES:cisterscapes,partner
ATTACH;FMTTYPE=image/jpeg:https://cisterscapes.eu/wp-content/uploads/2025/04/Kloster_Wechterswinkel.jpg
END:VEVENT
BEGIN:VEVENT
DTSTART;TZID=Europe/Berlin:20250412T090000
DTEND;TZID=Europe/Berlin:20251031T170000
DTSTAMP:20260423T113942
CREATED:20250221T114332Z
LAST-MODIFIED:20250221T115748Z
UID:5078-1744448400-1761930000@cisterscapes.eu
SUMMARY:Start of the season
DESCRIPTION:Zwettl Abbey starts the new tourist season on Palm Sunday. From now on\, guided tours of the monastery will once again take place daily. On tour three\, which leads into the baroque library with its magnificent frescoes by Paul Troger\, visitors can also see the special exhibition “Cisterscapes – we are European cultural heritage”.
URL:https://cisterscapes.eu/en/event/start-of-the-season/
LOCATION:Zwettl Monastery\, Zwettl Abbey 1\, Zwettl\, Lower Austria\, 3910\, Österreich
CATEGORIES:partner,Zwettl
ATTACH;FMTTYPE=image/jpeg:https://cisterscapes.eu/wp-content/uploads/2023/11/Zwettl_24.jpg
END:VEVENT
END:VCALENDAR