BEGIN:VCALENDAR
VERSION:2.0
PRODID:-//Cisterscapes - ECPv6.15.11//NONSGML v1.0//EN
CALSCALE:GREGORIAN
METHOD:PUBLISH
X-WR-CALNAME:Cisterscapes
X-ORIGINAL-URL:https://cisterscapes.eu/en/
X-WR-CALDESC:Events for Cisterscapes
REFRESH-INTERVAL;VALUE=DURATION:PT1H
X-Robots-Tag:noindex
X-PUBLISHED-TTL:PT1H
BEGIN:VTIMEZONE
TZID:Europe/Berlin
BEGIN:DAYLIGHT
TZOFFSETFROM:+0100
TZOFFSETTO:+0200
TZNAME:CEST
DTSTART:20250330T010000
END:DAYLIGHT
BEGIN:STANDARD
TZOFFSETFROM:+0200
TZOFFSETTO:+0100
TZNAME:CET
DTSTART:20251026T010000
END:STANDARD
BEGIN:DAYLIGHT
TZOFFSETFROM:+0100
TZOFFSETTO:+0200
TZNAME:CEST
DTSTART:20260329T010000
END:DAYLIGHT
BEGIN:STANDARD
TZOFFSETFROM:+0200
TZOFFSETTO:+0100
TZNAME:CET
DTSTART:20261025T010000
END:STANDARD
BEGIN:DAYLIGHT
TZOFFSETFROM:+0100
TZOFFSETTO:+0200
TZNAME:CEST
DTSTART:20270328T010000
END:DAYLIGHT
BEGIN:STANDARD
TZOFFSETFROM:+0200
TZOFFSETTO:+0100
TZNAME:CET
DTSTART:20271031T010000
END:STANDARD
END:VTIMEZONE
BEGIN:VEVENT
DTSTART;TZID=Europe/Berlin:20260424T140000
DTEND;TZID=Europe/Berlin:20260425T153000
DTSTAMP:20260424T013026
CREATED:20260113T083008Z
LAST-MODIFIED:20260120T151036Z
UID:16578-1777039200-1777131000@cisterscapes.eu
SUMMARY:Course: Construction and reconstruction of a dry stone wall
DESCRIPTION:Stone by stone – Workshop: Construction and reconstruction of a dry stone wall \nDry stone walls have been a defining element of our cultural landscape for centuries. Especially on steep slopes where vines are grown. They are not only functional\, but also a piece of living history. The Maulbronn monastery vineyard is an outstanding example of these walls built from reed sandstone. It was partly laid out in the Middle Ages and is now used as a vineyard again to the west.     \nWhat makes dry stone walls so special?\n✓ Pure craftsmanship – with traditional know-how\n✓ Naturally built – with stones from the region\n✓ Durable and stable – as they are also frost-resistant\n✓ Slope stabilization – they keep the humus in the terraces\n✓ Heat storage – during the day they store sun\, at night they give off heat\n✓ Increased biodiversity – ecologically valuable habitat for plants and animals\n✓ Local recreational value – landscape experience and unique views during walks \nBut nature leaves its mark: dry stone walls are exposed to the elements and need to be regularly maintained or rebuilt in damaged areas. \nExperience the art of dry stone walling up close \nIn our workshop\, participants learn the art of dry stone wall building: from the basics of stone working to expert instruction on how to build and reconstruct a vineyard dry stone wall. \nMore detailed information on the program\, the venues and the participation fee can be found at the following link: \nDrywalls_Flyer.indd
URL:https://cisterscapes.eu/en/event/course-construction-and-reconstruction-of-a-dry-stone-wall/
LOCATION:Bavaria
CATEGORIES:Maulbronn
ATTACH;FMTTYPE=image/jpeg:https://cisterscapes.eu/wp-content/uploads/2026/01/Closterweinberg-Maulbronn-scaled.jpg
END:VEVENT
END:VCALENDAR