BEGIN:VCALENDAR
VERSION:2.0
PRODID:-//Cisterscapes - ECPv6.15.11//NONSGML v1.0//EN
CALSCALE:GREGORIAN
METHOD:PUBLISH
X-WR-CALNAME:Cisterscapes
X-ORIGINAL-URL:https://cisterscapes.eu/fr/
X-WR-CALDESC:Évènements pour Cisterscapes
REFRESH-INTERVAL;VALUE=DURATION:PT1H
X-Robots-Tag:noindex
X-PUBLISHED-TTL:PT1H
BEGIN:VTIMEZONE
TZID:Europe/Berlin
BEGIN:DAYLIGHT
TZOFFSETFROM:+0100
TZOFFSETTO:+0200
TZNAME:CEST
DTSTART:20250330T010000
END:DAYLIGHT
BEGIN:STANDARD
TZOFFSETFROM:+0200
TZOFFSETTO:+0100
TZNAME:CET
DTSTART:20251026T010000
END:STANDARD
BEGIN:DAYLIGHT
TZOFFSETFROM:+0100
TZOFFSETTO:+0200
TZNAME:CEST
DTSTART:20260329T010000
END:DAYLIGHT
BEGIN:STANDARD
TZOFFSETFROM:+0200
TZOFFSETTO:+0100
TZNAME:CET
DTSTART:20261025T010000
END:STANDARD
BEGIN:DAYLIGHT
TZOFFSETFROM:+0100
TZOFFSETTO:+0200
TZNAME:CEST
DTSTART:20270328T010000
END:DAYLIGHT
BEGIN:STANDARD
TZOFFSETFROM:+0200
TZOFFSETTO:+0100
TZNAME:CET
DTSTART:20271031T010000
END:STANDARD
END:VTIMEZONE
BEGIN:VEVENT
DTSTART;TZID=Europe/Berlin:20260423T150000
DTEND;TZID=Europe/Berlin:20260423T170000
DTSTAMP:20260423T013715
CREATED:20260128T103223Z
LAST-MODIFIED:20260128T103244Z
UID:17735-1776956400-1776963600@cisterscapes.eu
SUMMARY:Visite guidée : (presque) le long des murs du monastère
DESCRIPTION:Conformément à la règle de l’ordre ORA et LABORA (prier et travailler)\, les tâches des moines cisterciens étaient très variées\, comme on peut le voir à travers différents lieux autour du monastère de Waldsassen. \nDurée : environ 2 heures ; parcours d’environ 2\,5 km \nPoint de rencontre : Waldsassen\, Diepoldbrunnen \nFrais : 5\,00 € par jour \nNombre minimum de participants : 8 personnes ; maximum 12 personnes \nDirection : Michaela Müller\, guide du paysage monastique \nInscription nécessaire jusqu’à la veille\, 12h\, à l’office de tourisme de Waldsassen\,  Tél. 09632 / 88160\, tourist-info@waldsassen.de  \nEn cas de conditions météorologiques dangereuses\, la randonnée ou la visite guidée est annulée. La participation à tous les événements se fait sous votre propre responsabilité.   \n 
URL:https://cisterscapes.eu/fr/event/visite-guidee-presque-le-long-des-murs-du-monastere/
CATEGORIES:cisterscapes,Waldsassen
ATTACH;FMTTYPE=image/jpeg:https://cisterscapes.eu/wp-content/uploads/2026/01/Fast-entlang.jpg
END:VEVENT
BEGIN:VEVENT
DTSTART;TZID=Europe/Berlin:20260423T163000
DTEND;TZID=Europe/Berlin:20260423T173000
DTSTAMP:20260423T013715
CREATED:20260415T085754Z
LAST-MODIFIED:20260415T085754Z
UID:19908-1776961800-1776965400@cisterscapes.eu
SUMMARY:Dr Markus Kranner\, Tatort Franken : Das steinerne Grab der Riesenlurche (La tombe de pierre des amphibiens)
DESCRIPTION:Markus Kranner\, paléontologue au service géologique de l’Office national de l’environnement\, nous présente la découverte du siècle. Dix fossiles de crânes datant du Trias ont été trouvés dans une carrière à Rauhenebrach : Un charnier de lépidoptères géants. « Devant nous\, dans la roche\, dépassait une mâchoire inférieure de 70 centimètres de long\, hérissée de dents pointues comme celles des crocodiles actuels. Nous avons pu identifier de nombreux autres restes osseux dans les roches environnantes »\, a déclaré l’employé à propos des circonstances de la découverte. Apprenez-en plus sur cette passionnante affaire criminelle de la préhistoire !  \nComment puis-je participer ? Sur place : LRA Bamberg\, ancienne tour de la Poste\, entrée A\, 1er étage (N 100) ou en ligne depuis la salle de réunion de l’Orangerie Ebrach.   \nou en ligne - confortablement installé dans votre canapé - via webex (participation possible via un navigateur ou une application) \nLien de la réunion : \nhttps://landratsamt-bamberg.webex.com/landratsamt-bamberg/j.php?MTID=me3750e76207a9d10c7031f77b4de2ea1 \nNuméro d’identification de la réunion : 2786 387 2931 \nMot de passe : CMvugZJv936 \nNotre propre dinosaure de l’Ebrache\, alias Frankenzilla alias Cyclotosaurus Ebrachensis - un géant carnivore du Trias pouvant atteindre 4\,5 m de long - est vraiment impressionnant. Heureusement qu’on ne le rencontre plus qu’à l’état de fossile;-)  \nPour ceux qui souhaitent en savoir plus et admirer les fossiles en version originale : Une exposition très intéressante à ce sujet se tient à Hof jusqu’au 29 mai: https://www.lfu.bayern.de/veranstaltungen/termin_detail.htm?id=747  \nL’image du Fankenzilla a été prise lors du concours de noms. Titulaire des droits : Bayerisches Landesamt für Umwelt Frankenzilla\, der Dino-Killa Créé avec : OpenAI Sora\, 07/2025 ; DOI : pboxx-pixelboxx-3630188
URL:https://cisterscapes.eu/fr/event/dr-markus-kranner-tatort-franken-das-steinerne-grab-der-riesenlurche-la-tombe-de-pierre-des-amphibiens/
LOCATION:Tour de la poste de Bamberg
CATEGORIES:Centre d'information,cisterscapes,Ebrach,partenaire,Présentation
ORGANIZER;CN="KLOSTERlandschaftEBRACH (paysage du monast%C3%A8re)":MAILTO:rosa.karl@lra-ba.bayern.de
END:VEVENT
END:VCALENDAR