BEGIN:VCALENDAR
VERSION:2.0
PRODID:-//Cisterscapes - ECPv6.15.11//NONSGML v1.0//EN
CALSCALE:GREGORIAN
METHOD:PUBLISH
X-WR-CALNAME:Cisterscapes
X-ORIGINAL-URL:https://cisterscapes.eu/fr/
X-WR-CALDESC:Évènements pour Cisterscapes
REFRESH-INTERVAL;VALUE=DURATION:PT1H
X-Robots-Tag:noindex
X-PUBLISHED-TTL:PT1H
BEGIN:VTIMEZONE
TZID:Europe/Berlin
BEGIN:DAYLIGHT
TZOFFSETFROM:+0100
TZOFFSETTO:+0200
TZNAME:CEST
DTSTART:20250330T010000
END:DAYLIGHT
BEGIN:STANDARD
TZOFFSETFROM:+0200
TZOFFSETTO:+0100
TZNAME:CET
DTSTART:20251026T010000
END:STANDARD
BEGIN:DAYLIGHT
TZOFFSETFROM:+0100
TZOFFSETTO:+0200
TZNAME:CEST
DTSTART:20260329T010000
END:DAYLIGHT
BEGIN:STANDARD
TZOFFSETFROM:+0200
TZOFFSETTO:+0100
TZNAME:CET
DTSTART:20261025T010000
END:STANDARD
BEGIN:DAYLIGHT
TZOFFSETFROM:+0100
TZOFFSETTO:+0200
TZNAME:CEST
DTSTART:20270328T010000
END:DAYLIGHT
BEGIN:STANDARD
TZOFFSETFROM:+0200
TZOFFSETTO:+0100
TZNAME:CET
DTSTART:20271031T010000
END:STANDARD
END:VTIMEZONE
BEGIN:VEVENT
DTSTART;TZID=Europe/Berlin:20260424T140000
DTEND;TZID=Europe/Berlin:20260425T153000
DTSTAMP:20260425T013515
CREATED:20260113T083008Z
LAST-MODIFIED:20260120T151035Z
UID:16583-1777039200-1777131000@cisterscapes.eu
SUMMARY:Cours : construction et reconstruction d'un mur de pierres sèches
DESCRIPTION:Pierre par pierre - Atelier : Construction et reconstruction d’un mur en pierres sèches \nLes murs en pierres sèches sont depuis des siècles un élément caractéristique de notre paysage culturel. En particulier dans les zones escarpées où la viticulture est pratiquée. Ils ne sont pas seulement fonctionnels\, mais constituent également un morceau d’histoire vivante. Le vignoble du cloître de Maulbronn est un exemple remarquable de ces murs construits en grès de roseau. Il a été en partie aménagé dès le Moyen Âge et est aujourd’hui à nouveau utilisé comme vignoble vers l’ouest.     \nQu’est-ce qui rend les murs de pierres sèches si particuliers ?\n✓ Artisanat pur - avec un savoir-faire traditionnel\n✓ Construction naturelle - avec des pierres de la région\n✓ Durables et stables - car ils résistent aussi au gel\n✓ Protection des pentes - ils maintiennent l’humus dans les terrasses\n✓ Stockage de la chaleur - le jour\, ils emmagasinent le soleil\, la nuit\, ils restituent la chaleur\n✓ Diversité accrue des espèces - habitat écologiquement précieux pour les plantes et les animaux\n✓ Valeur récréative - découverte du paysage et vues uniques lors des promenades \nMais la nature laisse des traces : les murs de pierres sèches sont exposés aux intempéries et doivent être régulièrement entretenus ou reconstruits aux endroits endommagés. \nDécouvrez de près l’art de la construction de murs en pierres sèches \nDans le cadre de notre atelier\, les participants apprennent l’art de la construction de murs en pierres sèches : des bases du travail de la pierre aux instructions expertes sur la construction et la reconstruction d’un mur en pierres sèches de vigne. \nPour plus d’informations sur le programme\, les lieux et les frais de participation\, cliquez sur le lien suivant : \nMurs de pierres sèches_Flyer.indd
URL:https://cisterscapes.eu/fr/event/cours-construction-et-reconstruction-dun-mur-de-pierres-seches/
LOCATION:Bavière
CATEGORIES:Maulbronn
ATTACH;FMTTYPE=image/jpeg:https://cisterscapes.eu/wp-content/uploads/2026/01/Closterweinberg-Maulbronn-scaled.jpg
END:VEVENT
BEGIN:VEVENT
DTSTART;TZID=Europe/Berlin:20260425T130000
DTEND;TZID=Europe/Berlin:20260426T190000
DTSTAMP:20260425T013515
CREATED:20260420T080740Z
LAST-MODIFIED:20260420T081051Z
UID:19923-1777122000-1777230000@cisterscapes.eu
SUMMARY:Marché du monastère d'Altenberg
DESCRIPTION:À l’occasion de l’attribution du label européen du patrimoine culturel au paysage monastique d’Altenberg\, nous organisons\, en collaboration avec le Rheinisch-Bergischer Kreis\, la commune d’Odenthal et l’association Verschönerungs- und Kulturverein Altenberg e.V.\, un marché monastique qui reflète la vie et l’activité ainsi que la cuisine des cisterciens tout en assurant un bon divertissement pour les jeunes et les moins jeunes.\nDes produits monastiques et artisanaux seront proposés\, des visites guidées d’Altenberg et de ses environs seront organisées\, vous pourrez déguster des plats cisterciens typiques et un programme varié attend également les enfants.\nNous nous réjouissons de votre visite !\nSamedi 25.04.2026 13h00 - 19h00 (stands de nourriture jusqu’à 21h00)Dimanche 26.04.2026 10h00 - 18h00 (stands de nourriture jusqu’à 19h00)
URL:https://cisterscapes.eu/fr/event/marche-du-monastere-daltenberg-2/
LOCATION:Monastère d’Altenberg\, Deutschland
CATEGORIES:Altenberg
END:VEVENT
END:VCALENDAR