BEGIN:VCALENDAR
VERSION:2.0
PRODID:-//Cisterscapes - ECPv6.15.11//NONSGML v1.0//EN
CALSCALE:GREGORIAN
METHOD:PUBLISH
X-WR-CALNAME:Cisterscapes
X-ORIGINAL-URL:https://cisterscapes.eu/fr/
X-WR-CALDESC:Évènements pour Cisterscapes
REFRESH-INTERVAL;VALUE=DURATION:PT1H
X-Robots-Tag:noindex
X-PUBLISHED-TTL:PT1H
BEGIN:VTIMEZONE
TZID:Europe/Berlin
BEGIN:DAYLIGHT
TZOFFSETFROM:+0100
TZOFFSETTO:+0200
TZNAME:CEST
DTSTART:20230326T010000
END:DAYLIGHT
BEGIN:STANDARD
TZOFFSETFROM:+0200
TZOFFSETTO:+0100
TZNAME:CET
DTSTART:20231029T010000
END:STANDARD
BEGIN:DAYLIGHT
TZOFFSETFROM:+0100
TZOFFSETTO:+0200
TZNAME:CEST
DTSTART:20240331T010000
END:DAYLIGHT
BEGIN:STANDARD
TZOFFSETFROM:+0200
TZOFFSETTO:+0100
TZNAME:CET
DTSTART:20241027T010000
END:STANDARD
BEGIN:DAYLIGHT
TZOFFSETFROM:+0100
TZOFFSETTO:+0200
TZNAME:CEST
DTSTART:20250330T010000
END:DAYLIGHT
BEGIN:STANDARD
TZOFFSETFROM:+0200
TZOFFSETTO:+0100
TZNAME:CET
DTSTART:20251026T010000
END:STANDARD
END:VTIMEZONE
BEGIN:VEVENT
DTSTART;TZID=Europe/Berlin:20240706T140000
DTEND;TZID=Europe/Berlin:20240706T180000
DTSTAMP:20260424T030009
CREATED:20240625T112848Z
LAST-MODIFIED:20240625T112848Z
UID:8974-1720274400-1720288800@cisterscapes.eu
SUMMARY:Giechburg/Scheßlitz : 3ème fête des enfants
DESCRIPTION:Paix\, joie\, plaisirs du château \n 3ème fête des enfants le samedi 6 juillet de 14h00 à 18h00 \nLe 6 juillet\, le château de Giechburg sera à nouveau aux mains des enfants. Lors de la 3ème fête des enfants de l’arrondissement de Bamberg\, les petits chevaliers et demoiselles\, même un peu plus grands\, pourront explorer le château de 14h00 à 18h00. Sous le slogan « Paix\, joie\, plaisir du château »\, de nombreuses stations participatives amusantes et intéressantes les attendent.   \nDes bénévoles organisent une fête pour les enfants \nL’idée d’organiser une fête des enfants au Giechburg est venue il y a quelques années des rangs des bénévoles. En raison du succès des deux premières fêtes des enfants\, la responsable du bénévolat Friederike Straub et le responsable de la jeunesse du district Oliver Schulz-Mayr ont de nouveau mis sur pied cette année une fête pour les enfants\, grands et moins grands. Grâce au soutien du ministère bavarois de l’Intérieur\, des Sports et de l’Intégration\, à la coopération avec la Jeunesse sportive bavaroise\, le cercle de jeunes de Bamberg-Land\, KoBis\, Integration durch Sport et la VR Bank Bamberg-Forchheim\, ainsi qu’à l’excellent soutien des associations bénévoles\, la fête propose cette année encore un programme varié.   \nLa fête des enfants a lieu par tous les temps et est gratuite. Il est possible de se garer en dessous du château. Pour ceux qui ne sont pas très à l’aise à pied\, une navette gratuite part d’ici pour monter au Giechburg.   \nStations et offres : \n\nPromenade en caisse à savon : vous découvrirez certainement ces superbes engins en vous approchant du château ! Montez ! \nLaissez-vous pendre - Descendre en rappel du château\nStands d’apiculteurs\, de pigeons voyageurs\, de rapaces et bien plus encore - découvrez la nature !\nFaites de l’exercice à différentes stations : Vous voulez apprendre à manier l’arc et les flèches ou vous maintenir en forme pour le prochain tournoi de chevaliers ? Soyez juste ! \nAtelier coloré : laissez les pinceaux peindre « Paix » ! Courage ! \nSéance photo : déguisez-vous en demoiselle ou en chevalier dans la belle chambre de la tour ! Nous immortaliserons ce moment sur une superbe photo souvenir pour vous. \nLa chambre des histoires : entrez dans la chambre des histoires à l’heure de l’horloge de la tour et soyez curieux de savoir ce que vous allez entendre !\nMaquillage pour enfants dans la tour\nChâteau gonflable : « Ici\, vous pouvez vraiment vous défouler ».\nAtelier Graffiti & Château : Laissez libre cours à votre créativité !\nQue fait le moine dans le moulin ? Bricolage\, devinettes et création avec Cisterscapes \net bien plus encore\n\nToutes les offres sont gratuites.
URL:https://cisterscapes.eu/fr/event/giechburg-schesslitz-3eme-fete-des-enfants/
LOCATION:Giechburg\, Giechburg 1\, Scheßlitz\, 96110
CATEGORIES:cisterscapes
ATTACH;FMTTYPE=image/jpeg:https://cisterscapes.eu/wp-content/uploads/2023/12/Genusstag_Cisterscapes-1.jpg
END:VEVENT
BEGIN:VEVENT
DTSTART;VALUE=DATE:20240707
DTEND;VALUE=DATE:20240708
DTSTAMP:20260424T030009
CREATED:20240625T112200Z
LAST-MODIFIED:20240625T112200Z
UID:8979-1720310400-1720396799@cisterscapes.eu
SUMMARY:Wunsiedel : Journée de la Franconie
DESCRIPTION:En 2024\, la Journée des Francs sera célébrée à Wunsiedel. Cisterscapes participera à l’événement avec un stand d’information et un programme pour enfants (table de sable et de bricolage).
URL:https://cisterscapes.eu/fr/event/wunsiedel-journee-de-la-franconie/
LOCATION:Ville de Wunsiedel
CATEGORIES:cisterscapes
ATTACH;FMTTYPE=image/jpeg:https://cisterscapes.eu/wp-content/uploads/2024/06/AktB_RK-3.jpg
END:VEVENT
BEGIN:VEVENT
DTSTART;TZID=Europe/Berlin:20240714T113000
DTEND;TZID=Europe/Berlin:20240714T170000
DTSTAMP:20260424T030009
CREATED:20240625T113402Z
LAST-MODIFIED:20240625T113402Z
UID:8993-1720956600-1720976400@cisterscapes.eu
SUMMARY:Bamberg : Fête de Heinrich 2024
DESCRIPTION:La fête d’Henri est la fête de l’archevêché de Bamberg. Elle est célébrée en mémoire du fondateur de l’évêché de Bamberg\, le Saint Empereur Henri. Elle a lieu traditionnellement le deuxième week-end de juillet de chaque année.   \nCisterscapes participera à l’événement avec un stand d’information et un programme pour enfants (bricolage et table de sable). \nTout le site de la fête de Heinrich\n11:30 - 17:00\nGrande offre avec de nombreuses activités participatives dans la « Cour des jeunes » de la Dompropstei \n11h30 - 17h00\nAire de jeux aquatiques\, véhicules pour jeunes enfants et nombreuses activités manuelles et participatives aux stands de la place de la cathédrale (Cisterscapes )   \n11:30 - 17:00\nHenri et Cunégonde et autres offres sur l’ esplanade du musée \n11:30 - 16:30\nJeu participatif avec tirage au sort. Billets de participation au stand d’information sur la place de la cathédrale  \n11:30 - 17:00\nEismobil de Caritas sur la place de la cathédrale \n13h30 - 14h30\n« Visite guidée découverte pour les enfants » avec l’archevêque Herwig Gössl. Rendez-vous à l ‘entrée de la sacristie
URL:https://cisterscapes.eu/fr/event/bamberg-fete-de-heinrich-2024/
LOCATION:Bamberg/Place de la cathédrale\, Place de la cathédrale\, Bamberg
CATEGORIES:cisterscapes
ATTACH;FMTTYPE=image/jpeg:https://cisterscapes.eu/wp-content/uploads/2023/12/Genusstag_Cisterscapes-1.jpg
END:VEVENT
BEGIN:VEVENT
DTSTART;TZID=Europe/Berlin:20240719T100000
DTEND;TZID=Europe/Berlin:20240719T100000
DTSTAMP:20260424T030009
CREATED:20240705T102843Z
LAST-MODIFIED:20240705T102843Z
UID:8642-1721383200-1721383200@cisterscapes.eu
SUMMARY:Maulbronn : présentation du livre "Die Kirche des Zisterzienserklosters Maulbronn" (L'église du monastère cistercien de Maulbronn)
DESCRIPTION:L’église du monastère cistercien de Maulbronn a été construite entre 1145 environ et sa consécration en 1178\, selon un processus rapide\n\, marqué par un nombre inhabituel de changements de plans. La charpente originale unique\, les grandes fenêtres à meneaux de l’époque gothique et le monumental clocheton en bois\nde 1397 contribuent à sa grande importance artistique et historique. La grande Madone\,\npeintures murales gothiques et un magnifique triptyque ont été conservés de son aménagement.\nLa restauration coûteuse de 1998 à 2004 a donné lieu à des recherches approfondies sur le\nbâtiment est de l’église et son aménagement.   \nMatthias Untermann : « L’église du monastère cistercien de Maulbronn ». \nRemarques d’ordre organisationnel : Nous vous invitons à vous inscrire à l’événement via\nandrea.kollinger@rps.bwl.de
URL:https://cisterscapes.eu/fr/event/maulbronn-presentation-du-livre-die-kirche-des-zisterzienserklosters-maulbronn-leglise-du-monastere-cistercien-de-maulbronn/
LOCATION:Monastère de Maulbronn\, Klosterhof 5\, Maulbronn\, 75433\, Deutschland
CATEGORIES:cisterscapes
ATTACH;FMTTYPE=application/pdf:https://cisterscapes.eu/wp-content/uploads/2024/07/19854_Einladung_Buchpraesentation-1.pdf
END:VEVENT
END:VCALENDAR