BEGIN:VCALENDAR
VERSION:2.0
PRODID:-//Cisterscapes - ECPv6.15.11//NONSGML v1.0//EN
CALSCALE:GREGORIAN
METHOD:PUBLISH
X-WR-CALNAME:Cisterscapes
X-ORIGINAL-URL:https://cisterscapes.eu/fr/
X-WR-CALDESC:Évènements pour Cisterscapes
REFRESH-INTERVAL;VALUE=DURATION:PT1H
X-Robots-Tag:noindex
X-PUBLISHED-TTL:PT1H
BEGIN:VTIMEZONE
TZID:Europe/Berlin
BEGIN:DAYLIGHT
TZOFFSETFROM:+0100
TZOFFSETTO:+0200
TZNAME:CEST
DTSTART:20230326T010000
END:DAYLIGHT
BEGIN:STANDARD
TZOFFSETFROM:+0200
TZOFFSETTO:+0100
TZNAME:CET
DTSTART:20231029T010000
END:STANDARD
BEGIN:DAYLIGHT
TZOFFSETFROM:+0100
TZOFFSETTO:+0200
TZNAME:CEST
DTSTART:20240331T010000
END:DAYLIGHT
BEGIN:STANDARD
TZOFFSETFROM:+0200
TZOFFSETTO:+0100
TZNAME:CET
DTSTART:20241027T010000
END:STANDARD
BEGIN:DAYLIGHT
TZOFFSETFROM:+0100
TZOFFSETTO:+0200
TZNAME:CEST
DTSTART:20250330T010000
END:DAYLIGHT
BEGIN:STANDARD
TZOFFSETFROM:+0200
TZOFFSETTO:+0100
TZNAME:CET
DTSTART:20251026T010000
END:STANDARD
END:VTIMEZONE
BEGIN:VEVENT
DTSTART;TZID=Europe/Berlin:20240806T183000
DTEND;TZID=Europe/Berlin:20240806T183000
DTSTAMP:20260424T013426
CREATED:20240806T083514Z
LAST-MODIFIED:20240806T083514Z
UID:8978-1722969000-1722969000@cisterscapes.eu
SUMMARY:Salons du KLOSTERLAND ONLINE : "L'orfèvrerie au monastère européen de Gut Aich".
DESCRIPTION:La saison du Pays des Monastères a pour thème : « Transformation - Art et artisanat dans les monastères » et vous invite à vous plonger dans différents domaines de la culture monastique. Felicitas von Aretin\, membre de KLOSTERLAND (journaliste et auteure)\, fera découvrir la diversité des monastères à ses interlocuteurs issus d’établissements très différents.  \nL’interlocuteur de cette soirée sera Michael van Ooyen\, orfèvre\, monastère européen de Gut Aich. \nINSCRIVEZ-VOUS au salon en ligne à l’adresse suivante : salon-goldschmiede@klosterland.de \nVous recevrez vos données d’accès par e-mail directement après votre inscription. \nSur la personne : \nDepuis 2020\, Michael van Ooyen travaille comme orfèvre d’église au monastère bénédictin de Gut Aich\, en Autriche\, en tant que collaborateur laïc. Auparavant\, cet homme de 65 ans a travaillé comme directeur de l’usine et de l’atelier des Frères de Marie de Schönstatt à Vallendar\, le plus grand atelier d’artisanat d’art dans ce domaine. Aujourd’hui\, il restaure de précieux objets liturgiques et en crée de nouveaux avec beaucoup d’art. Il est lui-même issu d’une dynastie d’orfèvres de Kevelaer et a vécu de près les bouleversements et les changements de l’artisanat d’art au cours de sa longue vie professionnelle. Au cours de notre entretien\, nous parlerons de ce qui est important dans le travail d’un orfèvre d’église\, du lien entre la spiritualité et l’artisanat d’art et des défis auxquels la profession est confrontée.     \nMonastère européen de Gut Aich : \nLe monastère bénédictin autrichien de Gut Aich\, près du lac Wolfgang\, a une histoire très inhabituelle : il n’a été fondé qu’en 1993 et a été admis dans la congrégation bénédictine autrichienne en 2004\, après une phase d’essai. Le monastère bénédictin\, qui compte neuf moines\, est le symbole d’un monachisme moderne qui se consacre à la fusion pacifique des peuples d’Europe. C’est un centre de phytothérapie européenne\, qui trouve une application pratique holistique dans le service ambulatoire du centre St Hildegard\, avec psychothérapie et diverses autres offres de santé. Le monastère abrite également le frère David Steindl-Rast\, un moine qui a jeté un pont vers le bouddhisme et qui compte parmi les enseignants spirituels les plus connus de notre époque. Le monastère possède quatre ateliers d’art\, dont la plupart sont gérés par des employés laïcs. Michael van Ooyen est orfèvre au monastère européen depuis 2020.      \n\n\n\nVous trouverez d’autres dates et informations sur les salons sur notre site web https://klosterland.de/events - ou ici un aperçu. - La participation aux salons est gratuite. \n\n\n\nNous attendons déjà avec impatience le prochain salon ONLINE. \n20.08.2024 - 18h30 - Salon du KLOSTERLAND avec le Père Mauritius Sauerzapf\, OSB\, Archabbaye de Beuron \nL’inscription est déjà possible : salon-p-mauritius@klosterland.de \n  \n  \n  \n  \n  \n 
URL:https://cisterscapes.eu/fr/event/salons-du-klosterland-online-lorfevrerie-au-monastere-europeen-de-gut-aich/
LOCATION:ONLINE
CATEGORIES:cisterscapes
ATTACH;FMTTYPE=image/jpeg:https://cisterscapes.eu/wp-content/uploads/2024/08/Klosterland_Salons_Online.jpg
END:VEVENT
BEGIN:VEVENT
DTSTART;TZID=Europe/Berlin:20240820T183000
DTEND;TZID=Europe/Berlin:20240820T183000
DTSTAMP:20260424T013426
CREATED:20240806T084129Z
LAST-MODIFIED:20240806T084129Z
UID:9082-1724178600-1724178600@cisterscapes.eu
SUMMARY:Salons du PAYS-BAS - ONLINE : "L'édition d'art - une entreprise monastique de niche couronnée de succès
DESCRIPTION:La saison du Pays des Monastères a pour thème : « Transformation - Art et artisanat dans les monastères » et vous invite à vous plonger dans différents domaines de la culture monastique. Felicitas von Aretin\, membre de KLOSTERLAND (journaliste et auteure)\, fera découvrir la diversité des monastères à ses interlocuteurs issus d’établissements très différents.  \nLes « Editions d’art » de Beuron - une entreprise monastique de niche couronnée de succès \nUn entretien avec le père Mauritius Sauerzapf\, OSB\, archi-abbaye de Beuron \nINSCRIPTION au salon en ligne à : salon-p-mauritius@klosterland.de\n\nVous recevrez vos données d’accès par e-mail directement après votre inscription. \nA propos de la personne \nLe père Mauritius Sauerzapf est directeur de la maison d’édition de la célèbre maison d’édition d’art de Beuron depuis 2005. En 2019\, le bénédictin a célébré sa profession en or à l’archi-abbaye de Beuron. Par ailleurs\, le Père Mauritius est également actif en tant qu’auteur religieux.\n\nÉditions d’art de Beuron \nLa maison d’édition d’art a été fondée dès 1898 dans le cadre de l’établissement de l’école d’art de Beuron. Au début\, la maison d’édition se concentrait sur les gravures d’art. Plus tard\, la gamme s’est élargie. La première moitié du 20e siècle a vu l’explosion des produits d’édition : Les images saintes et les cartes ont été tirées jusqu’à 3\,5 millions d’exemplaires. Même si les commandes sont en baisse\, la maison d’édition de niche parvient à se maintenir jusqu’à aujourd’hui. Le calendrier annuel de Beuron\, une édition de la règle de saint Benoît et les œuvres de sainte Hildegarde sont très appréciés. La maison d’édition contribue à environ 40% des revenus totaux de l’abbaye et emploie au total sept collaborateurs séculiers. L’imprimerie de l’abbaye a été abandonnée en 2006.        \nSalon de l’abbaye \nDans cet entretien\, le père Mauritius explique comment\, en tant que directeur de la maison d’édition\, il parvient à faire naviguer la maison d’édition d’art de Beuron\, qui est une maison de niche\, à travers des temps difficiles. Il aborde également la manière dont le déclin de la vie ecclésiale affecte les ventes et comment la collaboration avec les collaborateurs laïcs est réussie.  \n  \n\n\n\nVous trouverez d’autres dates et informations sur les salons sur le site https://klosterland.de/events - ou ici un aperçu. - La participation aux salons est gratuite. \n\n\n\n 
URL:https://cisterscapes.eu/fr/event/salons-du-pays-bas-online-ledition-dart-une-entreprise-monastique-de-niche-couronnee-de-succes/
LOCATION:ONLINE
CATEGORIES:cisterscapes
ATTACH;FMTTYPE=image/jpeg:https://cisterscapes.eu/wp-content/uploads/2024/08/Klosterland_Salons_Online.jpg
END:VEVENT
END:VCALENDAR