BEGIN:VCALENDAR
VERSION:2.0
PRODID:-//Cisterscapes - ECPv6.15.11//NONSGML v1.0//EN
CALSCALE:GREGORIAN
METHOD:PUBLISH
X-ORIGINAL-URL:https://cisterscapes.eu/fr/
X-WR-CALDESC:Évènements pour Cisterscapes
REFRESH-INTERVAL;VALUE=DURATION:PT1H
X-Robots-Tag:noindex
X-PUBLISHED-TTL:PT1H
BEGIN:VTIMEZONE
TZID:Europe/Berlin
BEGIN:DAYLIGHT
TZOFFSETFROM:+0100
TZOFFSETTO:+0200
TZNAME:CEST
DTSTART:20240331T010000
END:DAYLIGHT
BEGIN:STANDARD
TZOFFSETFROM:+0200
TZOFFSETTO:+0100
TZNAME:CET
DTSTART:20241027T010000
END:STANDARD
BEGIN:DAYLIGHT
TZOFFSETFROM:+0100
TZOFFSETTO:+0200
TZNAME:CEST
DTSTART:20250330T010000
END:DAYLIGHT
BEGIN:STANDARD
TZOFFSETFROM:+0200
TZOFFSETTO:+0100
TZNAME:CET
DTSTART:20251026T010000
END:STANDARD
BEGIN:DAYLIGHT
TZOFFSETFROM:+0100
TZOFFSETTO:+0200
TZNAME:CEST
DTSTART:20260329T010000
END:DAYLIGHT
BEGIN:STANDARD
TZOFFSETFROM:+0200
TZOFFSETTO:+0100
TZNAME:CET
DTSTART:20261025T010000
END:STANDARD
END:VTIMEZONE
BEGIN:VEVENT
DTSTART;VALUE=DATE:20250315
DTEND;VALUE=DATE:20250623
DTSTAMP:20260423T120246
CREATED:20250422T100205Z
LAST-MODIFIED:20250422T100308Z
UID:9445-1741996800-1750636799@cisterscapes.eu
SUMMARY:Monastère de Wechterswinkel : Exposition Kloster erLEBEN - La vie des femmes au Moyen Age
DESCRIPTION:Au Moyen Âge\, la grande majorité de la population vivait à la campagne. Les femmes y accomplissaient de nombreuses tâches en plus du travail épuisant des champs : Elles préparaient les repas quotidiens\, lavaient le linge\, transportaient l’eau et fabriquaient les vêtements pour leur famille. La seule façon d’échapper au cycle épuisant de la maternité et des travaux physiques pénibles était de vivre dans un monastère. Ce n’est que dans les villes florissantes de la fin du Moyen Âge que de nouvelles opportunités se sont offertes aux femmes. Les femmes réussissaient dans le commerce\, elles travaillaient dans de nombreux métiers\, tenaient des épiceries ou vendaient leurs produits. Le statut des femmes a été profondément modifié par le développement économique des villes\n. L’exposition met en lumière les différents rôles des femmes au Moyen Âge. Les nombreuses tâches auxquelles les femmes devaient faire face sont clairement illustrées\, de la vannerie à la couture des plumes\, de la cueillette des herbes au brassage de la bière sur\n.        \nL’exposition « La vie des femmes au Moyen Âge »\na été conçue par l’historienne de l’art\nDr. Alice Selinger\, Dreieich. \ndu samedi 15.03.2025 au dimanche 22.06.2025 \nEXPOSITION\nL’exposition sera complétée par un programme d’accompagnement pour différents groupes d’âge\n. Vous trouverez de plus amples informations à partir de mars sur www.kloster-wechterswinkel-\nkultur.de et dans le calendrier culturel Rhön-Grabfeld.  \nDu mercredi au dimanche et les jours fériés de 13h00 à 17h00. \nMonastère de WechterswinkelUm den Bau 6\, Wechterswinkel\, Bastheim\, 97654 Bastheim OT Wechterswinkel
URL:https://cisterscapes.eu/fr/event/monastere-de-wechterswinkel-exposition-kloster-erleben-la-vie-des-femmes-au-moyen-age/
CATEGORIES:cisterscapes,partenaire
ATTACH;FMTTYPE=image/jpeg:https://cisterscapes.eu/wp-content/uploads/2025/04/Kloster_Wechterswinkel.jpg
END:VEVENT
BEGIN:VEVENT
DTSTART;TZID=Europe/Berlin:20250421T113000
DTEND;TZID=Europe/Berlin:20250421T113000
DTSTAMP:20260423T120246
CREATED:20250417T120703Z
LAST-MODIFIED:20250417T120703Z
UID:8775-1745235000-1745235000@cisterscapes.eu
SUMMARY:Château de Sulzheim : buffet de Pâques
DESCRIPTION:Venez fêter Pâques avec nous au château de Sulzheim - sous la devise\n« Ici\, c’est le châtelain lui-même qui cuisine »\, un délicieux et copieux buffet vous attend. Une délicieuse soupe\, des salades fraîches\, trois plats principaux (y compris des options de poisson et végétariennes)\, des desserts alléchants\, un verre de vin mousseux ou de jus d’orange et\, pour finir\, un café & un gâteau sont inclus dans le prix de 42\,50€ par personne (enfants de 6 à 13 ans 21\,-€ / < 6 ans gratuit).  \nNous nous réjouissons de votre visite et de votre réservation au numéro de téléphone suivant : 09382-8628. \nChâteau de Sulzheim \n34\, rue Wilhelm-Behr \n97529 Sulzheim
URL:https://cisterscapes.eu/fr/event/chateau-de-sulzheim-buffet-de-paques/
CATEGORIES:cisterscapes,partenaire
ATTACH;FMTTYPE=image/jpeg:https://cisterscapes.eu/wp-content/uploads/2025/04/Sulzheim.jpg
END:VEVENT
BEGIN:VEVENT
DTSTART;TZID=Europe/Berlin:20250429T190000
DTEND;TZID=Europe/Berlin:20250429T210000
DTSTAMP:20260423T120246
CREATED:20250221T090859Z
LAST-MODIFIED:20250221T090859Z
UID:9055-1745953200-1745960400@cisterscapes.eu
SUMMARY:Les fondations de monastères au Moyen Âge : l'exemple de l'abbaye de Zwettl
DESCRIPTION:Dans son exposé\, Obst Mag Franz Ettmayer décrit également l’influence des personnalités territoriales et ecclésiastiques sur le destin de notre pays. Après l’ordre politique de Charlemagne\, l’empire carolingien a commencé à se désagréger. Avant et après l’an mil\, la réorganisation politique a commencé entre l’Enns et la forêt viennoise ainsi qu’au nord du Danube.   \nL’action du cistercien Bernard de Clairvaux et son œuvre de réforme monastique en France s’étendait jusqu’à Zwettl dans le Waldviertel. Comment et dans quelle mesure les personnalités ecclésiastiques ont éclairé le développement de notre pays est\, entre autres\, au centre de cette conférence.  \nLa présentation sera suivie d’une discussion autour d’une collation.
URL:https://cisterscapes.eu/fr/event/les-fondations-de-monasteres-au-moyen-age-lexemple-de-labbaye-de-zwettl/
LOCATION:Salle des fêtes Raiffeisenbank Waldviertel Mitte\, Route 23\, Zwettl\, Basse-Autriche\, 3910\, Österreich
CATEGORIES:cisterscapes,partenaire,Zwettl
ATTACH;FMTTYPE=image/jpeg:https://cisterscapes.eu/wp-content/uploads/2023/11/Zwettl_24.jpg
END:VEVENT
END:VCALENDAR