BEGIN:VCALENDAR
VERSION:2.0
PRODID:-//Cisterscapes - ECPv6.15.11//NONSGML v1.0//EN
CALSCALE:GREGORIAN
METHOD:PUBLISH
X-ORIGINAL-URL:https://cisterscapes.eu/fr/
X-WR-CALDESC:Évènements pour Cisterscapes
REFRESH-INTERVAL;VALUE=DURATION:PT1H
X-Robots-Tag:noindex
X-PUBLISHED-TTL:PT1H
BEGIN:VTIMEZONE
TZID:Europe/Berlin
BEGIN:DAYLIGHT
TZOFFSETFROM:+0100
TZOFFSETTO:+0200
TZNAME:CEST
DTSTART:20240331T010000
END:DAYLIGHT
BEGIN:STANDARD
TZOFFSETFROM:+0200
TZOFFSETTO:+0100
TZNAME:CET
DTSTART:20241027T010000
END:STANDARD
BEGIN:DAYLIGHT
TZOFFSETFROM:+0100
TZOFFSETTO:+0200
TZNAME:CEST
DTSTART:20250330T010000
END:DAYLIGHT
BEGIN:STANDARD
TZOFFSETFROM:+0200
TZOFFSETTO:+0100
TZNAME:CET
DTSTART:20251026T010000
END:STANDARD
BEGIN:DAYLIGHT
TZOFFSETFROM:+0100
TZOFFSETTO:+0200
TZNAME:CEST
DTSTART:20260329T010000
END:DAYLIGHT
BEGIN:STANDARD
TZOFFSETFROM:+0200
TZOFFSETTO:+0100
TZNAME:CET
DTSTART:20261025T010000
END:STANDARD
END:VTIMEZONE
BEGIN:VEVENT
DTSTART;VALUE=DATE:20250315
DTEND;VALUE=DATE:20250623
DTSTAMP:20260423T102913
CREATED:20250422T100205Z
LAST-MODIFIED:20250422T100308Z
UID:9445-1741996800-1750636799@cisterscapes.eu
SUMMARY:Monastère de Wechterswinkel : Exposition Kloster erLEBEN - La vie des femmes au Moyen Age
DESCRIPTION:Au Moyen Âge\, la grande majorité de la population vivait à la campagne. Les femmes y accomplissaient de nombreuses tâches en plus du travail épuisant des champs : Elles préparaient les repas quotidiens\, lavaient le linge\, transportaient l’eau et fabriquaient les vêtements pour leur famille. La seule façon d’échapper au cycle épuisant de la maternité et des travaux physiques pénibles était de vivre dans un monastère. Ce n’est que dans les villes florissantes de la fin du Moyen Âge que de nouvelles opportunités se sont offertes aux femmes. Les femmes réussissaient dans le commerce\, elles travaillaient dans de nombreux métiers\, tenaient des épiceries ou vendaient leurs produits. Le statut des femmes a été profondément modifié par le développement économique des villes\n. L’exposition met en lumière les différents rôles des femmes au Moyen Âge. Les nombreuses tâches auxquelles les femmes devaient faire face sont clairement illustrées\, de la vannerie à la couture des plumes\, de la cueillette des herbes au brassage de la bière sur\n.        \nL’exposition « La vie des femmes au Moyen Âge »\na été conçue par l’historienne de l’art\nDr. Alice Selinger\, Dreieich. \ndu samedi 15.03.2025 au dimanche 22.06.2025 \nEXPOSITION\nL’exposition sera complétée par un programme d’accompagnement pour différents groupes d’âge\n. Vous trouverez de plus amples informations à partir de mars sur www.kloster-wechterswinkel-\nkultur.de et dans le calendrier culturel Rhön-Grabfeld.  \nDu mercredi au dimanche et les jours fériés de 13h00 à 17h00. \nMonastère de WechterswinkelUm den Bau 6\, Wechterswinkel\, Bastheim\, 97654 Bastheim OT Wechterswinkel
URL:https://cisterscapes.eu/fr/event/monastere-de-wechterswinkel-exposition-kloster-erleben-la-vie-des-femmes-au-moyen-age/
CATEGORIES:cisterscapes,partenaire
ATTACH;FMTTYPE=image/jpeg:https://cisterscapes.eu/wp-content/uploads/2025/04/Kloster_Wechterswinkel.jpg
END:VEVENT
BEGIN:VEVENT
DTSTART;TZID=Europe/Berlin:20250503T140000
DTEND;TZID=Europe/Berlin:20250503T170000
DTSTAMP:20260423T102913
CREATED:20250221T115236Z
LAST-MODIFIED:20250221T115236Z
UID:8796-1746280800-1746291600@cisterscapes.eu
SUMMARY:Inauguration des expositions temporaires "Temps et éternité" et "Cisterscapes - nous sommes un patrimoine culturel européen".
DESCRIPTION:Dans le cadre du Printemps des musées de Basse-Autriche\, les 3 et 4 mai 2025\, l’exposition spéciale « Temps et éternité » et « Cisterscapes - nous sommes un patrimoine culturel européen » seront solennellement inaugurées dans l’ancien hôtel de ville de Zwettl. Des visites guidées spéciales des expositions spéciales ainsi que des programmes variés pour les enfants seront proposés.    \nL’association des chemins de fer locaux de Zwettl inaugure également ce week-end sa nouvelle exposition spéciale « Saints pressés - le ciel en mouvement »\, réalisée en collaboration avec l’abbaye de Zwettl.
URL:https://cisterscapes.eu/fr/event/inauguration-des-expositions-temporaires-temps-et-eternite-et-cisterscapes-nous-sommes-un-patrimoine-culturel-europeen/
LOCATION:Ancienne mairie de Zwettl\, 3\, place de la Caisse d'épargne\, Zwettl\, Basse-Autriche\, 3910\, Österreich
CATEGORIES:cisterscapes,partenaire,Zwettl
ATTACH;FMTTYPE=image/jpeg:https://cisterscapes.eu/wp-content/uploads/2025/02/DSC_0018-scaled.jpg
ORGANIZER;CN="La ville et l'abbaye de Zwettl":MAILTO:cisterscapes@zwettl.gv.at
END:VEVENT
BEGIN:VEVENT
DTSTART;TZID=Europe/Berlin:20250503T190000
DTEND;TZID=Europe/Berlin:20250503T210000
DTSTAMP:20260423T102913
CREATED:20250128T104834Z
LAST-MODIFIED:20250128T104834Z
UID:9081-1746298800-1746306000@cisterscapes.eu
SUMMARY:Château d'Oberschwappach : Quatuor à cordes de Bamberg - Concert de printemps
DESCRIPTION:Quatuor à cordes de Bamberg - Concert de printemps\n\n\n\n\nJOYAUX DE LA COURONNE DE L’ÉPOQUE BAROQUE ET CLASSIQUE\,\nConcert de printemps du quatuor à cordes de Bamberg avec\nPierre Martens\, basson (professeur au conservatoire de Lübeck)\,\ndans la salle du château d’ Oberschwappach. \nŒuvres de Bach\, Haendel\, Vivaldi\, Haydn\, Mozart et Beethoven. \nDébut 19:00\nEntrée 18:30 \nLes billets sont disponibles sur : okticket.de\nPoints de vente voir : okticket.de/vvks.ph
URL:https://cisterscapes.eu/fr/event/chateau-doberschwappach-quatuor-a-cordes-de-bamberg-concert-de-printemps/
LOCATION:Hall du château\, château d’Oberschwappach
CATEGORIES:cisterscapes
ATTACH;FMTTYPE=image/jpeg:https://cisterscapes.eu/wp-content/uploads/2025/01/cropped-IMG_4598_panoramaHR.jpg
END:VEVENT
BEGIN:VEVENT
DTSTART;VALUE=DATE:20250511
DTEND;VALUE=DATE:20250512
DTSTAMP:20260423T102913
CREATED:20250128T102047Z
LAST-MODIFIED:20250128T102047Z
UID:9074-1746921600-1747007999@cisterscapes.eu
SUMMARY:Monastère Maria Bildhausen : Journée du vélo de Bildhausen
DESCRIPTION:La journée débutera à 10 heures par une bénédiction des vélos\, qu’il s’agisse de vélos\, de voiturettes\, de fauteuils roulants ou de déambulateurs.\nPendant la journée\, la société « DER WOLF » de Bad Neustadt présentera aux visiteurs de nombreux vélos de différentes entreprises\, qu’il sera également possible d’essayer sur place. \nProgramme\nJournée du vélo de Bildhausen\n10:00 heures \nCélébration de la parole et bénédiction des vélos à la grange de Bildhausen \n- en cas de conditions météorologiques défavorables\, liturgie de la parole à l’église \nencadrement musical par des joueurs de cor des Alpes des Montagnes noires \n  \n11:00-17:00 heures \nStands d’information sur le vélo (Fahrrad Wolf\, Verkehrswacht) \n  \n11:00 heures \nBildhäuser Blechtrommler (monastère) \n  \n11:00-17:00 heures \nLe magasin du monastère et la pépinière sont ouverts ! \n  \nà partir de 11:00 \nDéjeuner (Bildhäuser Scheune et KlosterGasthof) \nCafé et gâteaux (Bildhäuser Scheune) \n  \nde 11h30 à 13h30 \nMusikverein Kleinwenkheim (scène en plein air Bildhäuser Scheune) \n14:00 heures \nConférence 500 ans de Bildhäuser Haufen / Guerre des paysans \npar Michael Böckler (Salle de l’Abbaye) \n14:00 heures \nConcert Kissinger Sängerbund (scène en plein air Bildhäuser Scheune) \n14:00 heures \nVisite guidée du verger et du jardin d’abeilles historiques (projet Homme - Abeille - Formation) \nRendez-vous au rucher \n  \n16:00 heures \nConcert de bienfaisance avec Böhmisch G`schtörd (scène en plein air Bildhäuser Scheune) \n  \n  \nCette année encore\, tout tourne autour du vélo lors de la journée du vélo de Bildhausen. \n  \nBénédiction des vélos   \nLa journée commence à 10 heures par une liturgie de la parole avec une bénédiction des vélos\, qu’il s’agisse d’un vélo\, d’un kettcar\, d’un fauteuil roulant ou d’un déambulateur. \nLa société « DER WOLF » de Bad Neustadt présente aux visiteurs pendant la journée de nombreux vélos de différentes entreprises\, qui peuvent également être essayés sur place. \nL’action « Fahr Rad\, aber sicher ! (un programme de l’association allemande de prévention routière) est organisée par l’association de prévention routière du district de Bad Kissingen en collaboration avec l’école mobile de la circulation pour les jeunes de Bad Kissingen. \n  \nTambours de plomb de Bildhausen \nÀ partir de 11 heures\, il y aura un petit déjeuner avec les « Bildhäusern Blechtrommlern » dans le jardin de la bière. L’ambiance musicale sera  \nJournée du vélo de 11h30 à 13h30 avec musique de divertissement. Le déjeuner et un stand de grillades\, ainsi que du café et des gâteaux seront proposés pendant les festivités dans et autour de la grange de Bildhausen.  \n  \nConcert de bienfaisance avec la fanfare Böhmisch G`schtörd   \nEn outre\, à partir de 16 heures\, il y aura un concert en plein air au profit de l’association de soutien Maria Bildhausen e.V. avec la fanfare Böhmisch G`schtörd sur la scène en plein air devant la grange de Bildhausen. \n  \nKlosterLaden   \nLe KlosterLaden est ouvert de 11h à 17h.
URL:https://cisterscapes.eu/fr/event/monastere-maria-bildhausen-journee-du-velo-de-bildhausen/
LOCATION:Monastère de Maria Bildhausen\, Maria Bildhausen 1\, Münnerstadt\, 97702\, Deutschland
CATEGORIES:cisterscapes
ATTACH;FMTTYPE=image/png:https://cisterscapes.eu/wp-content/uploads/2025/01/logo.png
END:VEVENT
BEGIN:VEVENT
DTSTART;TZID=Europe/Berlin:20250511T140000
DTEND;TZID=Europe/Berlin:20250514T110000
DTSTAMP:20260423T102913
CREATED:20250214T135221Z
LAST-MODIFIED:20250214T135221Z
UID:9075-1746972000-1747220400@cisterscapes.eu
SUMMARY:Monastère de Loccum : 31e RÉUNION ANNUELLE DE LA COMMUNAUTÉ DES SERVICES CISTINAIRES ÉVANGÉLIQUES
DESCRIPTION:Une fois de plus\, la communauté des héritiers cisterciens d’Allemagne est invitée à une rencontre annuelle au monastère cistercien de Loccum\, fondé en 1163. L’abbé du monastère\, l’évêque du Land Ralf Meister\, a lui-même suggéré cette rencontre à Loccum et se réjouit\, avec toute l’équipe du monastère\, de notre venue. L’évêque du Land célébrera avec nous le culte d’ouverture dans l’église du monastère et nous parlera\, dans le cadre de la réunion\, de la fonction d’abbé dans une perspective protestante.\nLe monastère de Loccum abrite le séminaire de prédication pour la formation des vicaires pour les quatre églises luthériennes de Basse-Saxe et l’église de Brême. Avec l’Institut de pédagogie religieuse\, le Collège pastoral et l’Académie protestante\, Loccum est un lieu important de formation et de dialogue pour l’Église du Land de Hanovre.    \nAdresses :\nTagungsstätte Loccum\nMünchehäger Str. 6\n31547 Rehburg-Loccum \nParking du centre de conférence et des instituts\nwww.tagungsstaette.loccum@evlka.de \nKloster Loccum\, Kloster 2\, 31547 Rehburg-Loccum\nNavi : Marktstraße 9 - par le Torhaus\nParking sur le terrain du monastère\, veuillez passer par l’arrière\n. \nFRAIS DE RÉUNION\nLes frais de réunion (pension complète) s’élèvent à\n420 € pour la chambre simple\n730 € pour la chambre double \nSans hébergement\, le tarif par personne est de 225 €.\nNous demandons aux visiteurs d’un jour de payer 50 € s’ils participent aux repas\n. Veuillez vous inscrire.  \nINSCRIPTION\nNous attendons avec impatience votre inscription par e-mail ou par courrier.\nNous vous prions de nous faire parvenir votre inscription définitive avant le\n28 février 2020. En cas de désistement après cette date\, nous devrons malheureusement facturer des frais d’annulation à\n.  \nInvitation_Réunion_annuelle_GEZE_2025_A4
URL:https://cisterscapes.eu/fr/event/monastere-de-loccum-31e-reunion-annuelle-de-la-communaute-des-services-cistinaires-evangeliques/
LOCATION:Couvent de Loccum\, Deutschland
CATEGORIES:cisterscapes,Loccum
ATTACH;FMTTYPE=image/jpeg:https://cisterscapes.eu/wp-content/uploads/2023/09/Loccum_DJI_0145_F_Jens_Schulze_Uebersicht_2023-1.jpg
END:VEVENT
BEGIN:VEVENT
DTSTART;TZID=Europe/Berlin:20250524T090000
DTEND;TZID=Europe/Berlin:20250524T153000
DTSTAMP:20260423T102913
CREATED:20250221T094652Z
LAST-MODIFIED:20250221T094652Z
UID:9050-1748077200-1748100600@cisterscapes.eu
SUMMARY:Excursion de printemps : église de pèlerinage de St Thomas im Dachsgraben\, carrière de Pötzles\, Döllersheim
DESCRIPTION:Le paysage monastique de l’abbaye de Zwettl\, qui a reçu le label du patrimoine européen\, comprend également des éléments qui se trouvent sur le territoire de l’actuel terrain d’entraînement militaire. Il s’agit notamment de l’ancienne église de pèlerinage de St Thomas im Dachsgraben\, déjà abandonnée sous l’empereur Joseph II\, qui remonte peut-être à des cultes préchrétiens.  \nLes participants à l’excursion entrent en bus dans le terrain d’entraînement militaire d’Allentsteig. Au TÜPL\, le colonel Julius Schlapschy donne une conférence d’introduction. Le groupe visitera ensuite l’ancienne église de pèlerinage de St Thomas im Dachsgraben ainsi que la carrière de Pötzles\, et Döllersheim. L’excursion sera dirigée par le Dr Andreas Gamerith.    \nLe voyage en bus\, les visites guidées\, la conférence et le déjeuner sont inclus dans le prix. Les inscriptions sont acceptées par l’université populaire de Zwettl : 0043 28 22/ 503 187 ou info@vhszwettl.at
URL:https://cisterscapes.eu/fr/event/excursion-de-printemps-eglise-de-pelerinage-de-st-thomas-im-dachsgraben-carriere-de-poetzles-doellersheim/
LOCATION:Caserne de pompiers de Zwettl\, 11\, rue de Krems\, Zwettl\, Basse-Autriche\, 3910\, Österreich
CATEGORIES:cisterscapes,partenaire,Zwettl
ATTACH;FMTTYPE=image/jpeg:https://cisterscapes.eu/wp-content/uploads/2025/02/BA-03-024-111.jpg
END:VEVENT
BEGIN:VEVENT
DTSTART;TZID=Europe/Berlin:20250531T000000
DTEND;TZID=Europe/Berlin:20250615T000000
DTSTAMP:20260423T102913
CREATED:20250512T115805Z
LAST-MODIFIED:20250512T115940Z
UID:11248-1748649600-1749945600@cisterscapes.eu
SUMMARY:Ville de Maulbronn : Exposition "Das kalte Herz" Art du verre de Kerstin Müllerperth
DESCRIPTION:La ville de Maulbronn a le plaisir de vous inviter au vernissage de l’exposition « Das kalte Herz » (Le cœur froid) de Kerstin Müllerperth\nle vendredi 30 mai 2025 à 19h30 à la Stadthalle Maulbronn (ancienne fruiterie du monastère de Maulbronn). \nAccueil\nMaire Aaron Treut\nIntroduction\nMartin Ehlers\, Archives municipales de Maulbronn\nMusique\nMagdalena et\nMarina Müllerperth\, piano\nSuivi d’un verre de l’amitié \nL’exposition est ouverte\ndu 31 mai au 15 juin 2025\nJours ouvrables : 13.00-17.00\nSamedi\, dimanche et jours fériés :\n11.00-17.00 \nKerstin Müllerperth\, née en 1962\, est issue de la dynastie de souffleurs de verre Greiner-Perth de Türingen et poursuit la tradition familiale\nsur sa propre voie artistique. Son verre filigrané\, tantôt sobre et froid\, tantôt vénitien et ludique\, a été récompensé par des prix prestigieux\n. En plus d’une grande habileté artisanale\, la souffleuse de verre d’art a besoin de la bonne intuition pour le matériau afin de faire naître des images en verre\nà partir de ses pensées. Dans l’exposition\, les tableaux ont pour thème le conte de Wilhelm Hauff « Das kalte Herz » (Le cœur froid)\, dans lequel\, d’une part\, le secourable Glasmännlein promet la rédemption\net\, d’autre part\, la verrerie devient l’incarnation de l’échec. Kerstin Müllerperth nous emmène dans un voyage féerique dans la Forêt-Noire mystique\ndu siècle dernier\, avec des esprits mystérieux de la forêt et des personnages aux multiples facettes.     \nwww.muellerperth.de
URL:https://cisterscapes.eu/fr/event/ville-de-maulbronn-exposition-das-kalte-herz-art-du-verre-de-kerstin-muellerperth/
CATEGORIES:cisterscapes,Maulbronn
ATTACH;FMTTYPE=application/pdf:https://cisterscapes.eu/wp-content/uploads/2025/05/Einladungskarte_Kerstin-Muellerperth_DRUCK.pdf
END:VEVENT
END:VCALENDAR