BEGIN:VCALENDAR
VERSION:2.0
PRODID:-//Cisterscapes - ECPv6.15.11//NONSGML v1.0//EN
CALSCALE:GREGORIAN
METHOD:PUBLISH
X-ORIGINAL-URL:https://cisterscapes.eu/fr/
X-WR-CALDESC:Évènements pour Cisterscapes
REFRESH-INTERVAL;VALUE=DURATION:PT1H
X-Robots-Tag:noindex
X-PUBLISHED-TTL:PT1H
BEGIN:VTIMEZONE
TZID:Europe/Berlin
BEGIN:DAYLIGHT
TZOFFSETFROM:+0100
TZOFFSETTO:+0200
TZNAME:CEST
DTSTART:20240331T010000
END:DAYLIGHT
BEGIN:STANDARD
TZOFFSETFROM:+0200
TZOFFSETTO:+0100
TZNAME:CET
DTSTART:20241027T010000
END:STANDARD
BEGIN:DAYLIGHT
TZOFFSETFROM:+0100
TZOFFSETTO:+0200
TZNAME:CEST
DTSTART:20250330T010000
END:DAYLIGHT
BEGIN:STANDARD
TZOFFSETFROM:+0200
TZOFFSETTO:+0100
TZNAME:CET
DTSTART:20251026T010000
END:STANDARD
BEGIN:DAYLIGHT
TZOFFSETFROM:+0100
TZOFFSETTO:+0200
TZNAME:CEST
DTSTART:20260329T010000
END:DAYLIGHT
BEGIN:STANDARD
TZOFFSETFROM:+0200
TZOFFSETTO:+0100
TZNAME:CET
DTSTART:20261025T010000
END:STANDARD
END:VTIMEZONE
BEGIN:VEVENT
DTSTART;VALUE=DATE:20250705
DTEND;VALUE=DATE:20250707
DTSTAMP:20260423T064219
CREATED:20250128T101537Z
LAST-MODIFIED:20250128T101537Z
UID:8330-1751673600-1751846399@cisterscapes.eu
SUMMARY:Monastère Maria Bildhausen : Fête d'été
DESCRIPTION:La tradition se poursuit… le samedi 05 juillet et dimanche 06 juillet 2025 \n Cette année encore\, la fête d’été se déroulera autour de la grange de Bildhausen. De nombreuses offres et attractions attendent les visiteurs\, petits et grands\, sur le site du monastère et dans le magasin du monastère. Le samedi 05 juillet 2025\, il y aura du café et des gâteaux dans la grange de Bildhausen à partir de 14h30. De 19:00 à 22:00 heures\, le groupe « Venus » jouera à nouveau sur la scène devant la grange. L’entrée est gratuite !     \nLe dimanche 06.07.2025\, nous commencerons à 10h00 par une messe devant la grange de Bildhausen. En cas de conditions météorologiques défavorables\, nous nous rendrons à l’église.  \nDe 11h00 à 20h00\, festivités dans et autour de la grange de Bildhausen. \nLe magasin de l’abbaye est ouvert le dimanche de 11h00 à 17h00 !
URL:https://cisterscapes.eu/fr/event/monastere-maria-bildhausen-fete-dete/
LOCATION:Monastère de Maria Bildhausen\, Maria Bildhausen 1\, Münnerstadt\, 97702\, Deutschland
CATEGORIES:cisterscapes
ATTACH;FMTTYPE=image/png:https://cisterscapes.eu/wp-content/uploads/2025/01/logo.png
END:VEVENT
BEGIN:VEVENT
DTSTART;TZID=Europe/Berlin:20250709T163000
DTEND;TZID=Europe/Berlin:20250709T183000
DTSTAMP:20260423T064219
CREATED:20250630T123254Z
LAST-MODIFIED:20250630T123254Z
UID:11791-1752078600-1752085800@cisterscapes.eu
SUMMARY:10ème STADTRADELN 2025 : VéloTour avec VG Ebrach !
DESCRIPTION:Le cyclisme urbain a repris depuis le 23 juin et la communauté de communes d’Ebrach sera également de la partie le 9 juillet 2025 !\nEnsemble\, nous voulons accumuler des kilomètres\, explorer la communauté de communes à vélo et terminer la soirée par un verre au monastère dans le magnifique jardin de l’Orangerie d’Ebrach. \nDépart : vers 16h30 à la mairie d’Ebrach \nArrivée : vers 18:30 heures Klosterschoppen à l’Orangerie d’Ebrach. \nParticiper à la STADTRADELN signifie faire une bonne action pour soi-même et pour la protection du climat\, tout en attirant l’attention sur les besoins des cyclistes. Du 23 juin au 13 juillet\, vous pouvez à nouveau accumuler des kilomètres !   \nLe comté remercie les communes pour leur engagement en leur offrant des arbres\, des bancs et des parkings à vélos. C’est pourquoi chaque kilomètre parcouru compte !  \nSi vous ne l’avez pas encore fait\, inscrivez-vous dès maintenant à la VG en utilisant le code QR ! \n \n  \n 
URL:https://cisterscapes.eu/fr/event/10eme-stadtradeln-2025-velotour-avec-vg-ebrach/
CATEGORIES:Centre d'information,cisterscapes,Ebrach
ATTACH;FMTTYPE=image/png:https://cisterscapes.eu/wp-content/uploads/2025/06/Stadtradeln-2.png
END:VEVENT
BEGIN:VEVENT
DTSTART;TZID=Europe/Berlin:20250713T153000
DTEND;TZID=Europe/Berlin:20250713T170000
DTSTAMP:20260423T064219
CREATED:20250422T112414Z
LAST-MODIFIED:20250422T112414Z
UID:9523-1752420600-1752426000@cisterscapes.eu
SUMMARY:Visites guidées Ebrach : à la recherche de traces au cœur du paysage monastique !
DESCRIPTION:Visites guidées à Ebrach   \nEn arrivant à Ebrach\, on se croit soudain dans une résidence baroque au milieu du Steigerwald. Nous partons sur les traces des moines gris qui possédaient cette région. Même si l’ancien monastère abrite une prison depuis plus de 150 ans\, les traces de ces moines autrefois puissants et autosuffisants sont encore partout. En 2024\, le paysage monastique d’Ebrach a reçu le label du patrimoine européen. Suivez avec nous les traces des Cisterciens et découvrez pourquoi !     \nUn tour d’horizon du centre-ville avec ses églises et ses jardins - A la recherche de traces au cœur du paysage monastique \nLieu de rendez-vous : devant l’ancienne orangerie (centre d’information Cisterscapes)\, jardin supérieur de l’abbaye \nSaison : de mai à octobre\, chaque deuxième dimanche\, 15h30-17h00 \nProchains rendez-vous : 27.07.\, 10.08. et 24.08.\, 7.09. et 21.09.\, 5.10. et 19.10.    \nBilletterie en ligne sur : https://www.bamberg.info/veranstaltungen/rundgang_in_ebrach_auf_spurens-569119-12525635/ \nou sur place au centre d’information \nPrix : 9 € par personne ; 8 € avec la carte de bénévole ; gratuit pour les enfants et les jeunes jusqu’à 16 ans. \nÀ la recherche des traces au cœur du paysage monastique est également disponible en tant que visite guidée pour les groupes. \nConseil et harmonisation individuelle des points forts au 0951 85 721 \nPrix : 90 € taille maximale du groupe 25 personnes. \nDurée environ 90 minutes. \nVisites guidées en langues étrangères sur demande.
URL:https://cisterscapes.eu/fr/event/visites-guidees-ebrach-a-la-recherche-de-traces-au-coeur-du-paysage-monastique-3/
CATEGORIES:cisterscapes,Ebrach,Guide,partenaire
ATTACH;FMTTYPE=image/jpeg:https://cisterscapes.eu/wp-content/uploads/2024/01/Ebrach-2009-44.jpg
END:VEVENT
BEGIN:VEVENT
DTSTART;VALUE=DATE:20250721
DTEND;VALUE=DATE:20250722
DTSTAMP:20260423T064219
CREATED:20250710T072458Z
LAST-MODIFIED:20250710T072458Z
UID:11941-1753056000-1753142399@cisterscapes.eu
SUMMARY:Abbaye de Wechterswinkel : Fête médiévale
DESCRIPTION:Pour la deuxième fois\, une fête médiévale est organisée à l’occasion de l’exposition médiévale dans et autour du monastère de Wechterswinkel. Autour de la grange et dans la cour intérieure\, le peuple médiéval\ninstallera son campement. Certains artisans vous invitent même à participer et à essayer leurs produits. Des chevaliers sont également invités\, expliquent les différentes armes et font une démonstration de leur art du combat spectaculaire\n. Sur la pelouse adjacente\, les visiteurs peuvent s’immerger dans le monde des saltimbanques et s’essayer eux-mêmes aux arts artistiques sous la direction d’un guide. Une multitude de jeux médiévaux\nsont à découvrir. Toutes sortes de marchands se rassemblent et proposent leurs marchandises. Des ménestrels accompagnent la fête médiévale avec leurs instruments. La gastronomie sera également à l’honneur sur\n. L’exposition « La vie des femmes au Moyen Âge »\, au rez-de-chaussée du monastère\, sera ouverte pendant l’événement. Des visites guidées auront lieu les deux jours. L’entrée est incluse dans le prix d’entrée\n.            \nhttps://kultur.rhoen-grabfeld.de/museen-und-spielstaetten/kloster-wechterswinkel
URL:https://cisterscapes.eu/fr/event/abbaye-de-wechterswinkel-fete-medievale/
LOCATION:Monastère de Wechterswinkel\, Pour construire 6\, 97654 Bastheim/Wechterswinkel
CATEGORIES:cisterscapes,Ebrach,partenaire
ATTACH;FMTTYPE=image/jpeg:https://cisterscapes.eu/wp-content/uploads/2025/07/6O8A6680-scaled.jpg
END:VEVENT
BEGIN:VEVENT
DTSTART;VALUE=DATE:20250726
DTEND;VALUE=DATE:20250729
DTSTAMP:20260423T064219
CREATED:20250128T104309Z
LAST-MODIFIED:20250128T104309Z
UID:9064-1753488000-1753747199@cisterscapes.eu
SUMMARY:Château d'Oberschwappach : fête du vin 2025
DESCRIPTION:Nous attendons avec impatience la fête du vin 2025\nLa fête du vin dans le parc du château d’Oberschwappach aura probablement lieu du 26 au 28 juillet 2025.\nNous nous réjouissons de vous revoir en juillet 2025 pour notre cool fête du vin d’Oberschwappach\, avec des verres toujours pleins\, l’hospitalité d’Oberschwappach et une foule de fans de la fête du vin d’Oberschwappach !
URL:https://cisterscapes.eu/fr/event/chateau-doberschwappach-fete-du-vin-2025/
LOCATION:Château d’Oberschwappach\, 6\, rue du Château\, Oberschwappach\, 97478\, Deutschland
CATEGORIES:cisterscapes
ATTACH;FMTTYPE=image/jpeg:https://cisterscapes.eu/wp-content/uploads/2025/01/cropped-IMG_4598_panoramaHR.jpg
END:VEVENT
END:VCALENDAR