BEGIN:VCALENDAR
VERSION:2.0
PRODID:-//Cisterscapes - ECPv6.15.11//NONSGML v1.0//EN
CALSCALE:GREGORIAN
METHOD:PUBLISH
X-ORIGINAL-URL:https://cisterscapes.eu/fr/
X-WR-CALDESC:Évènements pour Cisterscapes
REFRESH-INTERVAL;VALUE=DURATION:PT1H
X-Robots-Tag:noindex
X-PUBLISHED-TTL:PT1H
BEGIN:VTIMEZONE
TZID:Europe/Berlin
BEGIN:DAYLIGHT
TZOFFSETFROM:+0100
TZOFFSETTO:+0200
TZNAME:CEST
DTSTART:20240331T010000
END:DAYLIGHT
BEGIN:STANDARD
TZOFFSETFROM:+0200
TZOFFSETTO:+0100
TZNAME:CET
DTSTART:20241027T010000
END:STANDARD
BEGIN:DAYLIGHT
TZOFFSETFROM:+0100
TZOFFSETTO:+0200
TZNAME:CEST
DTSTART:20250330T010000
END:DAYLIGHT
BEGIN:STANDARD
TZOFFSETFROM:+0200
TZOFFSETTO:+0100
TZNAME:CET
DTSTART:20251026T010000
END:STANDARD
BEGIN:DAYLIGHT
TZOFFSETFROM:+0100
TZOFFSETTO:+0200
TZNAME:CEST
DTSTART:20260329T010000
END:DAYLIGHT
BEGIN:STANDARD
TZOFFSETFROM:+0200
TZOFFSETTO:+0100
TZNAME:CET
DTSTART:20261025T010000
END:STANDARD
END:VTIMEZONE
BEGIN:VEVENT
DTSTART;VALUE=DATE:20250803
DTEND;VALUE=DATE:20250817
DTSTAMP:20260423T045212
CREATED:20250321T105443Z
LAST-MODIFIED:20250321T105443Z
UID:8780-1754179200-1755388799@cisterscapes.eu
SUMMARY:Bénévoles européens du patrimoine à l'abbaye de Stična
DESCRIPTION:Nous sommes heureux de vous informer que le Musée slovène du Christianisme a lancé un projet commun avec les Volontaires du Patrimoine européen : le cours de formation EHV aura lieu à Stična ce mois d’août. \nLe projet au monastère de Stična impliquera douze jeunes volontaires de toute l’Europe et se concentrera sur la conservation et la restauration des surfaces historiques en pierre\, en intégrant un travail pratique de conservation avec un programme éducatif complet. \nDiverses activités similaires au sein du Musée slovène du christianisme et de l’EHV feront partie du programme d’accompagnement\, y compris un événement principal avec une présentation du projet\, prévu pour le 7 août dans l’après-midi (plus d’informations suivront). \nLes participants visiteront également nos partenaires du musée d’art Božidar Jakac et de l’ancien monastère cistercien de Kostanjevica na Krki et apprendront le contexte plus large du patrimoine cistercien et l’importance de l’Ordre cistercien\, à la fois dans le passé et dans le présent. \nLe projet est rendu possible grâce au soutien du Ministère de la Culture de la République de Slovénie\, de l’abbaye cistercienne de Stična\, des Volontaires du Patrimoine européen et du Bureau européen du Label du Patrimoine. \nMore at : https://heritagevolunteers.eu/EuropeanHeritageTrainingCourses/TrainingCourses2025/ConservationAndRestorationOfStoneSurfaces ?
URL:https://cisterscapes.eu/fr/event/benevoles-europeens-du-patrimoine-a-labbaye-de-sticna/
CATEGORIES:cisterscapes,Sticna
END:VEVENT
END:VCALENDAR