BEGIN:VCALENDAR
VERSION:2.0
PRODID:-//Cisterscapes - ECPv6.15.11//NONSGML v1.0//EN
CALSCALE:GREGORIAN
METHOD:PUBLISH
X-ORIGINAL-URL:https://cisterscapes.eu/fr/
X-WR-CALDESC:Évènements pour Cisterscapes
REFRESH-INTERVAL;VALUE=DURATION:PT1H
X-Robots-Tag:noindex
X-PUBLISHED-TTL:PT1H
BEGIN:VTIMEZONE
TZID:Europe/Berlin
BEGIN:DAYLIGHT
TZOFFSETFROM:+0100
TZOFFSETTO:+0200
TZNAME:CEST
DTSTART:20240331T010000
END:DAYLIGHT
BEGIN:STANDARD
TZOFFSETFROM:+0200
TZOFFSETTO:+0100
TZNAME:CET
DTSTART:20241027T010000
END:STANDARD
BEGIN:DAYLIGHT
TZOFFSETFROM:+0100
TZOFFSETTO:+0200
TZNAME:CEST
DTSTART:20250330T010000
END:DAYLIGHT
BEGIN:STANDARD
TZOFFSETFROM:+0200
TZOFFSETTO:+0100
TZNAME:CET
DTSTART:20251026T010000
END:STANDARD
BEGIN:DAYLIGHT
TZOFFSETFROM:+0100
TZOFFSETTO:+0200
TZNAME:CEST
DTSTART:20260329T010000
END:DAYLIGHT
BEGIN:STANDARD
TZOFFSETFROM:+0200
TZOFFSETTO:+0100
TZNAME:CET
DTSTART:20261025T010000
END:STANDARD
END:VTIMEZONE
BEGIN:VEVENT
DTSTART;TZID=Europe/Berlin:20251201T190000
DTEND;TZID=Europe/Berlin:20251201T190000
DTSTAMP:20260422T215917
CREATED:20250710T103025Z
LAST-MODIFIED:20250710T110740Z
UID:11993-1764615600-1764615600@cisterscapes.eu
SUMMARY:Heilsbronn : Visite guidée "Machet die Tore weit" (ouvrez les portes)
DESCRIPTION:Visite guidée musicale de la cathédrale pendant l’Avent avec les Sopranettes. \nLieu : Cathédrale de Heilsbronn\, Münsterplatz 1\, 91560 Heilsbronn. \nPour plus d’informations : https://www.heilsbronn.de/de/kultur-tourismus/fuehrungen/terminfuehrungen \nOrganisateur : Evang.-Luth.-Parramt\, Kulturamt Heilsbronn. \nPhoto : Visites guidées\, Sopranettes © Wolfgang Burger
URL:https://cisterscapes.eu/fr/event/heilsbronn-machet-die-tore-weit-ouvrez-les-portes/
CATEGORIES:cisterscapes,Ebrach,Guide,partenaire
ATTACH;FMTTYPE=image/jpeg:https://cisterscapes.eu/wp-content/uploads/2025/07/Gaestefuehrungen-Sopranetten-©-Wolfgang-Burger-scaled.jpg
END:VEVENT
BEGIN:VEVENT
DTSTART;TZID=Europe/Berlin:20251206T170000
DTEND;TZID=Europe/Berlin:20251206T170000
DTSTAMP:20260422T215917
CREATED:20250710T102037Z
LAST-MODIFIED:20250710T102239Z
UID:11963-1765040400-1765040400@cisterscapes.eu
SUMMARY:Heilsbronn : Visite guidée en lumière
DESCRIPTION:Des centaines de bougies plongent la cathédrale dans une lueur romantique et mystérieuse - une expérience pour les sens et l’âme avec Jutta Gruber. \nLieu : Heilsbronn Münster\, Münsterplatz 1\, 91560 Heilsbronn \nPlus d’infos sur : https://www.heilsbronn.de/de/kultur-tourismus/fuehrungen/terminfuehrungen \nPhoto : Lichterfuehrung-im-Muenster-mit-J.-Gruber-©Berning. \n  \n 
URL:https://cisterscapes.eu/fr/event/heilsbronn-visite-guidee-en-lumiere/
CATEGORIES:cisterscapes,Ebrach,Guide,partenaire
ATTACH;FMTTYPE=image/jpeg:https://cisterscapes.eu/wp-content/uploads/2025/07/Lichterfuehrung-im-Muenster-mit-J.-Gruber-©-Berning-1.jpg
END:VEVENT
BEGIN:VEVENT
DTSTART;TZID=Europe/Berlin:20251221T170000
DTEND;TZID=Europe/Berlin:20251221T170000
DTSTAMP:20260422T215917
CREATED:20250710T101612Z
LAST-MODIFIED:20250710T110518Z
UID:11956-1766336400-1766336400@cisterscapes.eu
SUMMARY:Heilsbronn : Angelus Domini nuntiavit Mariae - Peregrina et les messagers célestes
DESCRIPTION:La nonne cistercienne Peregrina von Frauental vous emmène dans le monde des messagers célestes et traque les anges dans la cathédrale. Visite guidée en costume avec Christine Diefenbacher.  \nLieu : Cathédrale de Heilsbronn\, Münsterplatz 1\, 91560 Heilsbronn. \nPlus d’informations sur : https://www.heilsbronn.de/de/kultur-tourismus/fuehrungen/terminfuehrungen \nOrganisateur : \nParoisse évangélique luthérienne\, service culturel de Heilsbronn \nPhoto : Christine Diefenbacher\, Nonne Peregrina\, guide touristique © Fotostudio Lichtblick \n  \n 
URL:https://cisterscapes.eu/fr/event/heilsbronn-angelus-domini-nuntiavit-mariae-peregrina-et-les-messagers-celestes/
CATEGORIES:cisterscapes,Ebrach,Guide,partenaire
ATTACH;FMTTYPE=image/jpeg:https://cisterscapes.eu/wp-content/uploads/2025/07/Christine-Diefenbacher-Nonne-Peregrina-Gaestefuehrer-©-Fotostudio-Lichtblick-3-scaled.jpg
END:VEVENT
END:VCALENDAR