BEGIN:VCALENDAR
VERSION:2.0
PRODID:-//Cisterscapes - ECPv6.15.11//NONSGML v1.0//EN
CALSCALE:GREGORIAN
METHOD:PUBLISH
X-WR-CALNAME:Cisterscapes
X-ORIGINAL-URL:https://cisterscapes.eu/fr/
X-WR-CALDESC:Évènements pour Cisterscapes
REFRESH-INTERVAL;VALUE=DURATION:PT1H
X-Robots-Tag:noindex
X-PUBLISHED-TTL:PT1H
BEGIN:VTIMEZONE
TZID:Europe/Berlin
BEGIN:DAYLIGHT
TZOFFSETFROM:+0100
TZOFFSETTO:+0200
TZNAME:CEST
DTSTART:20250330T010000
END:DAYLIGHT
BEGIN:STANDARD
TZOFFSETFROM:+0200
TZOFFSETTO:+0100
TZNAME:CET
DTSTART:20251026T010000
END:STANDARD
BEGIN:DAYLIGHT
TZOFFSETFROM:+0100
TZOFFSETTO:+0200
TZNAME:CEST
DTSTART:20260329T010000
END:DAYLIGHT
BEGIN:STANDARD
TZOFFSETFROM:+0200
TZOFFSETTO:+0100
TZNAME:CET
DTSTART:20261025T010000
END:STANDARD
BEGIN:DAYLIGHT
TZOFFSETFROM:+0100
TZOFFSETTO:+0200
TZNAME:CEST
DTSTART:20270328T010000
END:DAYLIGHT
BEGIN:STANDARD
TZOFFSETFROM:+0200
TZOFFSETTO:+0100
TZNAME:CET
DTSTART:20271031T010000
END:STANDARD
END:VTIMEZONE
BEGIN:VEVENT
DTSTART;TZID=Europe/Berlin:20260602T183000
DTEND;TZID=Europe/Berlin:20260602T190000
DTSTAMP:20260422T182628
CREATED:20260219T155621Z
LAST-MODIFIED:20260219T155621Z
UID:18725-1780425000-1780426800@cisterscapes.eu
SUMMARY:Pietas Portensis - Chronique de l'association des portiers
DESCRIPTION:Présentation du livre \nL’association des anciens élèves de l’école régionale de Pforta fête son centenaire. À cette occasion\, une chronique est présentée pour la première fois. Elle met en lumière l’histoire mouvementée de l’association\, qui a été fondée en 1926 en réaction à des changements dans la politique de l’éducation\, qui a continué à exister pendant la période nazie\, qui s’est réorganisée en Allemagne de l’Ouest dans les années 50\, qui a encouragé la création d’une école à Meinerzhagen et qui travaille à nouveau pour l’alma mater de la Saale depuis 1990.   \nGratuit. \n 
URL:https://cisterscapes.eu/fr/event/pietas-portensis-chronique-de-lassociation-des-portiers/
LOCATION:Besucherzentrum der Stiftung Schulpforta\, Schulstraße 26\, Naumburg OT Bad Kösen\, Sachsen-Anhalt\, 06628\, Germany
CATEGORIES:cisterscapes,Pforta
END:VEVENT
BEGIN:VEVENT
DTSTART;TZID=Europe/Berlin:20260607T150000
DTEND;TZID=Europe/Berlin:20260607T163000
DTSTAMP:20260422T182628
CREATED:20260415T083714Z
LAST-MODIFIED:20260415T083714Z
UID:19874-1780844400-1780849800@cisterscapes.eu
SUMMARY:Visite guidée d'Ebrach : à la recherche de traces au cœur du paysage monastique !
DESCRIPTION:Visites guidées à Ebrach   \nEn arrivant à Ebrach\, on se croit soudain dans une résidence baroque au milieu du Steigerwald. Nous partons sur les traces des moines gris qui possédaient cette région. Même si l’ancien monastère abrite une prison depuis plus de 150 ans\, les traces de ces moines autrefois puissants et autosuffisants sont encore partout. En 2024\, le paysage monastique d’Ebrach a reçu le label du patrimoine européen. Suivez avec nous les traces des Cisterciens et découvrez pourquoi !     \nUn tour d’horizon du centre-ville avec visite de la salle baroque de l’Empereur (sauf événements spéciaux) - A la recherche de traces au cœur du paysage monastique \nPoint de rencontre : devant l’ancienne orangerie (centre d’information Cisterscapes)\, Oberer Abteigarten\, Ebrach. \nSaison : de mai à octobre\, tous les dimanches\, de 15h00 à 16h30 \nBillets sur : https://www.bamberg.info/veranstaltungen/rundgang_in_ebrach_auf_spurens-569119-12601707/ \nou sur place au centre d’information. \nPrix : 9 € par personne ; 8 € avec la carte de bénévole ; gratuit pour les enfants et les jeunes jusqu’à 16 ans. \nÀ la recherche des traces au cœur du paysage monastique est également disponible en tant que visite guidée pour les groupes. \nConseils et harmonisation individuelle des points forts sur steigerwaldtouren@t-online.de \nPrix : 125 € taille maximale du groupe 25 personnes. \nDurée environ 90 minutes. \nVisites guidées en langues étrangères sur demande.
URL:https://cisterscapes.eu/fr/event/visite-guidee-debrach-a-la-recherche-de-traces-au-coeur-du-paysage-monastique-4/
LOCATION:Centre d’information Orangerie Ebrach\, 5\, rue de l'Entrepôt\, Ebrach\, Bavière\, 96157\, Deutschland
CATEGORIES:Centre d'information,cisterscapes,Ebrach,Guide,partenaire
ORGANIZER;CN="KLOSTERlandschaftEBRACH (paysage du monast%C3%A8re)":MAILTO:rosa.karl@lra-ba.bayern.de
END:VEVENT
BEGIN:VEVENT
DTSTART;TZID=Europe/Berlin:20260607T153000
DTEND;TZID=Europe/Berlin:20260607T170000
DTSTAMP:20260422T182628
CREATED:20250422T112202Z
LAST-MODIFIED:20251215T104353Z
UID:9517-1780846200-1780851600@cisterscapes.eu
SUMMARY:Visites guidées Ebrach : à la recherche de traces au cœur du paysage monastique !
DESCRIPTION:Visites guidées à Ebrach   \nEn arrivant à Ebrach\, on se croit soudain dans une résidence baroque au milieu du Steigerwald. Nous partons sur les traces des moines gris qui possédaient cette région. Même si l’ancien monastère abrite une prison depuis plus de 150 ans\, les traces de ces moines autrefois puissants et autosuffisants sont encore partout. En 2024\, le paysage monastique d’Ebrach a reçu le label du patrimoine européen. Suivez avec nous les traces des Cisterciens et découvrez pourquoi !     \nUn tour d’horizon du centre-ville avec ses églises et ses jardins - A la recherche de traces au cœur du paysage monastique \nLieu de rendez-vous : devant l’ancienne orangerie (centre d’information Cisterscapes)\, jardin supérieur de l’abbaye \nSaison : de mai à octobre\, chaque deuxième dimanche\, 15h30-17h00 \nProchains rendez-vous : 13.07. et 27.07.\, 10.08. et 24.08.\, 7.09. et 21.09.\, 5.10. et 19.10.     \nBilletterie en ligne sur : https://www.bamberg.info/veranstaltungen/rundgang_in_ebrach_auf_spurens-569119-12525635/ \nou sur place au centre d’information \nPrix : 9 € par personne ; 8 € avec la carte de bénévole ; gratuit pour les enfants et les jeunes jusqu’à 16 ans. \nÀ la recherche des traces au cœur du paysage monastique est également disponible en tant que visite guidée pour les groupes. \nConseil et harmonisation individuelle des points forts au 0951 85 721 \nPrix : 90 € taille maximale du groupe 25 personnes. \nDurée environ 90 minutes. \nVisites guidées en langues étrangères sur demande.
URL:https://cisterscapes.eu/fr/event/visites-guidees-ebrach-a-la-recherche-de-traces-au-coeur-du-paysage-monastique-2/
CATEGORIES:cisterscapes,Ebrach,Guide,partenaire
ATTACH;FMTTYPE=image/jpeg:https://cisterscapes.eu/wp-content/uploads/2024/01/Ebrach-2009-44.jpg
END:VEVENT
BEGIN:VEVENT
DTSTART;TZID=Europe/Berlin:20260613T133000
DTEND;TZID=Europe/Berlin:20260613T183000
DTSTAMP:20260422T182628
CREATED:20260128T100702Z
LAST-MODIFIED:20260128T100759Z
UID:17694-1781357400-1781375400@cisterscapes.eu
SUMMARY:Randonnée dans les paysages monastiques : les origines de l'habitat dans le Stiftland
DESCRIPTION:Origines de l’habitat dans le Stiftland \nNATURpur-Tour : sur les traces des cisterciens V \nLe Stiftland a été créé pour ainsi dire à partir de rien et a dû se développer au fil des siècles pour devenir ce qu’il est aujourd’hui. Empruntez les sentiers boisés pour découvrir les premiers pas entre le monastère\, la forêt du monastère et les premières donations et propriétés des abbés de Waldsassen.  \nDurée : environ 5 heures\, environ 14 km\, 130 mH \nPoint de rencontre : Bad Neualbenreuth - Place du village de Wernersreuth \nFrais : 8\,00 € par jour \nNombre minimum de participants : 5 personnes \nDirection : Michael Rückl\, guide de randonnée DWV®/ZNL\, guide du paysage monastique \nInscription :   \njusqu’à la conférence de 12h à l’office du tourisme de Bad Neualbenreuth\,  Tél. 09638 / 933250\, badneualbenreuth@sibyllenbad.de  \nPour les randonnées\, il est nécessaire de porter des chaussures solides\, d’avoir le pied sûr et une bonne condition physique de base\, ainsi que des vêtements adaptés aux conditions météorologiques\, des boissons et un petit casse-croûte sont recommandés pour la route. En cas de conditions météorologiques dangereuses\, la randonnée ou la visite guidée est annulée. La participation à toutes les activités se fait sous votre propre responsabilité.
URL:https://cisterscapes.eu/fr/event/randonnee-dans-le-paysage-monastique-les-origines-de-lhabitat-dans-le-stiftland/
CATEGORIES:cisterscapes,Waldsassen
ATTACH;FMTTYPE=image/jpeg:https://cisterscapes.eu/wp-content/uploads/2026/01/Siedlungsurspruenge.jpg
END:VEVENT
BEGIN:VEVENT
DTSTART;TZID=Europe/Berlin:20260614T150000
DTEND;TZID=Europe/Berlin:20260614T163000
DTSTAMP:20260422T182628
CREATED:20260415T083934Z
LAST-MODIFIED:20260415T083934Z
UID:19881-1781449200-1781454600@cisterscapes.eu
SUMMARY:Visite guidée d'Ebrach : à la recherche de traces au cœur du paysage monastique !
DESCRIPTION:Visites guidées à Ebrach   \nEn arrivant à Ebrach\, on se croit soudain dans une résidence baroque au milieu du Steigerwald. Nous partons sur les traces des moines gris qui possédaient cette région. Même si l’ancien monastère abrite une prison depuis plus de 150 ans\, les traces de ces moines autrefois puissants et autosuffisants sont encore partout. En 2024\, le paysage monastique d’Ebrach a reçu le label du patrimoine européen. Suivez avec nous les traces des Cisterciens et découvrez pourquoi !     \nUn tour d’horizon du centre-ville avec visite de la salle baroque de l’Empereur (sauf événements spéciaux) - A la recherche de traces au cœur du paysage monastique \nPoint de rencontre : devant l’ancienne orangerie (centre d’information Cisterscapes)\, Oberer Abteigarten\, Ebrach. \nSaison : de mai à octobre\, tous les dimanches\, de 15h00 à 16h30 \nBillets sur : https://www.bamberg.info/veranstaltungen/rundgang_in_ebrach_auf_spurens-569119-12601707/ \nou sur place au centre d’information. \nPrix : 9 € par personne ; 8 € avec la carte de bénévole ; gratuit pour les enfants et les jeunes jusqu’à 16 ans. \nÀ la recherche des traces au cœur du paysage monastique est également disponible en tant que visite guidée pour les groupes. \nConseils et harmonisation individuelle des points forts sur steigerwaldtouren@t-online.de \nPrix : 125 € taille maximale du groupe 25 personnes. \nDurée environ 90 minutes. \nVisites guidées en langues étrangères sur demande.
URL:https://cisterscapes.eu/fr/event/visite-guidee-debrach-a-la-recherche-de-traces-au-coeur-du-paysage-monastique-5/
LOCATION:Centre d’information Orangerie Ebrach\, 5\, rue de l'Entrepôt\, Ebrach\, Bavière\, 96157\, Deutschland
CATEGORIES:cisterscapes,Ebrach,Guide,partenaire
ORGANIZER;CN="KLOSTERlandschaftEBRACH (paysage du monast%C3%A8re)":MAILTO:rosa.karl@lra-ba.bayern.de
END:VEVENT
BEGIN:VEVENT
DTSTART;TZID=Europe/Berlin:20260614T153000
DTEND;TZID=Europe/Berlin:20260614T170000
DTSTAMP:20260422T182628
CREATED:20250422T113111Z
LAST-MODIFIED:20251215T104944Z
UID:9530-1781451000-1781456400@cisterscapes.eu
SUMMARY:Visites guidées Ebrach : à la recherche de traces au cœur du paysage monastique !
DESCRIPTION:Visites guidées à Ebrach   \nEn arrivant à Ebrach\, on se croit soudain dans une résidence baroque au milieu du Steigerwald. Nous partons sur les traces des moines gris qui possédaient cette région. Même si l’ancien monastère abrite une prison depuis plus de 150 ans\, les traces de ces moines autrefois puissants et autosuffisants sont encore partout. En 2024\, le paysage monastique d’Ebrach a reçu le label du patrimoine européen. Suivez avec nous les traces des Cisterciens et découvrez pourquoi !     \nUn tour d’horizon du centre-ville avec ses églises et ses jardins - A la recherche de traces au cœur du paysage monastique \nLieu de rendez-vous : devant l’ancienne orangerie (centre d’information Cisterscapes)\, jardin supérieur de l’abbaye \nSaison : de mai à octobre\, tous les dimanches\, 15h30-17h00 \nBilletterie en ligne sur : https://www.bamberg.info/veranstaltungen/rundgang_in_ebrach_auf_spurens-569119-12525635/ \nou sur place au centre d’information \nPrix : 9 € par personne ; 8 € avec la carte de bénévole ; gratuit pour les enfants et les jeunes jusqu’à 16 ans. \nÀ la recherche des traces au cœur du paysage monastique est également disponible en tant que visite guidée pour les groupes. \nConseil et harmonisation individuelle des points forts au 0951 85 721 \nPrix : 90 € taille maximale du groupe 25 personnes. \nDurée environ 90 minutes. \nVisites guidées en langues étrangères sur demande.
URL:https://cisterscapes.eu/fr/event/visites-guidees-ebrach-a-la-recherche-de-traces-au-coeur-du-paysage-monastique-4/
CATEGORIES:cisterscapes,Ebrach,Guide,partenaire
ATTACH;FMTTYPE=image/jpeg:https://cisterscapes.eu/wp-content/uploads/2024/01/Ebrach-2009-44.jpg
END:VEVENT
BEGIN:VEVENT
DTSTART;TZID=Europe/Berlin:20260614T170000
DTEND;TZID=Europe/Berlin:20260614T183000
DTSTAMP:20260422T182628
CREATED:20251215T090811Z
LAST-MODIFIED:20251215T090811Z
UID:16259-1781456400-1781461800@cisterscapes.eu
SUMMARY:CONCERTS INTERNATIONAUX D'ORGANES EBRACH : Karol Mossakowski (organiste titulaire\, Saint-Sulpice\, Paris)
DESCRIPTION:PROGRAMME \nJohann Sebastian Bach (1685-1750)\nPrélude et Fugue en ut mineur BWV 546 \nChorals de Schübler en alternance avec des improvisations de Karol Mossakowski \nRéveillez-vous\, la voix nous appelle\nOù dois-je m’enfuir\nWer nur den lieben Gott walten lassen\nMon âme exalte le Seigneur\nAch bleib bei uns\, Herr Jesu Christ\nViens-tu maintenant\, Jésus\, du ciel sur la terre \nMax Reger (1873-1916)\nIntroduction et passacaille en ré mineur \n\n\n\n\n\nEntrée gratuite.\nNous serions très heureux de recevoir votre don pour la préservation des orgues !
URL:https://cisterscapes.eu/fr/event/concerts-internationaux-dorganes-ebrach-karol-mossakowski-organiste-titulaire-saint-sulpice-paris/
LOCATION:Assomption de la Vierge\, Ebrach (ancienne église abbatiale)\, Bamberger Strasse 2\, Ebrach\, 96157\, Germany
CATEGORIES:cisterscapes,Concert,Ebrach,partenaire
ATTACH;FMTTYPE=image/jpeg:https://cisterscapes.eu/wp-content/uploads/2025/12/Karol_Mossakowski-SD-copyright-Marie_Rolland.jpg
END:VEVENT
BEGIN:VEVENT
DTSTART;TZID=Europe/Berlin:20260621T150000
DTEND;TZID=Europe/Berlin:20260621T163000
DTSTAMP:20260422T182628
CREATED:20260415T084459Z
LAST-MODIFIED:20260415T084459Z
UID:19891-1782054000-1782059400@cisterscapes.eu
SUMMARY:Visite guidée d'Ebrach : à la recherche de traces au cœur du paysage monastique !
DESCRIPTION:Visites guidées à Ebrach   \nEn arrivant à Ebrach\, on se croit soudain dans une résidence baroque au milieu du Steigerwald. Nous partons sur les traces des moines gris qui possédaient cette région. Même si l’ancien monastère abrite une prison depuis plus de 150 ans\, les traces de ces moines autrefois puissants et autosuffisants sont encore partout. En 2024\, le paysage monastique d’Ebrach a reçu le label du patrimoine européen. Suivez avec nous les traces des Cisterciens et découvrez pourquoi !     \nUn tour d’horizon du centre-ville avec visite de la salle baroque de l’Empereur (sauf événements spéciaux) - A la recherche de traces au cœur du paysage monastique \nPoint de rencontre : devant l’ancienne orangerie (centre d’information Cisterscapes)\, Oberer Abteigarten\, Ebrach. \nSaison : de mai à octobre\, tous les dimanches\, de 15h00 à 16h30 \nBillets sur : https://www.bamberg.info/veranstaltungen/rundgang_in_ebrach_auf_spurens-569119-12601707/ \nou sur place au centre d’information. \nPrix : 9 € par personne ; 8 € avec la carte de bénévole ; gratuit pour les enfants et les jeunes jusqu’à 16 ans. \nÀ la recherche des traces au cœur du paysage monastique est également disponible en tant que visite guidée pour les groupes. \nConseils et harmonisation individuelle des points forts sur steigerwaldtouren@t-online.de \nPrix : 125 € taille maximale du groupe 25 personnes. \nDurée environ 90 minutes. \nVisites guidées en langues étrangères sur demande.
URL:https://cisterscapes.eu/fr/event/visite-guidee-debrach-a-la-recherche-de-traces-au-coeur-du-paysage-monastique-6/
LOCATION:Centre d’information Orangerie Ebrach\, 5\, rue de l'Entrepôt\, Ebrach\, Bavière\, 96157\, Deutschland
CATEGORIES:Centre d'information,cisterscapes,Ebrach,Guide,partenaire
ORGANIZER;CN="KLOSTERlandschaftEBRACH (paysage du monast%C3%A8re)":MAILTO:rosa.karl@lra-ba.bayern.de
END:VEVENT
BEGIN:VEVENT
DTSTART;TZID=Europe/Berlin:20260621T153000
DTEND;TZID=Europe/Berlin:20260621T170000
DTSTAMP:20260422T182628
CREATED:20250422T113406Z
LAST-MODIFIED:20251215T104841Z
UID:9538-1782055800-1782061200@cisterscapes.eu
SUMMARY:Visites guidées Ebrach : à la recherche de traces au cœur du paysage monastique !
DESCRIPTION:Visites guidées à Ebrach   \nEn arrivant à Ebrach\, on se croit soudain dans une résidence baroque au milieu du Steigerwald. Nous partons sur les traces des moines gris qui possédaient cette région. Même si l’ancien monastère abrite une prison depuis plus de 150 ans\, les traces de ces moines autrefois puissants et autosuffisants sont encore partout. En 2024\, le paysage monastique d’Ebrach a reçu le label du patrimoine européen. Suivez avec nous les traces des Cisterciens et découvrez pourquoi !     \nUn tour d’horizon du centre-ville avec ses églises et ses jardins - A la recherche de traces au cœur du paysage monastique \nLieu de rendez-vous : devant l’ancienne orangerie (centre d’information Cisterscapes)\, jardin supérieur de l’abbaye \nSaison : de mai à octobre\, tous les dimanches\, 15h30-17h00 \nBilletterie en ligne sur : https://www.bamberg.info/veranstaltungen/rundgang_in_ebrach_auf_spurens-569119-12525635/ \nou sur place au centre d’information \nPrix : 9 € par personne ; 8 € avec la carte de bénévole ; gratuit pour les enfants et les jeunes jusqu’à 16 ans. \nÀ la recherche des traces au cœur du paysage monastique est également disponible en tant que visite guidée pour les groupes. \nConseil et harmonisation individuelle des points forts au 0951 85 721 \nPrix : 90 € taille maximale du groupe 25 personnes. \nDurée environ 90 minutes. \nVisites guidées en langues étrangères sur demande.
URL:https://cisterscapes.eu/fr/event/visites-guidees-ebrach-a-la-recherche-de-traces-au-coeur-du-paysage-monastique-5/
CATEGORIES:cisterscapes,Ebrach,Guide,partenaire
ATTACH;FMTTYPE=image/jpeg:https://cisterscapes.eu/wp-content/uploads/2024/01/Ebrach-2009-44.jpg
END:VEVENT
BEGIN:VEVENT
DTSTART;TZID=Europe/Berlin:20260628T150000
DTEND;TZID=Europe/Berlin:20260628T150000
DTSTAMP:20260422T182628
CREATED:20250422T113628Z
LAST-MODIFIED:20260415T082242Z
UID:9545-1782658800-1782658800@cisterscapes.eu
SUMMARY:Visites guidées Ebrach : à la recherche de traces au cœur du paysage monastique !
DESCRIPTION:Visites guidées à Ebrach   \nEn arrivant à Ebrach\, on se croit soudain dans une résidence baroque au milieu du Steigerwald. Nous partons sur les traces des moines gris qui possédaient cette région. Même si l’ancien monastère abrite une prison depuis plus de 150 ans\, les traces de ces moines autrefois puissants et autosuffisants sont encore partout. En 2024\, le paysage monastique d’Ebrach a reçu le label du patrimoine européen. Suivez avec nous les traces des Cisterciens et découvrez pourquoi !     \nUn tour d’horizon du centre-ville avec visite de la salle baroque de l’Empereur (sauf événements spéciaux) - A la recherche de traces au cœur du paysage monastique \nPoint de rencontre : devant l’ancienne orangerie (centre d’information Cisterscapes)\, Oberer Abteigarten\, Ebrach. \nSaison : de mai à octobre\, tous les dimanches\, de 15h00 à 16h30 \nBillets sur : https://www.bamberg.info/veranstaltungen/rundgang_in_ebrach_auf_spurens-569119-12601707/ \nou sur place au centre d’information. \nPrix : 9 € par personne ; 8 € avec la carte de bénévole ; gratuit pour les enfants et les jeunes jusqu’à 16 ans. \nÀ la recherche des traces au cœur du paysage monastique est également disponible en tant que visite guidée pour les groupes. \nConseils et harmonisation individuelle des points forts sur steigerwaldtouren@t-online.de \nPrix : 125 € taille maximale du groupe 25 personnes. \nDurée environ 90 minutes. \nVisites guidées en langues étrangères sur demande.
URL:https://cisterscapes.eu/fr/event/visites-guidees-ebrach-a-la-recherche-de-traces-au-coeur-du-paysage-monastique-6/
LOCATION:Centre d’information Orangerie Ebrach\, 5\, rue de l'Entrepôt\, Ebrach\, Bavière\, 96157\, Deutschland
CATEGORIES:cisterscapes,Ebrach,Guide,partenaire
ATTACH;FMTTYPE=image/jpeg:https://cisterscapes.eu/wp-content/uploads/2024/01/Ebrach-2009-44.jpg
ORGANIZER;CN="KLOSTERlandschaftEBRACH (paysage du monast%C3%A8re)":MAILTO:rosa.karl@lra-ba.bayern.de
END:VEVENT
BEGIN:VEVENT
DTSTART;TZID=Europe/Berlin:20260628T150000
DTEND;TZID=Europe/Berlin:20260628T170000
DTSTAMP:20260422T182628
CREATED:20251215T094833Z
LAST-MODIFIED:20251215T094851Z
UID:16353-1782658800-1782666000@cisterscapes.eu
SUMMARY:Été musical d'Ebrach : Barock Virtuos
DESCRIPTION:Virtuose baroque\nJean-Sébastien Bach (1685-1750)\nSuite pour orchestre n°3 en ré majeur BWV 1068\nConcerto pour violon\, hautbois et orchestre en ut mineur BWV 1060R\nConcerto pour deux violons et orchestre en ré mineur BWV 1043\nGeorg Friedrich Händel (1685-1759)\nMusique de l’eau\, Suite II en ré majeur \nOrchestre avec les musiciens du Gewandhaus de Leipzig\nGerd Schaller\, chef d’orchestre \nLa musique baroque festive dans la salle impériale\, avec des œuvres de Jean-Sébastien Bach et de Georg Friedrich Haendel\, a toujours joui d’une grande popularité. Lorsqu’en plus\, des musiciens de l’orchestre du Gewandhaus de Leipzig donnent ce concert\, l’affluence est particulièrement grande. L’expérience montre que le spectacle traditionnel des musiciens de Leipzig dans le cadre de l’été musical d’Ebrach est rapidement complet - il vaut donc la peine de réserver ses billets à l’avance !\nSous le titre VIRTUOSES BAROQUES\, le programme comprend cette fois-ci de véritables joyaux du répertoire baroque\, et les concertos pour solistes présentés promettent un plaisir auditif tout particulier. La Suite pour orchestre n°3 de Jean-Sébastien Bach offre des sonorités particulièrement festives\, et le célèbre Air qui en est extrait est l’une des œuvres les plus connues de Bach. Son concerto pour violon et hautbois est souvent considéré comme une adaptation de l’ancien concerto pour clavecin de Bach\, le violon et le hautbois jouant le rôle du clavecin. Dans le concerto pour deux violons\, les deux solistes s’affrontent dans une compétition pleine de tension. Le programme est complété par la suite en ré majeur de la Water Music de Haendel\, qui fait revivre la splendeur passée d’une croisière royale sur un fleuve. Un régal musical qui ne manquera pas de vous enthousiasmer !      \nSous réserve de modifications. \nBillets à 39 | 44 | 49 €
URL:https://cisterscapes.eu/fr/event/ete-musical-debrach-barock-virtuos/
LOCATION:Salle impériale\, ancienne abbaye\, Ebrach\, Place du marché 1\, Ebrach\, Choisir l'État fédéral :\, 96157\, Germany
CATEGORIES:cisterscapes,Concert,Ebrach,partenaire
ATTACH;FMTTYPE=image/jpeg:https://cisterscapes.eu/wp-content/uploads/2025/12/Kaisersaalebracher-musiksommer-1932.jpg
ORGANIZER;CN="%C3%89t%C3%A9 musical d'Ebrach":MAILTO:info@ebracher-musiksommer.de
END:VEVENT
END:VCALENDAR