BEGIN:VCALENDAR
VERSION:2.0
PRODID:-//Cisterscapes - ECPv6.15.11//NONSGML v1.0//EN
CALSCALE:GREGORIAN
METHOD:PUBLISH
X-ORIGINAL-URL:https://cisterscapes.eu/fr/
X-WR-CALDESC:Évènements pour Cisterscapes
REFRESH-INTERVAL;VALUE=DURATION:PT1H
X-Robots-Tag:noindex
X-PUBLISHED-TTL:PT1H
BEGIN:VTIMEZONE
TZID:Europe/Berlin
BEGIN:DAYLIGHT
TZOFFSETFROM:+0100
TZOFFSETTO:+0200
TZNAME:CEST
DTSTART:20250330T010000
END:DAYLIGHT
BEGIN:STANDARD
TZOFFSETFROM:+0200
TZOFFSETTO:+0100
TZNAME:CET
DTSTART:20251026T010000
END:STANDARD
BEGIN:DAYLIGHT
TZOFFSETFROM:+0100
TZOFFSETTO:+0200
TZNAME:CEST
DTSTART:20260329T010000
END:DAYLIGHT
BEGIN:STANDARD
TZOFFSETFROM:+0200
TZOFFSETTO:+0100
TZNAME:CET
DTSTART:20261025T010000
END:STANDARD
BEGIN:DAYLIGHT
TZOFFSETFROM:+0100
TZOFFSETTO:+0200
TZNAME:CEST
DTSTART:20270328T010000
END:DAYLIGHT
BEGIN:STANDARD
TZOFFSETFROM:+0200
TZOFFSETTO:+0100
TZNAME:CET
DTSTART:20271031T010000
END:STANDARD
END:VTIMEZONE
BEGIN:VEVENT
DTSTART;TZID=Europe/Berlin:20261003T170000
DTEND;TZID=Europe/Berlin:20261003T183000
DTSTAMP:20260423T012007
CREATED:20251215T093103Z
LAST-MODIFIED:20251215T093103Z
UID:16307-1791046800-1791052200@cisterscapes.eu
SUMMARY:CONCERTS INTERNATIONAUX D'ORGUES EBRACH : Konstantin Reymaier (organiste de la cathédrale Saint-Étienne\, Vienne)
DESCRIPTION:PROGRAMME \nCésar Franck (1822-1870)\nChoral n° 1 en mi majeur \nJohann Sebastian Bach (1685-1750) :\nPartite diverse sopra « Ach\, was soll ich Sünder machen » BWV 770 \nRobert Schumann (1810-1856)\nNachtstücke op. 23 \nCharles Marie Widor (1844-1937)\nSymphonie n° 6 en sol mineur\, Finale \n\n\n\n\n\nEntrée gratuite.\nNous serions très heureux de recevoir votre don pour la préservation des orgues !
URL:https://cisterscapes.eu/fr/event/concerts-internationaux-dorgues-ebrach-konstantin-reymaier-organiste-de-la-cathedrale-saint-etienne-vienne/
LOCATION:Assomption de la Vierge\, Ebrach (ancienne église abbatiale)\, Bamberger Strasse 2\, Ebrach\, 96157\, Germany
CATEGORIES:cisterscapes,Concert,Ebrach,partenaire
ATTACH;FMTTYPE=image/jpeg:https://cisterscapes.eu/wp-content/uploads/2025/12/KReymaier2-685x1024-copyright-KonstantinReymaier.jpg
END:VEVENT
BEGIN:VEVENT
DTSTART;VALUE=DATE:20261010
DTEND;VALUE=DATE:20261011
DTSTAMP:20260423T012007
CREATED:20251211T082100Z
LAST-MODIFIED:20260223T075701Z
UID:16127-1791590400-1791676799@cisterscapes.eu
SUMMARY:Le monastère d'Ebrach et l'économie des étangs cisterciens - voyage en bus d'époque
DESCRIPTION:Le trajet en bus ancien de la société Vogel nous mène à Ebrach où nous découvrons l’impressionnant ancien monastère cistercien - un aperçu de la splendeur des temps passés.  \nNous dégusterons ensuite des spécialités régionales dans un restaurant traditionnel de Franconie\, avant de nous promener dans la réserve naturelle de Weihergrund. Nous y apprendrons des choses passionnantes sur la gestion historique des étangs et profiterons du paysage idyllique autour des étangs.  \nPour finir\, nous visiterons le centre Steigerwald à Handthal\, où des aperçus de la nature et de la culture de la région nous attendent\, et nous terminerons la journée en nous détendant autour d’un café et d’un gâteau. \nRéservation auprès d’Omnibus-Vogel.
URL:https://cisterscapes.eu/fr/event/le-monastere-debrach-et-leconomie-des-etangs-cisterciens-voyage-en-bus-depoque/
LOCATION:Omnibus Vogel Höchstadt/Aisch\, 62\, rue Große Bauerngasse\, Höchstadt/Aisch\, Bavière\, 91315\, Germany
CATEGORIES:cisterscapes,Ebrach
ORGANIZER;CN="Omnibus Vogel H%C3%B6chstadt/Aisch":MAILTO:info@vogel-omnibus.de
END:VEVENT
BEGIN:VEVENT
DTSTART;TZID=Europe/Berlin:20261010T133000
DTEND;TZID=Europe/Berlin:20261010T173000
DTSTAMP:20260423T012007
CREATED:20260128T101313Z
LAST-MODIFIED:20260128T101330Z
UID:17721-1791639000-1791653400@cisterscapes.eu
SUMMARY:Randonnée dans le paysage monastique : les collines des tours - germes du paysage monastique
DESCRIPTION:Les collines à tours - les germes du paysage monastique   \nNATURpur-Tour : sur les traces des cisterciens I \nLa domination du monastère de Waldsassen a eu une influence considérable sur le développement régional\, notamment par l’appropriation des structures existantes. \nCachés dans le paysage\, vous découvrirez des traces d’occupation pré-monastique\, des sites simplement fortifiés d’un habitat préexistant. \nDurée : environ 4 - 5 heures\, environ 13 km\, 120 mH \nPoint de rencontre : Bad Neualbenreuth - Maison des amis de la nature Wernersreuth \nFrais : 8\,00 € par jour \nNombre minimum de participants : 5 personnes \nDirection : \nMichael Rückl\, guide de randonnée DWV®/ZNL\, guide du paysage monastique \nInscription :   \njusqu’à la conférence de 12h à l’office du tourisme de Bad Neualbenreuth\,  Tél. 09638 / 933250\, badneualbenreuth@sibyllenbad.de   \nPour les randonnées\, il est nécessaire de porter des chaussures solides\, d’avoir le pied sûr et une bonne condition physique de base\, ainsi que des vêtements adaptés aux conditions météorologiques\, des boissons et un petit casse-croûte sont recommandés pour la route. En cas de conditions météorologiques dangereuses\, la randonnée ou la visite guidée est annulée. La participation à toutes les activités se fait sous votre propre responsabilité.
URL:https://cisterscapes.eu/fr/event/randonnee-dans-le-paysage-monastique-les-collines-des-tours-germes-du-paysage-monastique/
CATEGORIES:cisterscapes,Waldsassen
ATTACH;FMTTYPE=image/jpeg:https://cisterscapes.eu/wp-content/uploads/2026/01/Turmhuegel.jpg
END:VEVENT
BEGIN:VEVENT
DTSTART;TZID=Europe/Berlin:20261025T103000
DTEND;TZID=Europe/Berlin:20261025T143000
DTSTAMP:20260423T012007
CREATED:20260220T113259Z
LAST-MODIFIED:20260220T113259Z
UID:18850-1792924200-1792938600@cisterscapes.eu
SUMMARY:Les Cisterciens - maîtres de l'aménagement hydraulique de la Saale
DESCRIPTION:Cette randonnée guidée vous emmène sur les traces des grands paysagistes du Moyen-Âge : le long de la Petite Saale\, vous découvrirez Bad Kösen\, les vignobles de Saalhausen\, la maison des poissons et le moulin d’Almrich. Il s’agit d’un circuit varié qui montre de manière impressionnante l’étendue de l’œuvre des moines. La randonnée est très bien adaptée aux familles.   \nBillet : 12 €.
URL:https://cisterscapes.eu/fr/event/les-cisterciens-maitres-de-lamenagement-hydraulique-de-la-saale-3/
LOCATION:Besucherzentrum der Stiftung Schulpforta\, Schulstraße 26\, Naumburg OT Bad Kösen\, Sachsen-Anhalt\, 06628\, Germany
CATEGORIES:cisterscapes,Pforta
END:VEVENT
END:VCALENDAR