BEGIN:VCALENDAR
VERSION:2.0
PRODID:-//Cisterscapes - ECPv6.15.11//NONSGML v1.0//EN
CALSCALE:GREGORIAN
METHOD:PUBLISH
X-WR-CALNAME:Cisterscapes
X-ORIGINAL-URL:https://cisterscapes.eu/sl/
X-WR-CALDESC:Dogodki za Cisterscapes
REFRESH-INTERVAL;VALUE=DURATION:PT1H
X-Robots-Tag:noindex
X-PUBLISHED-TTL:PT1H
BEGIN:VTIMEZONE
TZID:Europe/Berlin
BEGIN:DAYLIGHT
TZOFFSETFROM:+0100
TZOFFSETTO:+0200
TZNAME:CEST
DTSTART:20250330T010000
END:DAYLIGHT
BEGIN:STANDARD
TZOFFSETFROM:+0200
TZOFFSETTO:+0100
TZNAME:CET
DTSTART:20251026T010000
END:STANDARD
BEGIN:DAYLIGHT
TZOFFSETFROM:+0100
TZOFFSETTO:+0200
TZNAME:CEST
DTSTART:20260329T010000
END:DAYLIGHT
BEGIN:STANDARD
TZOFFSETFROM:+0200
TZOFFSETTO:+0100
TZNAME:CET
DTSTART:20261025T010000
END:STANDARD
BEGIN:DAYLIGHT
TZOFFSETFROM:+0100
TZOFFSETTO:+0200
TZNAME:CEST
DTSTART:20270328T010000
END:DAYLIGHT
BEGIN:STANDARD
TZOFFSETFROM:+0200
TZOFFSETTO:+0100
TZNAME:CET
DTSTART:20271031T010000
END:STANDARD
END:VTIMEZONE
BEGIN:VEVENT
DTSTART;TZID=Europe/Berlin:20260423T150000
DTEND;TZID=Europe/Berlin:20260423T170000
DTSTAMP:20260423T013715
CREATED:20260128T103223Z
LAST-MODIFIED:20260128T103223Z
UID:17741-1776956400-1776963600@cisterscapes.eu
SUMMARY:Voden ogled: (skoraj) vzdolž samostanskega obzidja
DESCRIPTION:V skladu z redovnim pravilom ORA et LABORA (Moli in delaj) so bile naloge cistercijanskih menihov zelo raznolike\, kar je razvidno iz različnih krajev v samostanu Waldsassen. \nTrajanje: približno 2 uri; razdalja približno 2\,5 km \nZbirno mesto: Waldsassen\, Diepoldbrunnen \nPristojbina: 5\,00 € \nNajmanjše število udeležencev: 8 oseb; največ 12 oseb \nVodja: Michaela Müller\, vodnica po samostanski pokrajini \nPrijava je obvezna do 12. ure na dan prej v turistično-informacijskem centru Waldsassen\,  Tel. 09632 / 88160\, tourist-info@waldsassen.de  \nV primeru nevarnih vremenskih razmer bo zadevni pohod ali vodeni izlet odpovedan. Udeležba na vseh dogodkih je na lastno odgovornost.   \n 
URL:https://cisterscapes.eu/sl/event/voden-ogled-skoraj-vzdolz-samostanskega-obzidja/
CATEGORIES:cisterscapes,Waldsassen
ATTACH;FMTTYPE=image/jpeg:https://cisterscapes.eu/wp-content/uploads/2026/01/Fast-entlang.jpg
END:VEVENT
BEGIN:VEVENT
DTSTART;TZID=Europe/Berlin:20260423T163000
DTEND;TZID=Europe/Berlin:20260423T173000
DTSTAMP:20260423T013715
CREATED:20260415T085754Z
LAST-MODIFIED:20260415T085754Z
UID:19906-1776961800-1776965400@cisterscapes.eu
SUMMARY:Dr. Markus Kranner\, Tatort Franken: Kamniti grob velikanskih dvoživk
DESCRIPTION:Markus Kranner\, paleontolog iz geološke službe državnega urada za okolje\, nam predstavi najdbo stoletja. V kamnolomu v Rauhenebrachu so našli 10 fosilov lobanj iz triasnega obdobja: Množično grobišče orjaških dvoživk. “Iz skale pred nami je štrlela 70 centimetrov dolga spodnja čeljust\, posejana z ostrimi zobmi\, podobnimi zobem sodobnih krokodilov. V okoliških skalah smo lahko prepoznali še številne druge kostne ostanke\,” o odkritju pove zaposleni. Preberite več o tem vznemirljivem kriminalističnem primeru iz prazgodovine!  \nKako lahko sodelujem? Na kraju samem: LRA Bamberg\, nekdanji poštni stolp\, vhod A\, 1. nadstropje (N 100) ali povezava iz sejne sobe Orangerie Ebrach.   \nali prek spleta - iz udobja domačega kavča - prek webexa (udeležba je mogoča prek brskalnika ali aplikacije). \nPovezava na srečanje: \nhttps://landratsamt-bamberg.webex.com/landratsamt-bamberg/j.php?MTID=me3750e76207a9d10c7031f77b4de2ea1 \nIdentifikacijska številka sestanka: 2786 387 2931 \nGeslo: CMvugZJv936 \nNaš lastni Ebrachsaurus alias Frankenzilla alias Cyclotosaurus Ebrachensis - orjaška mesojeda dvoživka iz obdobja triasa\, dolga do 4\,5 metra - je resnično impresiven. Še dobro\, da ga lahko srečate le kot fosil;-)  \nČe želite izvedeti več in občudovati fosile v izvirniku: V Hofu je do 29. maja na ogled zelo zanimiva razstava: https://www.lfu.bayern.de/veranstaltungen/termin_detail.htm?id=747  \nSlika Fankenzille je bila posneta med tekmovanjem za njeno poimenovanje. Imetnik avtorskih pravic: Bavarski državni urad za okolje Fankenzilla\, Dino-Killa Ustvarjeno s: OpenAI Sora\, 07/2025; DOI: pboxx-pixelboxx-3630188
URL:https://cisterscapes.eu/sl/event/dr-markus-kranner-tatort-franken-kamniti-grob-velikanskih-dvozivk/
LOCATION:Poštni stolp Bamberg
CATEGORIES:cisterscapes,Ebrach,Informacijsko središče,partner,Predavanje
ORGANIZER;CN="Pokrajina klo%C5%A1traEBRACH":MAILTO:rosa.karl@lra-ba.bayern.de
END:VEVENT
END:VCALENDAR