BEGIN:VCALENDAR
VERSION:2.0
PRODID:-//Cisterscapes - ECPv6.15.11//NONSGML v1.0//EN
CALSCALE:GREGORIAN
METHOD:PUBLISH
X-WR-CALNAME:Cisterscapes
X-ORIGINAL-URL:https://cisterscapes.eu/sl/
X-WR-CALDESC:Dogodki za Cisterscapes
REFRESH-INTERVAL;VALUE=DURATION:PT1H
X-Robots-Tag:noindex
X-PUBLISHED-TTL:PT1H
BEGIN:VTIMEZONE
TZID:Europe/Berlin
BEGIN:DAYLIGHT
TZOFFSETFROM:+0100
TZOFFSETTO:+0200
TZNAME:CEST
DTSTART:20250330T010000
END:DAYLIGHT
BEGIN:STANDARD
TZOFFSETFROM:+0200
TZOFFSETTO:+0100
TZNAME:CET
DTSTART:20251026T010000
END:STANDARD
BEGIN:DAYLIGHT
TZOFFSETFROM:+0100
TZOFFSETTO:+0200
TZNAME:CEST
DTSTART:20260329T010000
END:DAYLIGHT
BEGIN:STANDARD
TZOFFSETFROM:+0200
TZOFFSETTO:+0100
TZNAME:CET
DTSTART:20261025T010000
END:STANDARD
BEGIN:DAYLIGHT
TZOFFSETFROM:+0100
TZOFFSETTO:+0200
TZNAME:CEST
DTSTART:20270328T010000
END:DAYLIGHT
BEGIN:STANDARD
TZOFFSETFROM:+0200
TZOFFSETTO:+0100
TZNAME:CET
DTSTART:20271031T010000
END:STANDARD
END:VTIMEZONE
BEGIN:VEVENT
DTSTART;TZID=Europe/Berlin:20260424T140000
DTEND;TZID=Europe/Berlin:20260425T153000
DTSTAMP:20260424T013025
CREATED:20260113T083008Z
LAST-MODIFIED:20260120T151033Z
UID:16581-1777039200-1777131000@cisterscapes.eu
SUMMARY:Tečaj: Gradnja in rekonstrukcija suhega kamnitega zidu
DESCRIPTION:Kamen za kamnom - delavnica: Gradnja in rekonstrukcija suhega kamnitega zidu \nSuhi kamniti zidovi so že stoletja značilen element naše kulturne krajine. Zlasti na strmih pobočjih\, kjer se goji vinska trta. Niso le funkcionalni\, temveč tudi del žive zgodovine. Vinograd samostana Maulbronn je izjemen primer teh zidov\, zgrajenih iz trsnega peščenjaka. V srednjem veku so ga delno uredili\, zdaj pa se ponovno uporablja kot vinograd na zahodu.     \nZakaj so suhi kamniti zidovi tako posebni?\n✓ Čista izdelava - s tradicionalnim znanjem\n✓ Naravna gradnja - s kamni iz regije\n✓ Trajni in stabilni - saj so odporni tudi proti mrazu\n✓ Stabilizacija pobočij - ohranjajo humus na terasah\n✓ Shranjevanje toplote - čez dan shranjujejo sonce\, ponoči oddajajo toploto\n✓ Večja biotska raznovrstnost - ekološko dragocen habitat rastlin in živali\n✓ Lokalna rekreacijska vrednost - doživetje krajine in edinstveni pogledi med sprehodi \nToda narava pušča posledice: suhi kamniti zidovi so izpostavljeni vremenskim vplivom in jih je treba redno vzdrževati ali obnoviti na poškodovanih mestih. \nSpoznajte umetnost zidanja suhih kamnitih zidov na lastni koži \nV okviru naše delavnice se bodo udeleženci naučili umetnosti gradnje suhega kamnitega zidu: od osnov obdelave kamna do strokovnih navodil za gradnjo in rekonstrukcijo vinogradniškega suhega kamnitega zidu. \nPodrobnejše informacije o programu\, prizoriščih in kotizaciji so na voljo na naslednji povezavi: \nDrywalls_Flyer.indd
URL:https://cisterscapes.eu/sl/event/tecaj-gradnja-in-rekonstrukcija-suhega-kamnitega-zidu/
LOCATION:Bavarska
CATEGORIES:Maulbronn
ATTACH;FMTTYPE=image/jpeg:https://cisterscapes.eu/wp-content/uploads/2026/01/Closterweinberg-Maulbronn-scaled.jpg
END:VEVENT
END:VCALENDAR