BEGIN:VCALENDAR
VERSION:2.0
PRODID:-//Cisterscapes - ECPv6.15.11//NONSGML v1.0//EN
CALSCALE:GREGORIAN
METHOD:PUBLISH
X-ORIGINAL-URL:https://cisterscapes.eu/sl/
X-WR-CALDESC:Dogodki za Cisterscapes
REFRESH-INTERVAL;VALUE=DURATION:PT1H
X-Robots-Tag:noindex
X-PUBLISHED-TTL:PT1H
BEGIN:VTIMEZONE
TZID:Europe/Berlin
BEGIN:DAYLIGHT
TZOFFSETFROM:+0100
TZOFFSETTO:+0200
TZNAME:CEST
DTSTART:20240331T010000
END:DAYLIGHT
BEGIN:STANDARD
TZOFFSETFROM:+0200
TZOFFSETTO:+0100
TZNAME:CET
DTSTART:20241027T010000
END:STANDARD
BEGIN:DAYLIGHT
TZOFFSETFROM:+0100
TZOFFSETTO:+0200
TZNAME:CEST
DTSTART:20250330T010000
END:DAYLIGHT
BEGIN:STANDARD
TZOFFSETFROM:+0200
TZOFFSETTO:+0100
TZNAME:CET
DTSTART:20251026T010000
END:STANDARD
BEGIN:DAYLIGHT
TZOFFSETFROM:+0100
TZOFFSETTO:+0200
TZNAME:CEST
DTSTART:20260329T010000
END:DAYLIGHT
BEGIN:STANDARD
TZOFFSETFROM:+0200
TZOFFSETTO:+0100
TZNAME:CET
DTSTART:20261025T010000
END:STANDARD
END:VTIMEZONE
BEGIN:VEVENT
DTSTART;TZID=Europe/Berlin:20250115T190000
DTEND;TZID=Europe/Berlin:20250115T200000
DTSTAMP:20260426T041340
CREATED:20250107T093617Z
LAST-MODIFIED:20250323T093622Z
UID:6520-1736967600-1736971200@cisterscapes.eu
SUMMARY:Predavanje: Cistercijani kot ekološki pionirji?
DESCRIPTION:Sreda\, 15.01.2025; 19.00; Kunsthaus Waldsassen \nGovorniki:   \nAntje Grüner\, IKom Stiftland | Vodja projekta Eco Model Regija;   \nMartina Zanner\, IKom Stiftland | Vodja projekta Znak evropske dediščine Cistercijanski samostan in kulturna krajina v Stiftlandu \n  \nTrajnostni razvoj in spoštovanje narave nista vprašanje le odkar se vse bolj zavedamo podnebnih sprememb. Zaradi industrijskega napredka in prepričanja\, da lahko nadzorujemo naravne sile\, smo pozabili\, da je bil pred stoletji uspeh mogoč le s prilagajanjem naravnemu okolju. To lahko ponazorimo s primerom cistercijanov\, ki s kulturno krajino\, ki so jo ustvarili\, še danes zaznamujejo Evropo. Eden od njihovih receptov za uspeh je bilo upoštevanje geoloških in podnebnih razmer na lokaciji samostana.    \nPrijavite se na: antje.gruener@ikomstiftland.de ali 09635 9240-467
URL:https://cisterscapes.eu/sl/event/predavanje-cistercijani-kot-ekoloski-pionirji/
LOCATION:Samostan Waldsassen
CATEGORIES:cisterscapes,Waldsassen
ATTACH;FMTTYPE=image/jpeg:https://cisterscapes.eu/wp-content/uploads/2025/01/098A4530-Verbessert-RR-min-scaled.jpg
END:VEVENT
BEGIN:VEVENT
DTSTART;TZID=Europe/Berlin:20250123T190000
DTEND;TZID=Europe/Berlin:20250123T210000
DTSTAMP:20260426T041340
CREATED:20250107T094436Z
LAST-MODIFIED:20250323T093618Z
UID:6497-1737658800-1737666000@cisterscapes.eu
SUMMARY:Waldsassen: Filmske projekcije s predavanjem "Cisterscapes" - krajinski film
DESCRIPTION:Projekcija filma “Cistercijanske pokrajine” Pokrajinski film s predavanjem Stefana Woltersa 23.01.25 v dekliški gimnaziji cistercijank v Waldsassenu. \nDopoldne: od 10.45 do 12.45 za dijake v okviru pouka\, avla dekliške gimnazije. \nZvečer: od 19.00 za starše\, prijatelje gimnazije in zainteresirane obiskovalce\, avla dekliške gimnazije. \nVstop prost. \n 
URL:https://cisterscapes.eu/sl/event/waldsassen-filmske-projekcije-s-predavanjem-cisterscapes-krajinski-film/
LOCATION:Dekliška srednja šola cistercijank Waldsassen - AULA\, Bazilikalni trg 2\, Waldsassen\, 95652
CATEGORIES:cisterscapes,Waldsassen
ATTACH;FMTTYPE=image/jpeg:https://cisterscapes.eu/wp-content/uploads/2023/09/Waldsassen_Klosteranlage2_mit_Teich_Foto-Stadt-Waldsassen-2000x1200-1.jpg
END:VEVENT
END:VCALENDAR