BEGIN:VCALENDAR
VERSION:2.0
PRODID:-//Cisterscapes - ECPv6.15.11//NONSGML v1.0//EN
CALSCALE:GREGORIAN
METHOD:PUBLISH
X-ORIGINAL-URL:https://cisterscapes.eu/sl/
X-WR-CALDESC:Dogodki za Cisterscapes
REFRESH-INTERVAL;VALUE=DURATION:PT1H
X-Robots-Tag:noindex
X-PUBLISHED-TTL:PT1H
BEGIN:VTIMEZONE
TZID:Europe/Berlin
BEGIN:DAYLIGHT
TZOFFSETFROM:+0100
TZOFFSETTO:+0200
TZNAME:CEST
DTSTART:20240331T010000
END:DAYLIGHT
BEGIN:STANDARD
TZOFFSETFROM:+0200
TZOFFSETTO:+0100
TZNAME:CET
DTSTART:20241027T010000
END:STANDARD
BEGIN:DAYLIGHT
TZOFFSETFROM:+0100
TZOFFSETTO:+0200
TZNAME:CEST
DTSTART:20250330T010000
END:DAYLIGHT
BEGIN:STANDARD
TZOFFSETFROM:+0200
TZOFFSETTO:+0100
TZNAME:CET
DTSTART:20251026T010000
END:STANDARD
BEGIN:DAYLIGHT
TZOFFSETFROM:+0100
TZOFFSETTO:+0200
TZNAME:CEST
DTSTART:20260329T010000
END:DAYLIGHT
BEGIN:STANDARD
TZOFFSETFROM:+0200
TZOFFSETTO:+0100
TZNAME:CET
DTSTART:20261025T010000
END:STANDARD
END:VTIMEZONE
BEGIN:VEVENT
DTSTART;TZID=Europe/Berlin:20250222T180000
DTEND;TZID=Europe/Berlin:20250222T213000
DTSTAMP:20260426T021254
CREATED:20250128T103959Z
LAST-MODIFIED:20250323T093635Z
UID:6559-1740247200-1740259800@cisterscapes.eu
SUMMARY:Grad Oberschwappach: Notenlos - vrhunski koncert na zahtevo!
DESCRIPTION:Brez opomb: Vrhunski koncert na zahtevo!\n\n\nZačetek: 19:00\nVstop: 18:00\n\nVstopnice na spletu prek ok-ticket \n\nPusch & Speckmann izvajata “Living Jukebox” in predstavljata vrhunski koncert na zahtevo\, ki ga še niste slišali - in ki vsakič zveni drugače. Odvisno od razpoloženja in ustvarjalnosti gostov! Pri tem ne sodelujejo le v živo\, temveč tudi aktivno oblikujejo večer. Izjemna glasbenika v duetih in dvobojih improvizirata skozi klasično\, jazzovsko\, muzikalno in pop glasbo. Brez predvajanja\, brez pripomočkov in brez notnega gradiva sebe in svoje klavirje potisneta do skrajnih meja. Na primer\, ko želita določeno temo položiti v usta vsem mogočim in nemogočim interpretom\, vključno z njunim značilnim slogom izražanja. Tako se otroške pesmi srečajo s filmsko glasbo\, zborovska glasba z rokenrolom\, Grönemeyer s Pavarottijem.      \n\nDodatne informacije: https://www.notenlos.de/
URL:https://cisterscapes.eu/sl/event/grad-oberschwappach-notenlos-vrhunski-koncert-na-zahtevo/
LOCATION:Grad Oberschwappach\, Schlossstraße 6\, Oberschwappach\, 97478\, Deutschland
CATEGORIES:cisterscapes
END:VEVENT
END:VCALENDAR