BEGIN:VCALENDAR
VERSION:2.0
PRODID:-//Cisterscapes - ECPv6.15.11//NONSGML v1.0//EN
CALSCALE:GREGORIAN
METHOD:PUBLISH
X-ORIGINAL-URL:https://cisterscapes.eu/sl/
X-WR-CALDESC:Dogodki za Cisterscapes
REFRESH-INTERVAL;VALUE=DURATION:PT1H
X-Robots-Tag:noindex
X-PUBLISHED-TTL:PT1H
BEGIN:VTIMEZONE
TZID:Europe/Berlin
BEGIN:DAYLIGHT
TZOFFSETFROM:+0100
TZOFFSETTO:+0200
TZNAME:CEST
DTSTART:20240331T010000
END:DAYLIGHT
BEGIN:STANDARD
TZOFFSETFROM:+0200
TZOFFSETTO:+0100
TZNAME:CET
DTSTART:20241027T010000
END:STANDARD
BEGIN:DAYLIGHT
TZOFFSETFROM:+0100
TZOFFSETTO:+0200
TZNAME:CEST
DTSTART:20250330T010000
END:DAYLIGHT
BEGIN:STANDARD
TZOFFSETFROM:+0200
TZOFFSETTO:+0100
TZNAME:CET
DTSTART:20251026T010000
END:STANDARD
BEGIN:DAYLIGHT
TZOFFSETFROM:+0100
TZOFFSETTO:+0200
TZNAME:CEST
DTSTART:20260329T010000
END:DAYLIGHT
BEGIN:STANDARD
TZOFFSETFROM:+0200
TZOFFSETTO:+0100
TZNAME:CET
DTSTART:20261025T010000
END:STANDARD
END:VTIMEZONE
BEGIN:VEVENT
DTSTART;VALUE=DATE:20250315
DTEND;VALUE=DATE:20250623
DTSTAMP:20260425T224030
CREATED:20250422T100205Z
LAST-MODIFIED:20250422T100306Z
UID:9443-1741996800-1750636799@cisterscapes.eu
SUMMARY:Samostan Wechterswinkel: razstava Kloster erLEBEN - Življenje žensk v srednjem veku
DESCRIPTION:V srednjem veku je velika večina prebivalstva živela na podeželju. Ženske so poleg napornega dela na poljih opravljale tudi različna dela: Pripravljale so dnevne obroke\, prale perilo\, nosile vodo in izdelovale oblačila za svoje družine. Edini način\, kako se izogniti napornemu krogu rojevanja otrok in težkega fizičnega dela\, je bilo življenje v samostanu. Šele v cvetočih mestih poznega srednjega veka so se ženskam odprle nove možnosti. Ženske so bile uspešne v trgovini\, delale so v številnih poklicih\, vodile trgovske trgovine ali prodajale svoje izdelke. Gospodarski razvoj mest\nje trajno vplival na položaj žensk. Razstava osvetljuje različne vloge žensk v srednjem veku. Nazorno so prikazana številna opravila\, ki so jih morale ženske obvladati\, od pletenja košar do mletja perja\, od nabiranja zelišč do varjenja piva\n.        \nRazstavo “Življenje žensk v srednjem veku”\nje zasnovala umetnostna zgodovinarka\nDr. Alice Selinger\, Dreieich. \nsobota\, 15.03.2025 do nedelja\, 22.06.2025 \nRAZSTAVA\nRazstavo dopolnjuje spremljevalni program za različne starostne skupine\n. Dodatne informacije bodo od marca na voljo na spletni strani www.kloster-wechterswinkel-\nkultur.de in v kulturnem koledarju Rhön-Grabfeld.  \nOd srede do nedelje in ob praznikih od 13:00 do 17:00. \nKloster WechterswinkelUm den Bau 6\, Wechterswinkel\, Bastheim\, 97654 Bastheim OT Wechterswinkel
URL:https://cisterscapes.eu/sl/event/samostan-wechterswinkel-razstava-kloster-erleben-zivljenje-zensk-v-srednjem-veku/
LOCATION:Bavarska
CATEGORIES:cisterscapes,partner
ATTACH;FMTTYPE=image/jpeg:https://cisterscapes.eu/wp-content/uploads/2025/04/Kloster_Wechterswinkel.jpg
END:VEVENT
BEGIN:VEVENT
DTSTART;VALUE=DATE:20250403
DTEND;VALUE=DATE:20250404
DTSTAMP:20260425T224030
CREATED:20241015T090830Z
LAST-MODIFIED:20250323T093612Z
UID:6478-1743638400-1743724799@cisterscapes.eu
SUMMARY:Samostan Maulbronn: "Konferenca: Kmečki svet v pretresih. Kmečka vojna in njeni pogoji na območju samostana Maulbronn"
DESCRIPTION:Obdobje okoli leta 1500 je bilo obdobje prehoda iz versko zaznamovanega srednjega veka v nov svet\, v katerem so ljudje svoj “ta svet” oblikovali bolj samozavestno in načrtno. Na vseh področjih življenja so se ljudje postopoma odcepili od prevladujoče cerkvene avtoritete\, iskali bolj racionalne odgovore in se na številnih področjih naučili novih stvari. V umetnosti in znanosti\, v kmetijstvu\, vojskovanju in komunikacijah se je kazala dinamika moderne dobe\, ki je šla z roko v roki z novo svobodo mišljenja. Prejšnje strukture moči so bile postavljene pod vprašaj\, kritika zastarelih struktur pa je postala bolj raznolika. Reformacija je pretresla temelje starega imperija. V zraku sta bila nemir in spremembe\, ki so prizadele tudi “navadnega človeka”. Velik kmečki upor se je leta 1525 končal tragično. V to dinamiko je bila vpeta tudi posest opatije Maulbronn in njena okolica. Namen konference je slediti dejavnikom\, ki so pomembno vplivali na politične\, gospodarske in duhovno-kulturne razmere na tem območju\nter kaj je bilo značilno za obdobje pretresov tu\, na podeželju med volilnim Pfalzom in Württembergom. Kateri konflikti so se tu razplamteli? Katere so bile osrednje sile\, ki so delovale med seboj in proti sebi?           \nInformacije in prijave\nČetrtek\, 3. april 2025\nKotizacija: ni\nOmejeno število udeležencev. Prijavite se na:\nStadt Maulbronn\, Postfach 47\, 75429 Maulbronn\nTelefon 07043 103-0\nE-naslov: info@maulbronn.de\nwww.maulbronn.de  \nOrganizator\nMesto Maulbronn v sodelovanju z Državnimi palačami in vrtovi Baden-Württemberga (SSG)\nPrireditev je del cikla prireditev “500 let kmečke vojne v Kraichgauu” in spremljevalnega programa\nVelike državne razstave 500 let kmečke vojne “UFFRUR!”. \nS sodelovanjem na dogodku se strinjate z morebitno objavo fotografij in filmskih posnetkov na spletni strani\n. \nOpomba: Zaradi velikega povpraševanja je bila konferenca prestavljena v dvorano Stadthalle\, Klosterhof 6\, Maulbronn. \n 
URL:https://cisterscapes.eu/sl/event/samostan-maulbronn-konferenca-kmecki-svet-v-pretresih-kmecka-vojna-in-njeni-pogoji-na-obmocju-samostana-maulbronn/
LOCATION:Mestna hiša\, Klosterhof 6\, 75433 Maulbronn\, Klosterhof 6\, Maulbronn\, 75433\, Deutschland
CATEGORIES:cisterscapes
ATTACH;FMTTYPE=application/pdf:https://cisterscapes.eu/wp-content/uploads/2024/10/Bauernkrieg_Flyer_red.pdf
END:VEVENT
BEGIN:VEVENT
DTSTART;TZID=Europe/Berlin:20250421T113000
DTEND;TZID=Europe/Berlin:20250421T113000
DTSTAMP:20260425T224030
CREATED:20250417T120703Z
LAST-MODIFIED:20250417T120703Z
UID:8777-1745235000-1745235000@cisterscapes.eu
SUMMARY:Grad Sulzheim: velikonočni bife
DESCRIPTION:Praznujte veliko noč z nami na gradu Sulzheim - pod geslom\n“Tukaj gospod na gradu kuha zase” vas čaka okusen in bogat samopostrežni bife. Okusna juha\, sveže solate\, tri glavne jedi (tudi ribe in vegetarijanske jedi)\, mamljive sladice\, kozarec penine ali pomarančnega soka ter kava in torta za zaključek so vključeni v ceno 42\,50 EUR na osebo (otroci od 6 do 13 let 21 EUR / < 6 let brezplačno).  \nVeselimo se vašega obiska in rezervacije na telefonski številki: 09382-8628. \nGrad Sulzheim \nWilhelm-Behr-Strasse 34 \n97529 Sulzheim
URL:https://cisterscapes.eu/sl/event/grad-sulzheim-velikonocni-bife/
LOCATION:Bavarska
CATEGORIES:cisterscapes,partner
ATTACH;FMTTYPE=image/jpeg:https://cisterscapes.eu/wp-content/uploads/2025/04/Sulzheim.jpg
END:VEVENT
BEGIN:VEVENT
DTSTART;TZID=Europe/Berlin:20250429T190000
DTEND;TZID=Europe/Berlin:20250429T210000
DTSTAMP:20260425T224030
CREATED:20250221T090859Z
LAST-MODIFIED:20250323T093725Z
UID:6715-1745953200-1745960400@cisterscapes.eu
SUMMARY:Ustanovitev samostanov v srednjem veku na primeru opatije Zwettl
DESCRIPTION:Franz Ettmayer v svojem predavanju opisuje tudi vpliv ozemeljskih in cerkvenih osebnosti na usodo naše države. Po politični ureditvi Karla Velikega je karolinško cesarstvo začelo razpadati. Pred prelomom tisočletja in po njem se je začela politična reorganizacija med Ennom in Dunajskim gozdom ter severno od Donave.   \nDelo cistercijana Bernarda iz Clairvauxa in njegove samostanske reforme v Franciji so segale vse do Zwettla v Waldviertlu. Kako in v kolikšni meri so cerkvene osebnosti osvetlile razvoj naše države\, je ena od osrednjih točk tega predavanja.  \nPo predavanju bo priložnost za pogovor ob prigrizku.
URL:https://cisterscapes.eu/sl/event/ustanovitev-samostanov-v-srednjem-veku-na-primeru-opatije-zwettl/
LOCATION:Festival Raiffeisenbank Waldviertel Mitte\, Podeželska cesta 23\, Zwettl\, Spodnja Avstrija\, 3910\, Österreich
CATEGORIES:cisterscapes,partner,Zwettl
ATTACH;FMTTYPE=image/jpeg:https://cisterscapes.eu/wp-content/uploads/2023/11/Zwettl_24.jpg
END:VEVENT
END:VCALENDAR