BEGIN:VCALENDAR
VERSION:2.0
PRODID:-//Cisterscapes - ECPv6.15.11//NONSGML v1.0//EN
CALSCALE:GREGORIAN
METHOD:PUBLISH
X-WR-CALNAME:Cisterscapes
X-ORIGINAL-URL:https://cisterscapes.eu/sl/
X-WR-CALDESC:Dogodki za Cisterscapes
REFRESH-INTERVAL;VALUE=DURATION:PT1H
X-Robots-Tag:noindex
X-PUBLISHED-TTL:PT1H
BEGIN:VTIMEZONE
TZID:Europe/Berlin
BEGIN:DAYLIGHT
TZOFFSETFROM:+0100
TZOFFSETTO:+0200
TZNAME:CEST
DTSTART:20240331T010000
END:DAYLIGHT
BEGIN:STANDARD
TZOFFSETFROM:+0200
TZOFFSETTO:+0100
TZNAME:CET
DTSTART:20241027T010000
END:STANDARD
BEGIN:DAYLIGHT
TZOFFSETFROM:+0100
TZOFFSETTO:+0200
TZNAME:CEST
DTSTART:20250330T010000
END:DAYLIGHT
BEGIN:STANDARD
TZOFFSETFROM:+0200
TZOFFSETTO:+0100
TZNAME:CET
DTSTART:20251026T010000
END:STANDARD
BEGIN:DAYLIGHT
TZOFFSETFROM:+0100
TZOFFSETTO:+0200
TZNAME:CEST
DTSTART:20260329T010000
END:DAYLIGHT
BEGIN:STANDARD
TZOFFSETFROM:+0200
TZOFFSETTO:+0100
TZNAME:CET
DTSTART:20261025T010000
END:STANDARD
END:VTIMEZONE
BEGIN:VEVENT
DTSTART;VALUE=DATE:20250315
DTEND;VALUE=DATE:20250623
DTSTAMP:20260425T205244
CREATED:20250422T100205Z
LAST-MODIFIED:20250422T100306Z
UID:9443-1741996800-1750636799@cisterscapes.eu
SUMMARY:Samostan Wechterswinkel: razstava Kloster erLEBEN - Življenje žensk v srednjem veku
DESCRIPTION:V srednjem veku je velika večina prebivalstva živela na podeželju. Ženske so poleg napornega dela na poljih opravljale tudi različna dela: Pripravljale so dnevne obroke\, prale perilo\, nosile vodo in izdelovale oblačila za svoje družine. Edini način\, kako se izogniti napornemu krogu rojevanja otrok in težkega fizičnega dela\, je bilo življenje v samostanu. Šele v cvetočih mestih poznega srednjega veka so se ženskam odprle nove možnosti. Ženske so bile uspešne v trgovini\, delale so v številnih poklicih\, vodile trgovske trgovine ali prodajale svoje izdelke. Gospodarski razvoj mest\nje trajno vplival na položaj žensk. Razstava osvetljuje različne vloge žensk v srednjem veku. Nazorno so prikazana številna opravila\, ki so jih morale ženske obvladati\, od pletenja košar do mletja perja\, od nabiranja zelišč do varjenja piva\n.        \nRazstavo “Življenje žensk v srednjem veku”\nje zasnovala umetnostna zgodovinarka\nDr. Alice Selinger\, Dreieich. \nsobota\, 15.03.2025 do nedelja\, 22.06.2025 \nRAZSTAVA\nRazstavo dopolnjuje spremljevalni program za različne starostne skupine\n. Dodatne informacije bodo od marca na voljo na spletni strani www.kloster-wechterswinkel-\nkultur.de in v kulturnem koledarju Rhön-Grabfeld.  \nOd srede do nedelje in ob praznikih od 13:00 do 17:00. \nKloster WechterswinkelUm den Bau 6\, Wechterswinkel\, Bastheim\, 97654 Bastheim OT Wechterswinkel
URL:https://cisterscapes.eu/sl/event/samostan-wechterswinkel-razstava-kloster-erleben-zivljenje-zensk-v-srednjem-veku/
LOCATION:Bavarska
CATEGORIES:cisterscapes,partner
ATTACH;FMTTYPE=image/jpeg:https://cisterscapes.eu/wp-content/uploads/2025/04/Kloster_Wechterswinkel.jpg
END:VEVENT
BEGIN:VEVENT
DTSTART;TZID=Europe/Berlin:20250503T140000
DTEND;TZID=Europe/Berlin:20250503T170000
DTSTAMP:20260425T205244
CREATED:20250221T115236Z
LAST-MODIFIED:20250323T093728Z
UID:6725-1746280800-1746291600@cisterscapes.eu
SUMMARY:Odprtje posebnih razstav "Čas in večnost" in "Cisterne - smo evropska kulturna dediščina"
DESCRIPTION:V okviru spodnjeavstrijske muzejske pomladi bodo 3. in 4. maja 2025 v stari mestni hiši v Zwettlu uradno odprli posebni razstavi “Čas in večnost” in “Cisterne - mi smo evropska kulturna dediščina”. Organizirani bodo posebni vodeni ogledi posebnih razstav ter pester program za otroke.    \nDruštvo lokalnih železnic Zwettl ta konec tedna odpira tudi novo posebno razstavo “Sveti svetniki - Nebesa v gibanju”\, ki je nastala v sodelovanju z opatijo Zwettl.
URL:https://cisterscapes.eu/sl/event/odprtje-posebnih-razstav-cas-in-vecnost-in-cisterne-smo-evropska-kulturna-dediscina/
LOCATION:Stara mestna hiša Zwettl\, Sparkassenplatz 3\, Zwettl\, Spodnja Avstrija\, 3910\, Österreich
CATEGORIES:cisterscapes,partner,Zwettl
ATTACH;FMTTYPE=image/jpeg:https://cisterscapes.eu/wp-content/uploads/2025/02/DSC_0018-scaled.jpg
ORGANIZER;CN="Mesto in samostan Zwettl":MAILTO:cisterscapes@zwettl.gv.at
END:VEVENT
BEGIN:VEVENT
DTSTART;TZID=Europe/Berlin:20250503T190000
DTEND;TZID=Europe/Berlin:20250503T210000
DTSTAMP:20260425T205244
CREATED:20250128T104834Z
LAST-MODIFIED:20250323T093640Z
UID:6578-1746298800-1746306000@cisterscapes.eu
SUMMARY:Grad Oberschwappach: Godalni kvartet Bamberg - spomladanski koncert
DESCRIPTION:Godalni kvartet Bamberg - Pomladni koncert\n\n\n\n\nKRONSKI DRAGULJI IZ OBDOBJA BAROKA IN KLASICIZMA\,\nPomladni koncert godalnega kvarteta iz Bamberga s\nPierrom Martensom\, fagotom (profesor na Univerzi za glasbo v Lübecku)\,\nv dvorani Schlosshalle na gradu Oberschwappach. \nDela Bacha\, Händla\, Vivaldija\, Haydna\, Mozarta in Beethovna. \nZačetek 19:00\nPrijava 18:30 \nVstopnice so na voljo na: okticket.de\nPredprodajne pisarne: okticket.de/vvks.ph
URL:https://cisterscapes.eu/sl/event/grad-oberschwappach-godalni-kvartet-bamberg-spomladanski-koncert/
LOCATION:Grajska dvorana\, grad Oberschwappach
CATEGORIES:cisterscapes
ATTACH;FMTTYPE=image/jpeg:https://cisterscapes.eu/wp-content/uploads/2025/01/cropped-IMG_4598_panoramaHR.jpg
END:VEVENT
BEGIN:VEVENT
DTSTART;TZID=Europe/Berlin:20250504T153000
DTEND;TZID=Europe/Berlin:20250504T170000
DTSTAMP:20260425T205244
CREATED:20250323T093731Z
LAST-MODIFIED:20250323T093731Z
UID:6728-1746372600-1746378000@cisterscapes.eu
SUMMARY:Voden ogled Ebracha - V iskanju sledi v osrčju samostanske pokrajine
DESCRIPTION:Ko pridete v Ebrach\, se vam nenadoma zazdi\, da ste sredi Steigerwalda z divjimi bukovimi gozdovi v baročnem stanovanjskem mestu. Hodimo po sledeh cistercijanov\, ki so si nekoč lastili to regijo in nanjo trajno vplivali. Čeprav je v nekdanjem samostanu že več kot 150 let zapor\, lahko povsod še vedno najdemo sledi nekdaj mogočnih samozadostnih menihov. Leta 2024 je bil samostanski pokrajini Ebrach in njeni mreži cisterc podeljen znak evropske dediščine. Z nami se podajte po sledeh sivih menihov in ugotovite\, zakaj!     \nZbirno mesto: Pred nekdanjo oranžerijo (informacijski center Cisterscapes)\, zgornji opatijski vrt Ebrach
URL:https://cisterscapes.eu/sl/event/
LOCATION:Informacijsko središče Ebrach Orangery\, Lagerhausstrasse 5\, Ebrach\, Bavarska\, 96157\, Deutschland
CATEGORIES:cisterscapes,Ebrach,partner,Vodenje
ATTACH;FMTTYPE=image/jpeg:https://cisterscapes.eu/wp-content/uploads/2025/01/Ebrach_Abteikirche_©Schmaehling-scaled.jpg
END:VEVENT
BEGIN:VEVENT
DTSTART;VALUE=DATE:20250511
DTEND;VALUE=DATE:20250512
DTSTAMP:20260425T205244
CREATED:20250128T102047Z
LAST-MODIFIED:20250323T093632Z
UID:6557-1746921600-1747007999@cisterscapes.eu
SUMMARY:Samostan Maria Bildhausen: Dan kolesarjenja v Bildhausnu
DESCRIPTION:Dan se začne ob 10. uri z blagoslovom koles\, bodisi koles\, Kettcarjev\, invalidskih vozičkov ali rolerjev.\nPodjetje “DER WOLF” iz Bad Neustadta bo obiskovalcem čez dan predstavilo številna kolesa različnih podjetij\, ki jih bo mogoče na kraju samem tudi preizkusiti. \nProgram\nKolesarski dan Bildhäuser\n10:00 dopoldne. \nMaša in blagoslov koles v hlevu Bildhäuser \n- V primeru neugodnega vremena bogoslužje v cerkvi \nGlasbena spremljava alfonistov Schwarze Berge \n  \n11:00-17:00 \nPraznovanje in informacijske stojnice o kolesih (Fahrrad Wolf\, Verkehrswacht) \n  \n11:00 \nBildhäuserjevi kositrni bobnarji (samostanski kompleks) \n  \n11:00-17:00 \nSamostanska trgovina in vrtec odprta! \n  \nod 11:00 dalje. \nKosilo (Bildhäuser Scheune in KlosterGasthof) \nKava in torta (Bildhäuser Scheune) \n  \n11:30 do 13:30 \nGlasbeno društvo Kleinwenkheim (oder na prostem Bildhäuser Scheune) \n14:00 \nPredavanje 500 let Bildhäuser Haufen / Kmečka vojna \nMichael Böckler (Abbey Hall) \n14:00 \nKoncert Kissinger Sängerbund (oder na prostem Bildhäuser Scheune) \n14:00 \nVoden ogled zgodovinskega sadovnjaka in čebeljega vrta (projekt Človek - čebela - izobraževanje) \nZbirno mesto pri čebelnjaku \n  \n16:00 \nDobrodelni koncert s skupino Böhmisch G`schtörd (oder na prostem Bildhäuser Scheune) \n  \n  \nTudi letos je kolesarski dan Bildhäuser namenjen kolesom. \n  \nBlagoslov kolesa   \nDan se začne ob 10. uri z liturgijo besede in blagoslovom koles - bodisi koles\, otroških vozičkov\, invalidskih vozičkov ali rolerjev. \nPodjetje “DER WOLF” iz Bad Neustadta bo čez dan obiskovalcem predstavilo številna kolesa različnih podjetij\, ki jih bo mogoče na kraju samem tudi preizkusiti. \nKampanja “Vozi kolo\, a varno!” (program nemške organizacije za varnost v cestnem prometu) izvaja okrožna organizacija za varnost v cestnem prometu Bad Kissingen v sodelovanju z mobilno mladinsko prometno šolo Bad Kissingen. \n  \nBildhäuserjevi kositrni bobnarji \nOd 11. ure dalje bo na pivskem vrtu potekalo jutranje druženje z bobnarji Bildhaus. Glasbena spremljava bo  \nKolesarski dan od 11.30 do 13.30 z zabavno glasbo. Med festivalom bodo v skednju Bildhäuser in njegovi okolici na voljo kosilo in stojnica z žarom ter kava in pecivo.  \n  \nDobrodelni koncert s pihalnim orkestrom Böhmisch G`schtörd   \nOd 16. ure dalje bo na odru na prostem pred hlevom Bildhausen potekal koncert na prostem v pomoč društvu Maria Bildhausen s pihalnim orkestrom Böhmisch G`schtörd. \n  \nSamostanska trgovina   \nKlosterLaden je odprt od 11. do 17. ure.
URL:https://cisterscapes.eu/sl/event/samostan-maria-bildhausen-dan-kolesarjenja-v-bildhausnu/
LOCATION:Samostan Maria Bildhausen\, Maria Bildhausen 1\, Münnerstadt\, 97702\, Deutschland
CATEGORIES:cisterscapes
ATTACH;FMTTYPE=image/png:https://cisterscapes.eu/wp-content/uploads/2025/01/logo.png
END:VEVENT
BEGIN:VEVENT
DTSTART;TZID=Europe/Berlin:20250511T140000
DTEND;TZID=Europe/Berlin:20250514T110000
DTSTAMP:20260425T205244
CREATED:20250214T135221Z
LAST-MODIFIED:20250323T093658Z
UID:6624-1746972000-1747220400@cisterscapes.eu
SUMMARY:Samostan Loccum: 31. letno srečanje EVANGELIČNE SKUPNOSTI KISTER CENSER HERITAGE
DESCRIPTION:Skupnost cistercijanskih dedičev v Nemčiji je bila ponovno povabljena na letno srečanje v cistercijanski samostan Loccum\, ki je bil ustanovljen leta 1163. Opat samostana\, škof Ralf Meister\, je to srečanje v Loccumu organiziral sam in se veseli našega prihoda skupaj s celotno ekipo samostana. Deželni škof bo z nami v samostanski cerkvi obhajal uvodno mašo in nam v okviru konference spregovoril o službi opata s protestantskega vidika.\nV samostanu Loccum se nahaja pridigarsko semenišče za izobraževanje vikarjev za štiri luteranske cerkve na Spodnjem Saškem in Bremsko cerkev. Skupaj z Inštitutom za versko izobraževanje\, Pastoralno šolo in Protestantsko akademijo je Loccum pomemben kraj izobraževanja in dialoga za deželno cerkev v Hannovru.    \nNaslovi:\nKonferenčni center Loccum\nMünchehäger Str. 6\n31547 Rehburg-Loccum \nParkirišče konferenčnega centra in inštitutov\nwww.tagungsstaette.loccum@evlka.de \nKloster Loccum\, Kloster 2\, 31547 Rehburg-Loccum\nNavi: Marktstraße 9 - skozi vratarnico\nParkirišče na območju samostana\, prosimo\, da se peljete skozi zadnjo stran\n. \nSTROŠKI KONFERENCE\nStroški konference (polni penzion) znašajo\n420 € za enoposteljno sobo\n730 € za dvoposteljno sobo \nBrez nastanitve je cena na osebo 225 EUR.\nOd dnevnih gostov zahtevamo 50 EUR\, če se udeležijo obrokov\n. Prosimo\, da se obvezno prijavite.  \nPRIJAVA\nVeselimo se vaše prijave po elektronski ali navadni pošti.\nProsimo\, da se obvezno prijavite do\n28. februarja 2025. Če boste prijavo odpovedali pozneje\, vam bomo žal morali zaračunati\nstroške odpovedi.  \nVabilo na letno srečanje_GEZE_2025_A4
URL:https://cisterscapes.eu/sl/event/samostan-loccum-31-letno-srecanje-evangelicne-skupnosti-kister-censer-heritage/
LOCATION:Samostan Loccum\, Deutschland
CATEGORIES:cisterscapes,Loccum
ATTACH;FMTTYPE=image/jpeg:https://cisterscapes.eu/wp-content/uploads/2023/09/Loccum_DJI_0145_F_Jens_Schulze_Uebersicht_2023-1.jpg
END:VEVENT
BEGIN:VEVENT
DTSTART;TZID=Europe/Berlin:20250524T090000
DTEND;TZID=Europe/Berlin:20250524T153000
DTSTAMP:20260425T205244
CREATED:20250221T094652Z
LAST-MODIFIED:20250323T093722Z
UID:6702-1748077200-1748100600@cisterscapes.eu
SUMMARY:Spomladanski izlet: romarska cerkev svetega Tomaža v Dachsgrabnu\, kamnolom Pötzles\, Döllersheim
DESCRIPTION:Samostanska pokrajina opatije Zwettl\, ki je prejela znak evropske dediščine\, vključuje tudi elemente\, ki se nahajajo na območju današnjega vojaškega vadišča. Med njimi je tudi nekdanja romarska cerkev svetega Tomaža v Dachsgrabnu\, ki je bila opuščena pod cesarjem Jožefom II. in morda izvira iz predkrščanskih kultov.  \nUdeleženci izleta se z avtobusom odpeljejo do vojaškega vadišča Allentsteig. V centru TÜPL ima polkovnik Julius Schlapschy uvodno predavanje. Skupina si nato ogleda nekdanjo romarsko cerkev svetega Tomaža v Dachsgrabnu ter kamnoloma v Pötzlesu in Döllersheimu. Ekskurzijo bo vodil Dr. Andreas Gamerith.    \nV ceno je vključeno potovanje z avtobusom\, vodeni ogledi in predavanje ter stroški kosila. Prijave so možne na Centru za izobraževanje odraslih v Zwettlu: 0043 28 22/ 503 187 ali info@vhszwettl.at.
URL:https://cisterscapes.eu/sl/event/spomladanski-izlet-romarska-cerkev-svetega-tomaza-v-dachsgrabnu-kamnolom-poetzles-doellersheim/
LOCATION:Gasilska postaja Zwettl\, Ulica Kremser 11\, Zwettl\, Spodnja Avstrija\, 3910\, Österreich
CATEGORIES:cisterscapes,partner,Zwettl
ATTACH;FMTTYPE=image/jpeg:https://cisterscapes.eu/wp-content/uploads/2025/02/BA-03-024-111.jpg
END:VEVENT
BEGIN:VEVENT
DTSTART;TZID=Europe/Berlin:20250531T000000
DTEND;TZID=Europe/Berlin:20250615T000000
DTSTAMP:20260425T205244
CREATED:20250512T115805Z
LAST-MODIFIED:20250512T115938Z
UID:11251-1748649600-1749945600@cisterscapes.eu
SUMMARY:Mesto Maulbronn: razstava steklarske umetnosti Kerstin Müllerperth "Hladno srce"
DESCRIPTION:Mesto Maulbronn vas vljudno vabi na odprtje razstave steklarske umetnosti Kerstin Müllerperth “Hladno srce”\nv petek\, 30. maja 2025\, ob 19.30 v mestni hiši Maulbronn (nekdanja sadna klet samostana Maulbronn). \nDobrodošlica\nŽupan Aaron Treut\nUvod\nMartin Ehlers\, Mestni arhiv Maulbronn\nGlasba\nMagdalena in\nMarina Müllerperth\, klavir\nSledi sprejem \nRazstava je odprta\nod 31. maja do 15. junija 2025\nOb delavnikih: 13.00-17.00\nOb sobotah\, nedeljah in praznikih:\n11.00-17.00 \nKerstin Müllerperth\, rojena leta 1962\, izhaja iz dinastije steklarjev Greiner-Perth v Türingenu in nadaljuje družinsko tradicijo\nna svoji umetniški poti. Njeno nežno oblikovano steklo - včasih trezno in hladno\, včasih beneško in igrivo - je bilo nagrajeno z uglednimi nagradami\n. Umetniška steklarka poleg najvišje ravni izdelave potrebuje tudi pravo intuicijo za material\, da lahko iz svojih misli ustvari steklene slike\n. Slike na razstavi temeljijo na pravljici Wilhelma Hauffa “Hladno srce”\, v kateri na eni strani pridni stekleni možiček obljublja odrešitev\n\, na drugi strani pa steklarna pooseblja neuspeh. Kerstin Müllerperth nas s skrivnostnimi gozdnimi duhovi in večplastnimi liki popelje na pravljično potovanje v mistični\nČrni gozd prejšnjega stoletja.     \nwww.muellerperth.de
URL:https://cisterscapes.eu/sl/event/mesto-maulbronn-razstava-steklarske-umetnosti-kerstin-muellerperth-hladno-srce/
LOCATION:Bavarska
CATEGORIES:cisterscapes,Maulbronn
ATTACH;FMTTYPE=application/pdf:https://cisterscapes.eu/wp-content/uploads/2025/05/Einladungskarte_Kerstin-Muellerperth_DRUCK.pdf
END:VEVENT
END:VCALENDAR