BEGIN:VCALENDAR
VERSION:2.0
PRODID:-//Cisterscapes - ECPv6.15.11//NONSGML v1.0//EN
CALSCALE:GREGORIAN
METHOD:PUBLISH
X-WR-CALNAME:Cisterscapes
X-ORIGINAL-URL:https://cisterscapes.eu/sl/
X-WR-CALDESC:Dogodki za Cisterscapes
REFRESH-INTERVAL;VALUE=DURATION:PT1H
X-Robots-Tag:noindex
X-PUBLISHED-TTL:PT1H
BEGIN:VTIMEZONE
TZID:Europe/Berlin
BEGIN:DAYLIGHT
TZOFFSETFROM:+0100
TZOFFSETTO:+0200
TZNAME:CEST
DTSTART:20240331T010000
END:DAYLIGHT
BEGIN:STANDARD
TZOFFSETFROM:+0200
TZOFFSETTO:+0100
TZNAME:CET
DTSTART:20241027T010000
END:STANDARD
BEGIN:DAYLIGHT
TZOFFSETFROM:+0100
TZOFFSETTO:+0200
TZNAME:CEST
DTSTART:20250330T010000
END:DAYLIGHT
BEGIN:STANDARD
TZOFFSETFROM:+0200
TZOFFSETTO:+0100
TZNAME:CET
DTSTART:20251026T010000
END:STANDARD
BEGIN:DAYLIGHT
TZOFFSETFROM:+0100
TZOFFSETTO:+0200
TZNAME:CEST
DTSTART:20260329T010000
END:DAYLIGHT
BEGIN:STANDARD
TZOFFSETFROM:+0200
TZOFFSETTO:+0100
TZNAME:CET
DTSTART:20261025T010000
END:STANDARD
END:VTIMEZONE
BEGIN:VEVENT
DTSTART;VALUE=DATE:20250705
DTEND;VALUE=DATE:20250707
DTSTAMP:20260425T174139
CREATED:20250128T101537Z
LAST-MODIFIED:20250323T093629Z
UID:6545-1751673600-1751846399@cisterscapes.eu
SUMMARY:Samostan Maria Bildhausen: poletni festival
DESCRIPTION:Tradicija se nadaljuje… na soboto\, 05. julija\, in nedeljo\, 06. julija 2025 \n Letošnji poletni festival se bo znova odvijal v okolici Bildhäuser Scheune. Na območju samostana in v samostanski trgovini obiskovalce vseh starosti čakajo številne ponudbe in zanimivosti. V soboto\, 5. julija 2025\, bo od 14.30 v Bildhäuser Scheune na voljo kava in pecivo. Od 19:00 do 22:00 bo na odru pred hlevom ponovno igrala skupina “Venus”. Vstop je brezplačen!     \nV nedeljo\, 06.07.2025\, začnemo ob 10:00 s prazničnim bogoslužjem pred hlevom Bildhäuser. V primeru neugodnega vremena v cerkvi.  \nOd 11.00 do 20.00 praznovanja v hlevu Bildhäuser in njegovi okolici. \nSamostanska trgovina je odprta v nedeljo od 11:00 do 17:00!
URL:https://cisterscapes.eu/sl/event/samostan-maria-bildhausen-poletni-festival/
LOCATION:Samostan Maria Bildhausen\, Maria Bildhausen 1\, Münnerstadt\, 97702\, Deutschland
CATEGORIES:cisterscapes
ATTACH;FMTTYPE=image/png:https://cisterscapes.eu/wp-content/uploads/2025/01/logo.png
END:VEVENT
BEGIN:VEVENT
DTSTART;TZID=Europe/Berlin:20250709T163000
DTEND;TZID=Europe/Berlin:20250709T183000
DTSTAMP:20260425T174139
CREATED:20250630T123254Z
LAST-MODIFIED:20250630T123254Z
UID:11789-1752078600-1752085800@cisterscapes.eu
SUMMARY:10. mestno kolesarjenje 2025: Kolesarska tura z VG Ebrach!
DESCRIPTION:Mestno kolesarjenje se je ponovno začelo 23. junija\, 9. julija 2025 pa se ga udeležuje tudi VG Ebrach!\nSkupaj želimo zbrati kilometre\, s kolesom raziskati VG in večer zaključiti s samostansko pijačo na čudovitem vrtu oranžerije v Ebrachu. \nZačetek: približno ob 16:30 v mestni hiši v Ebrachu \nZaključek: približno 18:30 Samostanska pivnica v oranžeriji v Ebrachu. \nSodelovanje v projektu MESTNO KOLESARJENJE pomeni\, da naredite nekaj dobrega zase in za varstvo podnebja ter se hkrati osredotočite na potrebe kolesarjev. Od 23. junija do 13. julija lahko ponovno pridno zbirate kilometre!   \nOkrožje se zahvaljuje lokalnim oblastem za njihovo zavzetost\, saj so podarili drevesa\, klopi in parkirišča za kolesa. Zato vsak prevoženi kilometer šteje!  \nČe tega še niste storili\, se na VG prijavite s kodo QR! \n \n  \n 
URL:https://cisterscapes.eu/sl/event/10-mestno-kolesarjenje-2025-kolesarska-tura-z-vg-ebrach/
LOCATION:Bavarska
CATEGORIES:cisterscapes,Ebrach,Informacijsko središče
ATTACH;FMTTYPE=image/png:https://cisterscapes.eu/wp-content/uploads/2025/06/Stadtradeln-2.png
END:VEVENT
BEGIN:VEVENT
DTSTART;TZID=Europe/Berlin:20250713T153000
DTEND;TZID=Europe/Berlin:20250713T170000
DTSTAMP:20260425T174139
CREATED:20250422T112414Z
LAST-MODIFIED:20250422T112414Z
UID:9521-1752420600-1752426000@cisterscapes.eu
SUMMARY:Vodeni ogledi Ebrach: V iskanju sledi v osrčju samostanske pokrajine!
DESCRIPTION:Vodeni ogledi v Ebrachu   \nKdor pride v Ebrach\, si nenadoma predstavlja\, da se nahaja sredi Steigerwalda\, v baročnem rezidenčnem mestu. Gremo po sledeh sivih menihov\, ki so bili lastniki te regije. Čeprav je v nekdanjem samostanu že več kot 150 let zapor\, lahko povsod še vedno najdemo sledi nekdaj mogočnih samozadostnih menihov. Leta 2024 je samostanska pokrajina Ebrach prejela znak evropske dediščine. Z nami se podajte po sledeh cistercijanov in ugotovite\, zakaj!     \nOgled mestnega središča s cerkvami in vrtovi - iskanje sledi v osrčju samostanske pokrajine \nZbirno mesto: Pred nekdanjo oranžerijo (informacijski center Cisterscapes)\, Oberer Abteigarten \nSezona: Od maja do oktobra vsako drugo nedeljo od 15:30 do 17:00 \nNaslednji datumi: 27.07.\, 10.08. in 24.08.\, 7.09. in 21.09.\, 5.10. in 19.10.    \nPredprodaja vstopnic prek spleta: https: //www.bamberg.info/veranstaltungen/rundgang_in_ebrach_auf_spurens-569119-12525635/ \nali na kraju samem v informacijskem središču \nCene: 9 EUR na osebo; 8 EUR s kartico prostovoljca; otroci in mladi do 16. leta starosti brezplačno. \nIskanje sledi v osrčju samostanske pokrajine lahko rezervirate tudi kot skupinski izlet. \nSvetovanje in individualno usklajevanje kontaktnih točk na 0951 85 721 \nCena: 90 € največja velikost skupine 25 oseb. \nTrajanje približno 90 minut. \nVodeni ogledi v tujih jezikih na zahtevo.
URL:https://cisterscapes.eu/sl/event/vodeni-ogledi-ebrach-v-iskanju-sledi-v-osrcju-samostanske-pokrajine-3/
LOCATION:Bavarska
CATEGORIES:cisterscapes,Ebrach,partner,Vodenje
ATTACH;FMTTYPE=image/jpeg:https://cisterscapes.eu/wp-content/uploads/2024/01/Ebrach-2009-44.jpg
END:VEVENT
BEGIN:VEVENT
DTSTART;VALUE=DATE:20250721
DTEND;VALUE=DATE:20250722
DTSTAMP:20260425T174139
CREATED:20250710T072458Z
LAST-MODIFIED:20250710T072458Z
UID:11942-1753056000-1753142399@cisterscapes.eu
SUMMARY:Samostan Wechterswinkel: srednjeveški festival
DESCRIPTION:Ob srednjeveški razstavi bo v samostanu Wechterswinkel in njegovi okolici že drugič potekal srednjeveški festival. Srednjeveški ljudje se bodo utaborili okoli skednja in na dvorišču\n. Nekateri obrtniki celo vabijo obiskovalce\, da se jim pridružijo in preizkusijo svoje spretnosti. Gostje so tudi vitezi\, ki razložijo različna orožja in pokažejo svoje spektakularne borilne veščine\n. Na sosednjem travniku se lahko obiskovalci potopijo v svet žonglerjev in se pod nadzorom preizkusijo v umetniških veščinah. Različne srednjeveške igre\nčakajo\, da jih odkrijete. Srečujejo se tudi najrazličnejši trgovci\, ki ponujajo svoje izdelke za prodajo. Minstreli s svojimi instrumenti glasbeno uokvirijo srednjeveški festival. Na voljo bo tudi veliko kulinaričnih dobrot\n. V času prireditve bo v pritličju samostana odprta razstava “Življenje žensk v srednjem veku”. Vodeni ogledi bodo potekali oba dneva. Vstopnina je vključena v ceno vstopnice\n.            \nhttps://kultur.rhoen-grabfeld.de/museen-und-spielstaetten/kloster-wechterswinkel
URL:https://cisterscapes.eu/sl/event/samostan-wechterswinkel-srednjeveski-festival/
LOCATION:Samostan Wechterswinkel\, Okoli stavbe 6\, 97654 Bastheim/Wechterswinkel
CATEGORIES:cisterscapes,Ebrach,partner
ATTACH;FMTTYPE=image/jpeg:https://cisterscapes.eu/wp-content/uploads/2025/07/6O8A6680-scaled.jpg
END:VEVENT
BEGIN:VEVENT
DTSTART;VALUE=DATE:20250726
DTEND;VALUE=DATE:20250729
DTSTAMP:20260425T174139
CREATED:20250128T104309Z
LAST-MODIFIED:20250323T093637Z
UID:6569-1753488000-1753747199@cisterscapes.eu
SUMMARY:Grad Oberschwappach: Festival vina 2025
DESCRIPTION:Že se veselimo festivala vina 2025.\nFestival vina v grajskem parku Oberschwappach bo predvidoma potekal od 26. do 28. julija 2025.\nVeselimo se ponovnega srečanja v juliju 2025 na našem hladnem vinskem festivalu Oberschwappach z vedno polnimi kozarci\, gostoljubnostjo Oberschwappach in številnimi ljubitelji vinskega festivala Oberschwappach!
URL:https://cisterscapes.eu/sl/event/grad-oberschwappach-festival-vina-2025/
LOCATION:Grad Oberschwappach\, Schlossstraße 6\, Oberschwappach\, 97478\, Deutschland
CATEGORIES:cisterscapes
ATTACH;FMTTYPE=image/jpeg:https://cisterscapes.eu/wp-content/uploads/2025/01/cropped-IMG_4598_panoramaHR.jpg
END:VEVENT
END:VCALENDAR