BEGIN:VCALENDAR
VERSION:2.0
PRODID:-//Cisterscapes - ECPv6.15.11//NONSGML v1.0//EN
CALSCALE:GREGORIAN
METHOD:PUBLISH
X-ORIGINAL-URL:https://cisterscapes.eu/sl/
X-WR-CALDESC:Dogodki za Cisterscapes
REFRESH-INTERVAL;VALUE=DURATION:PT1H
X-Robots-Tag:noindex
X-PUBLISHED-TTL:PT1H
BEGIN:VTIMEZONE
TZID:Europe/Berlin
BEGIN:DAYLIGHT
TZOFFSETFROM:+0100
TZOFFSETTO:+0200
TZNAME:CEST
DTSTART:20240331T010000
END:DAYLIGHT
BEGIN:STANDARD
TZOFFSETFROM:+0200
TZOFFSETTO:+0100
TZNAME:CET
DTSTART:20241027T010000
END:STANDARD
BEGIN:DAYLIGHT
TZOFFSETFROM:+0100
TZOFFSETTO:+0200
TZNAME:CEST
DTSTART:20250330T010000
END:DAYLIGHT
BEGIN:STANDARD
TZOFFSETFROM:+0200
TZOFFSETTO:+0100
TZNAME:CET
DTSTART:20251026T010000
END:STANDARD
BEGIN:DAYLIGHT
TZOFFSETFROM:+0100
TZOFFSETTO:+0200
TZNAME:CEST
DTSTART:20260329T010000
END:DAYLIGHT
BEGIN:STANDARD
TZOFFSETFROM:+0200
TZOFFSETTO:+0100
TZNAME:CET
DTSTART:20261025T010000
END:STANDARD
END:VTIMEZONE
BEGIN:VEVENT
DTSTART;VALUE=DATE:20250803
DTEND;VALUE=DATE:20250817
DTSTAMP:20260425T153949
CREATED:20250321T105443Z
LAST-MODIFIED:20250422T075704Z
UID:6761-1754179200-1755388799@cisterscapes.eu
SUMMARY:Prostovoljci evropske dediščine v opatiji Stična
DESCRIPTION:Z veseljem vas obveščamo\, da je Slovenski muzej krščanstva pričel s skupnim projektom s prostovoljci evropske dediščine: avgusta letos bo v Stični potekal tečaj usposabljanja EHV. \nV projektu v samostanu Stična bo sodelovalo dvanajst mladih prostovoljcev iz vse Evrope\, ki se bodo osredotočili na ohranjanje in obnavljanje zgodovinskih kamnitih površin\, pri čemer se bo praktično ohranjanje povezalo z obsežnim izobraževalnim programom. \nV okviru spremljevalnega programa bodo potekale različne podobne dejavnosti v Slovenskem muzeju krščanstva in EHV\, vključno z osrednjim dogodkom s predstavitvijo projekta\, ki bo 7. avgusta popoldne (več informacij bo sledilo). \nUdeleženci bodo obiskali tudi naše partnerje v Umetnostnem muzeju Božidarja Jakca in nekdanji cistercijanski samostan v Kostanjevici na Krki ter spoznali širši kontekst cistercijanske dediščine in pomen cistercijanskega reda v preteklosti in sedanjosti. \nProjekt je nastal s podporo Ministrstva za kulturo Republike Slovenije\, Cistercijanske opatije Stična\, European Heritage Volunteers in European Heritage Label Bureau. \nVeč na: https://heritagevolunteers.eu/EuropeanHeritageTrainingCourses/TrainingCourses2025/ConservationAndRestorationOfStoneSurfaces?
URL:https://cisterscapes.eu/sl/event/prostovoljci-evropske-dediscine-v-opatiji-sticna/
LOCATION:Bavarska
CATEGORIES:cisterscapes,Sticna
ATTACH;FMTTYPE=image/jpeg:https://cisterscapes.eu/wp-content/uploads/2025/03/Aerial-view-over-the-abbey-_Photo-p.-Branko-Petauer-scaled.jpg
END:VEVENT
END:VCALENDAR