BEGIN:VCALENDAR
VERSION:2.0
PRODID:-//Cisterscapes - ECPv6.15.11//NONSGML v1.0//EN
CALSCALE:GREGORIAN
METHOD:PUBLISH
X-ORIGINAL-URL:https://cisterscapes.eu/sl/
X-WR-CALDESC:Dogodki za Cisterscapes
REFRESH-INTERVAL;VALUE=DURATION:PT1H
X-Robots-Tag:noindex
X-PUBLISHED-TTL:PT1H
BEGIN:VTIMEZONE
TZID:Europe/Berlin
BEGIN:DAYLIGHT
TZOFFSETFROM:+0100
TZOFFSETTO:+0200
TZNAME:CEST
DTSTART:20240331T010000
END:DAYLIGHT
BEGIN:STANDARD
TZOFFSETFROM:+0200
TZOFFSETTO:+0100
TZNAME:CET
DTSTART:20241027T010000
END:STANDARD
BEGIN:DAYLIGHT
TZOFFSETFROM:+0100
TZOFFSETTO:+0200
TZNAME:CEST
DTSTART:20250330T010000
END:DAYLIGHT
BEGIN:STANDARD
TZOFFSETFROM:+0200
TZOFFSETTO:+0100
TZNAME:CET
DTSTART:20251026T010000
END:STANDARD
BEGIN:DAYLIGHT
TZOFFSETFROM:+0100
TZOFFSETTO:+0200
TZNAME:CEST
DTSTART:20260329T010000
END:DAYLIGHT
BEGIN:STANDARD
TZOFFSETFROM:+0200
TZOFFSETTO:+0100
TZNAME:CET
DTSTART:20261025T010000
END:STANDARD
END:VTIMEZONE
BEGIN:VEVENT
DTSTART;TZID=Europe/Berlin:20250907T153000
DTEND;TZID=Europe/Berlin:20250907T170000
DTSTAMP:20260425T134108
CREATED:20250422T114534Z
LAST-MODIFIED:20250422T114534Z
UID:9550-1757259000-1757264400@cisterscapes.eu
SUMMARY:Vodeni ogledi Ebrach: V iskanju sledi v osrčju samostanske pokrajine!
DESCRIPTION:Vodeni ogledi v Ebrachu   \nKdor pride v Ebrach\, si nenadoma predstavlja\, da se nahaja sredi Steigerwalda\, v baročnem rezidenčnem mestu. Gremo po sledeh sivih menihov\, ki so bili lastniki te regije. Čeprav je v nekdanjem samostanu že več kot 150 let zapor\, lahko povsod še vedno najdemo sledi nekdaj mogočnih samozadostnih menihov. Leta 2024 je samostanska pokrajina Ebrach prejela znak evropske dediščine. Z nami se podajte po sledeh cistercijanov in ugotovite\, zakaj!     \nOgled mestnega središča s cerkvami in vrtovi - iskanje sledi v osrčju samostanske pokrajine \nZbirno mesto: Pred nekdanjo oranžerijo (informacijski center Cisterscapes)\, Oberer Abteigarten\, Ebrach. \nSezona: Od maja do oktobra vsako drugo nedeljo od 15:30 do 17:00 \nNaslednji datumi: 21. september\, 5. oktober in 19. oktober.  \nPredprodaja vstopnic prek spleta: https: //www.bamberg.info/veranstaltungen/rundgang_in_ebrach_auf_spurens-569119-12525635/ \nali v informacijskem središču na kraju samem. \nCene: 9 EUR na osebo; 8 EUR s kartico prostovoljca; otroci in mladi do 16. leta starosti brezplačno. \nIskanje sledi v osrčju samostanske pokrajine lahko rezervirate tudi kot skupinski izlet. \nSvetovanje in individualno usklajevanje kontaktnih točk na 0951 85 721 \nCena: 90 € največja velikost skupine 25 oseb. \nTrajanje približno 90 minut. \nVodeni ogledi v tujih jezikih na zahtevo.
URL:https://cisterscapes.eu/sl/event/vodeni-ogledi-ebrach-v-iskanju-sledi-v-osrcju-samostanske-pokrajine-7/
LOCATION:Bavarska
CATEGORIES:cisterscapes,Ebrach,partner,Vodenje
ATTACH;FMTTYPE=image/jpeg:https://cisterscapes.eu/wp-content/uploads/2024/01/Ebrach-2009-44.jpg
END:VEVENT
BEGIN:VEVENT
DTSTART;TZID=Europe/Berlin:20250911T000000
DTEND;TZID=Europe/Berlin:20250913T000000
DTSTAMP:20260425T134108
CREATED:20250204T120617Z
LAST-MODIFIED:20250323T093650Z
UID:6602-1757548800-1757721600@cisterscapes.eu
SUMMARY:Samostan Plasy: konferenca "Samostan Plasy (Plass) v kontekstu"
DESCRIPTION:Nacionalni inštitut za spomeniško varstvo\, Muzej in galerija Severne Planije v Mariánski Týnici in Nacionalni tehnični muzej - Center za arhitekturno dediščino vas vabijo na konferenco “Samostan Plasy v kontekstu”\, ki bo potekala 11. in 13. septembra 2025 v prostorih Centra za arhitekturno dediščino v Plasih. \nMednarodna konferenca za razmislek o razvoju samostana in njegovi vpetosti v evropski kontekst. Samostan Plasy je trdno zasidran v češkem zgodovinopisju ter arhitekturnih\, umetniških in intelektualnih raziskavah. Leta 2025 bo minilo 880 let od prihoda prvih cistercijanov v dolino reke Střele. Ta dogodek tradicionalno obeležujemo s strokovno konferenco\, ki predvsem povzema nova spoznanja zadnjega desetletja.    \nPrispevki na konferenci se osredotočajo na tri glavne tematske sklope:\n“Samostan in njegove zgradbe”\n“Samostan in njegovi ljudje”\n“Samostan in njegova krajina” \nDodatne informacije o konferenci so na voljo na \nwww.klaster-plasy.cz \nwww.marianskatynice.cz \nin na elektronski naslov konference: \nplasy2025@seznam.cz \nSamostan_Plasy_Conference
URL:https://cisterscapes.eu/sl/event/samostan-plasy-konferenca-samostan-plasy-plass-v-kontekstu/
LOCATION:Samostan Plasy
CATEGORIES:cisterscapes,Plasy
ATTACH;FMTTYPE=application/pdf:https://cisterscapes.eu/wp-content/uploads/2025/02/Kloster_Plasy_Konferenz-1.pdf
END:VEVENT
BEGIN:VEVENT
DTSTART;TZID=Europe/Berlin:20250914T140000
DTEND;TZID=Europe/Berlin:20250914T160000
DTSTAMP:20260425T134108
CREATED:20250908T063843Z
LAST-MODIFIED:20250908T063843Z
UID:12597-1757858400-1757865600@cisterscapes.eu
SUMMARY:Samostan Loccum vas na dan odprtih spomenikov vabi na voden ogled samostanske pokrajine cistercijanskih menihov
DESCRIPTION:Samostan Loccum vas 14. septembra 2025 vabi na dan odprtih spomenikov. Obiskovalce čaka zanimiv program o zgodovini\, arhitekturi in kulturni krajini.  \nPoleg tradicionalnih vodenih ogledov impresivnega samostanskega kompleksa lahko zainteresirani ob 14.00 pod vodstvom Hansa-Georga Sieversa obiščejo tudi približno 7\,2 kilometra dolgo “pot po pokrajini malega samostana”. Ta pot vodi skozi kulturno krajino\, ki so jo zasnovali cistercijani\, z zgodovinskimi vodotoki\, kanali\, ribniki in gozdovi - impresivnimi dokazi njihovega srednjeveškega gospodarjenja z vodo\, ki je živo še danes.  \nVeselimo se\, da vas bomo lahko sprejeli na dan odprtih spomenikov - na poti odkrivanja samostana\, kulturne krajine in zgodovine evropske dediščine. \nYolanda Prange\, projekt Cisterscapes
URL:https://cisterscapes.eu/sl/event/samostan-loccum-vas-na-dan-odprtih-spomenikov-vabi-na-voden-ogled-samostanske-pokrajine-cistercijanskih-menihov/
LOCATION:Samostan Loccum\, Deutschland
CATEGORIES:cisterscapes,Loccum
ATTACH;FMTTYPE=application/pdf:https://cisterscapes.eu/wp-content/uploads/2025/09/Plakat_Tag-des-offenen-Denkmals-2026_Cisterscapes.pdf
END:VEVENT
BEGIN:VEVENT
DTSTART;TZID=Europe/Berlin:20250914T170000
DTEND;TZID=Europe/Berlin:20250914T180000
DTSTAMP:20260425T134108
CREATED:20250912T072437Z
LAST-MODIFIED:20250912T072437Z
UID:12668-1757869200-1757872800@cisterscapes.eu
SUMMARY:Odkrijte rožnovensko pot
DESCRIPTION:Vodja projekta EKS Martina Zanner v okviru Stiftlandskih dni\, ki jih organizira IKom Stiftland\, posreduje informacije o poti Rožnovenske postaje\, ki povezuje Waldsassen s cerkvijo Svete Trojice v Kapplju. \nZbirno mesto je pri cerkvi Svete Trojice v Kapplju\, ogled pa poteka v njeni okolici. \nKdaj? 14.09.2025\, 17.00 ura  \nPrispevek za stroške: 4\,00 €
URL:https://cisterscapes.eu/sl/event/odkrijte-roznovensko-pot/
LOCATION:Bavarska
CATEGORIES:cisterscapes,Waldsassen
END:VEVENT
BEGIN:VEVENT
DTSTART;VALUE=DATE:20250919
DTEND;VALUE=DATE:20250922
DTSTAMP:20260425T134108
CREATED:20250523T093508Z
LAST-MODIFIED:20250523T093508Z
UID:11509-1758240000-1758499199@cisterscapes.eu
SUMMARY:Samostan Doberan: Dnevi samostana Doberan „Dobrodelnost in usmiljenje v cistercijanskem samostanu“
DESCRIPTION:Doberski samostanski dnevi potekajo pod naslovom „Ljubezen do sosedov in dobrodelnost v samostanu CISTERCISAN“. Osnovna krščanska skrb\ndobrodelnosti se v cistercijanskem samostanu izraža v pregovorni gostoljubnosti in skrbi za revne in bolne. Na naslov\nsmo povabili goste\, ki nam bodo o tej temi iz zgodovinske in sodobne perspektive v samostanu Doberan in njegovi okolici ter širše povedali marsikaj zanimivega.\nPokroviteljstvo nad Dnevi samostana Doberan je prevzela ministrica za socialne zadeve dežele Mecklenburg-Predpomorjanska Stefanie Drese. Za začetek prireditve bo v petek v samostanu Doberan vokalna skupina VOX NOSTRA izvajala srednjeveške pesmi. Dnevi samostana Doberan 2025 se bodo zaključili v nedeljo z vodenim ogledom krajev\, kjer so v srednjem veku v našem samostanu sprejemali goste ter skrbeli za bolne in revne.     \nVljudno vas vabimo !\nBodite del tega! \nJochen Arenz\, župan mesta Bad Doberan \nPROGRAM\nPetek\, 19.9.2025\n19.30\nKoncert v Minstru: SALVE REGINA\nSlovesne pesmi cistercijanov iz 12. do 14. stoletja\nBerlinski vokalni ansambel VOX NOSTRA\n(vstopnina 15 evrov\, otroci in mladi do 18 let brezplačno)\n—\nSobota\, 20.9.2025 | Skupnostni center Evangeličanske luteranske cerkve\nžupnija\, Klosterstraße 1b\n9.30\nOtvoritev:\nŽupan Jochen Arenz\,\nSREČA MIRUŠKIH in pozdrav:\nMinistrica za socialne zadeve\, zdravje in šport Stefanie Drese\nPOZDRAV OBČINE ROSTOCK:\nSvetnik Romuald Bittl \n10.00\nUVODNO PREDAVANJE\nNastanitev gostov\, zdravstvena nega in razdeljevanje miloščine pri\ncistercijanih.\nSimon Sosnitza\, zgodovinar in direktor muzeja Kulturstiftung\nSachsen-Anhalt Kloster Michaelstein\nOdmor za kavo \n11.30\nZISTERZIENSERKLOSTER HEUTE\nGostoljubje in podpora ljudem v stiski.\nGost oče Nikodem iz samostana Stiepel \n12.30\nPredstavitev ″Treffpunkt Suppenküche″\ndiakonskega projekta evangeličanske župnije\nDoberan s strani vodje Barbare Niehaus \n13.00\nKosilo v jušni kuhinji \n14.00\nWOHLTÄTIGKEIT IM UMFELD DES KLOSTERS\nTemelji za oskrbo revnih v samostanu Doberan.\nDeželni nadzornik (upokojen) Carl-Christian Schmidt\, Bad Doberan \n15.00\nDIE BÜLOWKAPELLE\nDružina von Bülow in samostan Doberan.\nDetlev Werner von Bülow\, Schwerin \n16.00\nVoden ogled kapele v DOBERAN MÜNSTER\nKustos Martin Heider\, Detlev Werner von Bülow \n17.00\nZAKLJUČNI DOGOVOR\nOberkirchenrätin i.R. Petra Wallmann\n—\nNedelja\, 21.9.2025\n9.30\nBogoslužje v cerkvi \n10.30\nZbirno mesto pri samostanskih vratih\nVoden ogled krajev oskrbe za bolne in oborožene\nter bolnišnice za goste na\nKLOSTER DOBERAN\nKlostertor\, Hospiz\, Abthof\, Backhalle\nSabine Krahn-Schulze\, Martin Heider\, Carl-Christian Schmidt \nUdeležba na konferenci je brezplačna
URL:https://cisterscapes.eu/sl/event/samostan-doberan-dnevi-samostana-doberan-dobrodelnost-in-usmiljenje-v-cistercijanskem-samostanu/
LOCATION:Bavarska
CATEGORIES:cisterscapes,partner
ATTACH;FMTTYPE=application/pdf:https://cisterscapes.eu/wp-content/uploads/2025/05/FB-Klostertage25-S01-2.pdf
END:VEVENT
BEGIN:VEVENT
DTSTART;TZID=Europe/Berlin:20250921T150000
DTEND;TZID=Europe/Berlin:20250921T150000
DTSTAMP:20260425T134108
CREATED:20241212T122832Z
LAST-MODIFIED:20250323T093619Z
UID:6503-1758466800-1758466800@cisterscapes.eu
SUMMARY:Samostan Eberbach: Predavanja "500 let kmečke vojne"
DESCRIPTION:Samostan Eberbach \n© Sven Moschitz \n \n  \n  \n  \nPredavanja “500 let kmečke vojne” \nProf. Nina Gallion\, Univerza Johannesa Gutenberga\, Mainz: \nStari zakon in nova vera. Kmečka vojna leta 1525 in njeno ozadje  \n  \nDr. Hartmut Heinemann\, ret. arhivar (upokojen)\, Hess. HStA\, Wiesbaden:   \nKaj se je zgodilo? Kaj je ostalo?  \nLeto 1525 v Rheingauu in samostanu Eberbach \n  \nDogodek je plod sodelovanja med fundacijo in društvom Freundeskreis Kloster Eberbach. \nVstop je brezplačen. \n 
URL:https://cisterscapes.eu/sl/event/samostan-eberbach-predavanja-500-let-kmecke-vojne/
LOCATION:Menihovski refektorij v samostanu Eberbach
CATEGORIES:cisterscapes,partner
ATTACH;FMTTYPE=image/png:https://cisterscapes.eu/wp-content/uploads/2024/12/logo_677b2bd0-48f5-49d4-9318-dc7e4f3d6768.png
END:VEVENT
BEGIN:VEVENT
DTSTART;VALUE=DATE:20250925
DTEND;VALUE=DATE:20250927
DTSTAMP:20260425T134108
CREATED:20250909T112755Z
LAST-MODIFIED:20250909T112755Z
UID:12642-1758758400-1758931199@cisterscapes.eu
SUMMARY:Konferenca "Cistercijani. Norme v konfliktu"
DESCRIPTION:
URL:https://cisterscapes.eu/sl/event/konferenca-cistercijani-norme-v-konfliktu/
LOCATION:Bavarska
CATEGORIES:cisterscapes
ORGANIZER;CN="Stift Heiligenkreuz":MAILTO:tagung@hochschule-heiligenkreuz.at
END:VEVENT
BEGIN:VEVENT
DTSTART;VALUE=DATE:20250926
DTEND;VALUE=DATE:20250929
DTSTAMP:20260425T134108
CREATED:20250610T122829Z
LAST-MODIFIED:20250713T075915Z
UID:11756-1758844800-1759103999@cisterscapes.eu
SUMMARY:OHRANITE DATUM Mednarodna zaključna konferenca projekta EU „Ustvarjalna Evropa“ „CulHerCis22“: Kulinarična dediščina cistercijanov
DESCRIPTION:OHRANITE DATUM: 26. - 28. september 2025 \nMednarodna zaključna konferenca projekta EU „Ustvarjalna Evropa“ „CulHerCis22“: Kulinarična dediščina cistercijanov \nPariz - London - Univerza v Salzburgu \nZgodovina \nUNIPARK NONNTAL\nERZABT-KLOTZ-STRASSE 1\n5020 Salzburg\, Avstrija \n\nRegistracija: beate.roedhammer@plus.ac.at\n\nProgram konference\n\nPetek\, 26.09.2025\n\n13.30: Registracija\n14.00: Pozdravi:\n14.30: Uvodno predavanje: Winfried Schenk\, Kmetijska proizvodnja in kulturna krajina v sončni dobi v fevdalnih razmerah\n15.30: Odmor za kavo\n16.00 PANEL 1: PRISTOPI K CISTERCISTIČNIM NAJDBAM\nAlexandra Baier\, Cisterscapes: Monastic landscapes as European cultural heritage. Mejniki in perspektive transnacionalnega sodelovanja. \nIva Adámková\, Recepti in retorika: Bernard iz Clairvauxa in sodobna meniška vprašanja.\nAndreas Gamerith\, Zwettler Tafelfreuden. Uprizoritev cistercijanske namizne kulture na primeru opatije Zwettl. \n17.30: Večerno predavanje: Gerhard Ammerer\, Speis und Trank im urbanen Raum. Kulinarična zgodovina Salzburga v zgodnjem novem veku \n19.00: Večerja Kulinarična dediščina cistercijanov Kraj: Univerza v Salzburgu\, Unipark Nonntal\, Erzabt-Klotz-Straße 1\,5020 Salzburg HS Agnes Muthspiel (UNIPEG0.003)\n\nSobota\, 27.09.2025\n\n9.00: PANEL 2: KULINARNA DEDIŠČINA CISTERCIANOV\nMichael Brauer/Verena Deisl\, Kulinarična dediščina cistercijanov med askezo in prilagajanjem\nFr. Aloysius M. Zierl OCist\, Kuharska knjiga iz kuhinje opatije Heiligenkreuz iz leta 1925 \nGerald Hirtner\, Kruh kot temelj benediktinske skupnosti\n10.30: Odmor za kavo\n11.00 PANEL 3: KULTURNA DEDIŠČINA IN KOMUNIKACIJA\nMichael Brauer/Verena Deisl\, Cistercijanska kuhinja v kontekstu dogodkov\nMartina Schutová\, Kulinarična dediščina cistercijanov kot tema za izobraževalne programe\nDirk Gotzmann\, Pristopi h kulinaričnim pokrajinam\n12.30: odmor za kosilo\n13.30: Osrednja beseda: Stefan Issig\, predstavitev knjige o kulinarični kulturi cistercijanov\n14.30 DELAVNICE\nWS 1: Matthias Gebauer\, Prehrana v muzeju\nWS 2: Inge Gotzmann/Dirk Gotzmann\, Nesnovna kulturna dediščina samostanov: prenašanje znanja in izkušenj\nWS 3: Tomas Pleva\, 3D vizualizacija (največ 14 udeležencev; angleščina)\nWS 4: Marlene Ernst/Katharina Zeppezauer-Wachauer: Obravnava zgodovinskih receptov (izrazi\, sestavine\, sodobna interpretacija)\n15.30: Odmor za kavo\n16.00: Nadaljevanje delavnic\n17.00: Predstavitev rezultatov delavnic; zaključna razprava\nSledi večerja (samoplačniško)\n\nNedelja\, 28.09.20259.00 Izleti (Duhovni Salzburg/Kulinarični Salzburg)\n\nPrijava na konferenco in dodatne informacije:\nBeate Rödhammer\, beate.roedhammer@plus.ac.at\, tel. 0662-8044 4777
URL:https://cisterscapes.eu/sl/event/ohranite-datum-mednarodna-zakljucna-konferenca-projekta-eu-ustvarjalna-evropa-culhercis22-kulinaricna-dediscina-cistercijanov/
LOCATION:Bavarska
CATEGORIES:cisterscapes,kulinarika,partner
ATTACH;FMTTYPE=image/png:https://cisterscapes.eu/wp-content/uploads/2025/06/Save-the-Date_Abschlusstagung-1.png
END:VEVENT
BEGIN:VEVENT
DTSTART;VALUE=DATE:20250926
DTEND;VALUE=DATE:20250929
DTSTAMP:20260425T134108
CREATED:20250710T114725Z
LAST-MODIFIED:20250713T074052Z
UID:12108-1758844800-1759103999@cisterscapes.eu
SUMMARY:OHRANITE DATUM: 26.-28. september Mednarodna zaključna konferenca projekta EU "Ustvarjalna Evropa" CulHerCis22
DESCRIPTION:Kulinarična dediščina cistercijanov \nProgram konference \nPetek\, 26.09.2025 \n13.30 Registracija \n14\,00 Pozdravi \n14.30 Uvodno predavanje: Winfried Schenk\, Kmetijska proizvodnja in kulturna krajina v sončni dobi v fevdalnih razmerah \n15.30 Odmor za kavo \n16.00 PANEL 1: PRISTOPI K CISTERCIJANOM \nAlexandra Baier\, Cisterscapes: Monastic landscapes as European cultural heritage. Mejniki in perspektive transnacionalnega sodelovanja  \nIva Adámková\, Recepti in retorika: Bernard iz Clairvauxa in aktualna samostanska vprašanja \nAndreas Gamerith\, Namizni užitki iz Zwettla. Uprizoritev cistercijanske kulture mize na primeru opatije Zwettl  \n17.30 Večerno predavanje: Gerhard Ammerer\, Hrana in pijača v urbanih prostorih. Kulinarična zgodovina Salzburga v zgodnjem novem veku  \n19.00 Skupna večerja \nSobota\, 27.09.2025 \n9.00 PANEL 2: KULINARIČNA DEDIŠČINA CISTERCIJANOV \nMichael Brauer/Verena Deisl\, Kulinarična dediščina cistercijanov med askezo in prilagajanjem \nFr. Aloysius M. Zierl OCist\, Kulinarična dediščina cistercijanov med askezo in prilagajanjem  \nGerald Hirtner\, Kruh kot temelj benediktinske skupnosti \n10.30 Odmor za kavo \n11.00 3. PANEL: KULTURNA DEDIŠČINA IN MEDIACIJA \nMichael Brauer/Verena Deisl\, Cistercijanska kuhinja v kontekstu dogodkov \nMartina Schutová\, Kulinarična dediščina cistercijanov kot tema za izobraževalne programe \nDirk Gotzmann\, Pristopi h kulinaričnim pokrajinam \n12.30 Odmor za kosilo \n13.30 Osrednja beseda: Stefan Issig\, predstavitev knjige o kulinarični kulturi cistercijanov \n14.30 DELAVNICE \nWS 1: Matthias Gebauer\, Prehrana v muzeju \nWS 2: Inge Gotzmann/Dirk Gotzmann\, Nesnovna kulturna dediščina samostanov: prenašanje znanja in spretnosti \nWS 3: Tomas Pleva\, 3D vizualizacija (največ 14 udeležencev; angleščina) \nWS 4: Marlene Ernst/Katharina Zeppezauer-Wachauer: Obravnava zgodovinskih receptov (izrazi\, sestavine\, sodobna interpretacija) \n15.30 Odmor za kavo \n16.00 Nadaljevanje delavnic \n17.00 Predstavitev rezultatov delavnic; zaključna razprava \nSledi večerja (plačniki sami) \nNedelja\, 28.09.20259.00 Izleti (Duhovni Salzburg/Kulinarični Salzburg) \nKulinarična dediščina cistercijanov \nKraj: Univerza v Salzburgu\, Unipark Nonntal\, Erzabt-Klotz-Straße 1\, 5020 Salzburg \nHS Agnes Muthspiel (UNIPEG0.003) \nPrijava na konferenco in dodatne informacije: \nBeate Rödhammer\, beate.roedhammer@plus.ac.at\, tel. 0662-8044 4777
URL:https://cisterscapes.eu/sl/event/ohranite-datum-26-28-september-mednarodna-zakljucna-konferenca-projekta-eu-ustvarjalna-evropa-culhercis22/
LOCATION:Bavarska
CATEGORIES:cisterscapes,kulinarika,partner
ATTACH;FMTTYPE=image/jpeg:https://cisterscapes.eu/wp-content/uploads/2025/07/0001-scaled.jpg
END:VEVENT
END:VCALENDAR